BEGIN:VCALENDAR
VERSION:2.0
PRODID:-//Unexpected Productions - ECPv6.15.20//NONSGML v1.0//EN
CALSCALE:GREGORIAN
METHOD:PUBLISH
X-ORIGINAL-URL:https://www.unexpectedproductions.org
X-WR-CALDESC:Events for Unexpected Productions
REFRESH-INTERVAL;VALUE=DURATION:PT1H
X-Robots-Tag:noindex
X-PUBLISHED-TTL:PT1H
BEGIN:VTIMEZONE
TZID:America/Los_Angeles
BEGIN:DAYLIGHT
TZOFFSETFROM:-0800
TZOFFSETTO:-0700
TZNAME:PDT
DTSTART:20250309T100000
END:DAYLIGHT
BEGIN:STANDARD
TZOFFSETFROM:-0700
TZOFFSETTO:-0800
TZNAME:PST
DTSTART:20251102T090000
END:STANDARD
BEGIN:DAYLIGHT
TZOFFSETFROM:-0800
TZOFFSETTO:-0700
TZNAME:PDT
DTSTART:20260308T100000
END:DAYLIGHT
BEGIN:STANDARD
TZOFFSETFROM:-0700
TZOFFSETTO:-0800
TZNAME:PST
DTSTART:20261101T090000
END:STANDARD
BEGIN:DAYLIGHT
TZOFFSETFROM:-0800
TZOFFSETTO:-0700
TZNAME:PDT
DTSTART:20270314T100000
END:DAYLIGHT
BEGIN:STANDARD
TZOFFSETFROM:-0700
TZOFFSETTO:-0800
TZNAME:PST
DTSTART:20271107T090000
END:STANDARD
END:VTIMEZONE
BEGIN:VEVENT
DTSTART;TZID=America/Los_Angeles:20260509T190000
DTEND;TZID=America/Los_Angeles:20260509T210000
DTSTAMP:20260421T153542
CREATED:20260225T205422Z
LAST-MODIFIED:20260410T175201Z
UID:10011606-1778353200-1778360400@www.unexpectedproductions.org
SUMMARY:Taste of Improv - Improv Open Mic Georgetown Art Attack
DESCRIPTION:Whether you’re a student\, a pro\, or just checking out the Art Attack\, this is your chance to take the stage\, make bold choices\, and have a blast doing it.\nJoin Unexpected Productions Improv School as we join Georgetown’s ART ATTACK with a spontaneous showcase of improv talent. Bring your squad\, support each other\, and celebrate the joy of live\, unfiltered performance.\nHit the Georgetown Art Attack\, then head over to the Improv School.\nCome for the art. Stay for the improv. See you there!
URL:https://www.unexpectedproductions.org/event/taste-of-improv-improv-open-mic-georgetown-art-attack-2-2-2-2/2026-05-09/
LOCATION:Seattle Improv School\, 5700 6th Ave S\, Seattle\, WA\, 98101\, United States
ATTACH;FMTTYPE=image/png:https://www.unexpectedproductions.org/wp-content/uploads/2025/06/Taste-of-Improv-header.png
END:VEVENT
BEGIN:VEVENT
DTSTART;TZID=America/Los_Angeles:20260613T190000
DTEND;TZID=America/Los_Angeles:20260613T210000
DTSTAMP:20260421T153542
CREATED:20260225T205422Z
LAST-MODIFIED:20260410T175201Z
UID:10011607-1781377200-1781384400@www.unexpectedproductions.org
SUMMARY:Taste of Improv - Improv Open Mic Georgetown Art Attack
DESCRIPTION:Whether you’re a student\, a pro\, or just checking out the Art Attack\, this is your chance to take the stage\, make bold choices\, and have a blast doing it.\nJoin Unexpected Productions Improv School as we join Georgetown’s ART ATTACK with a spontaneous showcase of improv talent. Bring your squad\, support each other\, and celebrate the joy of live\, unfiltered performance.\nHit the Georgetown Art Attack\, then head over to the Improv School.\nCome for the art. Stay for the improv. See you there!
URL:https://www.unexpectedproductions.org/event/taste-of-improv-improv-open-mic-georgetown-art-attack-2-2-2-2/2026-06-13/
LOCATION:Seattle Improv School\, 5700 6th Ave S\, Seattle\, WA\, 98101\, United States
ATTACH;FMTTYPE=image/png:https://www.unexpectedproductions.org/wp-content/uploads/2025/06/Taste-of-Improv-header.png
END:VEVENT
BEGIN:VEVENT
DTSTART;TZID=America/Los_Angeles:20260624T120000
DTEND;TZID=America/Los_Angeles:20260624T140000
DTSTAMP:20260421T153542
CREATED:20260331T200427Z
LAST-MODIFIED:20260401T174512Z
UID:10011548-1782302400-1782309600@www.unexpectedproductions.org
SUMMARY:The Joy of Improv: Creativity and Connection for Ages 50+ with Leona Partridge
DESCRIPTION:Join us for an uplifting 4-week improv class designed for adults 50 ! Learn. Make new friends and have FUN! \n\n\n\n\nThe Joy of Improv: Creativity & Connection for Ages 50+\nReady to swap the routine for a laugh? Join us for an uplifting improv experience specifically designed for adults 50+. No experience is necessary! This isn’t about memorizing lines or being a “performer”—it’s about the joy of the present moment. \nLed by Leona Patridge\, a veteran Seattle improviser with 30 years of stage experience\, you’ll dive into gentle\, high-energy games that sharpen the mind and warm the heart. \nWhy Join Us?\n\nBoost Your Brain: Improve memory and mental flexibility through playful engagement.\nFind Your People: Connect with like-minded peers in a supportive\, zero-judgment zone.\nLaugh Out Loud: Experience the genuine wellness benefits of shared creativity\, storytelling\, and collective laughter.\n\nThey say we don’t stop playing because we grow old; we grow old because we stop playing. Bring yourcuriosity and get ready to say “Yes\, and!” to a more vibrant social life. \nDates: 4 Wednesdays\, June 24 to July \nTime: Noon to 2:00pm \nLocation: Unexpected Productions Improv School\, Georgetown Studios\, 650 South Orcas\, Suite 101 Seattle\, WA 98108 https://goo.gl/CMCRQp \nMaximum Students: 14 \nCost: $195 \nPrerequisite: Nothing except 50 years or more of life experience! \nAges: 50+ \nAbout the Teacher: \nLeona Partridge celebrates more than 30 years as an improviser and 25 years as an educator of Improvisational Theater. She has performed in festivals and international shows alongside world leaders and innovators of improv. As a member of the Applied Improvisation Network\, she has trained professional workers in health care\, business\, and education to use improv skills in their work.\nLeona has worked 32 years as an Registered Nurse\, is a Seattle real estate agent\, and has been an ensemble member at Unexpected Productions since 1998. She enjoys teaching improv to all ages—from middle school to senior adults and everyone in between. It brings her joy to share the skills of improv and watch her students grow in the power of play!
URL:https://www.unexpectedproductions.org/event/the-joy-of-improv-creativity-and-connection-for-ages-50-with-leona-partridge/
LOCATION:Seattle Improv School\, 5700 6th Ave S\, Seattle\, WA\, 98101\, United States
ATTACH;FMTTYPE=image/jpeg:https://www.unexpectedproductions.org/wp-content/uploads/2026/03/565878260_829581566696257_4585651485151960477_n.jpg
END:VEVENT
BEGIN:VEVENT
DTSTART;TZID=America/Los_Angeles:20260711T190000
DTEND;TZID=America/Los_Angeles:20260711T210000
DTSTAMP:20260421T153542
CREATED:20260225T205422Z
LAST-MODIFIED:20260410T175201Z
UID:10011608-1783796400-1783803600@www.unexpectedproductions.org
SUMMARY:Taste of Improv - Improv Open Mic Georgetown Art Attack
DESCRIPTION:Whether you’re a student\, a pro\, or just checking out the Art Attack\, this is your chance to take the stage\, make bold choices\, and have a blast doing it.\nJoin Unexpected Productions Improv School as we join Georgetown’s ART ATTACK with a spontaneous showcase of improv talent. Bring your squad\, support each other\, and celebrate the joy of live\, unfiltered performance.\nHit the Georgetown Art Attack\, then head over to the Improv School.\nCome for the art. Stay for the improv. See you there!
URL:https://www.unexpectedproductions.org/event/taste-of-improv-improv-open-mic-georgetown-art-attack-2-2-2-2/2026-07-11/
LOCATION:Seattle Improv School\, 5700 6th Ave S\, Seattle\, WA\, 98101\, United States
ATTACH;FMTTYPE=image/png:https://www.unexpectedproductions.org/wp-content/uploads/2025/06/Taste-of-Improv-header.png
END:VEVENT
BEGIN:VEVENT
DTSTART;TZID=America/Los_Angeles:20260718T103000
DTEND;TZID=America/Los_Angeles:20260718T130000
DTSTAMP:20260421T153542
CREATED:20260331T174452Z
LAST-MODIFIED:20260410T021343Z
UID:10011532-1784370600-1784379600@www.unexpectedproductions.org
SUMMARY:Write Comedy Like the Pros: Sketch Class with Joe Guppy: Summer 2026
DESCRIPTION:Learn to write comedy with fun and energizing improv games\, as taught by Joe Guppy.\nReady to level up your comedy game? This 8-week sketch writing class is all about creating funny\, original material with the help of improv games\, writer’s room vibes\, and major insperation from shows like Saturday Night Live\, Key & Peele\, and Seattle’s legendary Almost Live!\nLed by Emmy-winning comedy writer Joe Guppy\, you’ll learn the foundations of sketch writing—improv techniques\, story structure\, and how to turn a funny idea into a killer sketch. You’ll workshop at a supportive table of peers\, rewrite with confidence\, and explore what makes a premise actually work.\nThe class ends with a relaxed showcase\, giving you the chance to see your work performed.\nWhat you’ll get out of it:\nThe fundamentals of comedy writing & sketch structure\nImprov tools that spark fresh ideas\nPractice rewriting and strengthening jokes\nA comedy community to bounce ideas off of\nThe chance to see your sketches come alive\nDate and Time: 8 Saturdays\, Jul 18 to Sept 5\, 10:30am to 1pm\nLocation: Unexpected Productions Georgetown Studio\, 650 South Orcas St Suite 101\, Seattle 98108. The last class will include a showcase performance in the last hour of class.\nMaximum Students: 12\nCost: $295\nPrerequisite: None\nAge: 18+ \nTeacher Bio: Joe Guppy\, M.A.\, won 8 Emmys and a Writers Guild award for comedy writing and performing. He’s a former head writer/cast member for the Seattle comedy show Almost Live\, which ran for 15 seasons on KING-TV5\, with two runs on Comedy Central. Joe is a founding member of Seattle TheatreSports and has written television scripts in Los Angeles for directors John Landis (Blues Brothers\, Animal House) and Blake Edwards (Pink Panther). He’s taught fiction and scriptwriting at Seattle University and is an experienced group leader. \n**Cancellation policy: If you must cancel before the first class\, we offer credit only towards a future class. We are unable to offer refunds. If you cancel after the first class\, we will not offer credit toward a future class. Again\, we are unable to offer refunds.
URL:https://www.unexpectedproductions.org/event/sketch-comedy-writing-through-improvisation-with-joe-guppy-2-2-2/
LOCATION:Seattle Improv School\, 5700 6th Ave S\, Seattle\, WA\, 98101\, United States
ATTACH;FMTTYPE=image/jpeg:https://www.unexpectedproductions.org/wp-content/uploads/2026/03/Joe-Guppy-class-pic.jpg
END:VEVENT
END:VCALENDAR