BEGIN:VCALENDAR
VERSION:2.0
PRODID:-//Unexpected Productions - ECPv6.15.20//NONSGML v1.0//EN
CALSCALE:GREGORIAN
METHOD:PUBLISH
X-WR-CALNAME:Unexpected Productions
X-ORIGINAL-URL:https://www.unexpectedproductions.org
X-WR-CALDESC:Events for Unexpected Productions
REFRESH-INTERVAL;VALUE=DURATION:PT1H
X-Robots-Tag:noindex
X-PUBLISHED-TTL:PT1H
BEGIN:VTIMEZONE
TZID:America/Los_Angeles
BEGIN:DAYLIGHT
TZOFFSETFROM:-0800
TZOFFSETTO:-0700
TZNAME:PDT
DTSTART:20230312T100000
END:DAYLIGHT
BEGIN:STANDARD
TZOFFSETFROM:-0700
TZOFFSETTO:-0800
TZNAME:PST
DTSTART:20231105T090000
END:STANDARD
BEGIN:DAYLIGHT
TZOFFSETFROM:-0800
TZOFFSETTO:-0700
TZNAME:PDT
DTSTART:20240310T100000
END:DAYLIGHT
BEGIN:STANDARD
TZOFFSETFROM:-0700
TZOFFSETTO:-0800
TZNAME:PST
DTSTART:20241103T090000
END:STANDARD
BEGIN:DAYLIGHT
TZOFFSETFROM:-0800
TZOFFSETTO:-0700
TZNAME:PDT
DTSTART:20250309T100000
END:DAYLIGHT
BEGIN:STANDARD
TZOFFSETFROM:-0700
TZOFFSETTO:-0800
TZNAME:PST
DTSTART:20251102T090000
END:STANDARD
END:VTIMEZONE
BEGIN:VEVENT
DTSTART;TZID=America/Los_Angeles:20240601T150000
DTEND;TZID=America/Los_Angeles:20240601T170000
DTSTAMP:20260425T052125
CREATED:20240321T193100Z
LAST-MODIFIED:20240321T193420Z
UID:10001139-1717254000-1717261200@www.unexpectedproductions.org
SUMMARY:Free Introductory Improv Class 6/1
DESCRIPTION:Have you always wanted to take an improv class\, but weren’t sure if you want to commit to a quarter-long term? We have the solution. Come try it out for FREE and see if you like it. No experience is required\, and our intro class is open to all but will focus on people who have little to no improv experience. \nUnexpected Productions is the largest improv school in Seattle. Our core improv classes are designed for people who want to be challenged\, and who want to meet fascinating people in a fun and supportive environment. \nExpect to be launched on a track that explores present awareness\, thinking quickly on your feet and becoming less inhibited. Our curriculum is finely tuned\, and our instructors are highly experienced. \nDue to the popularity of this class\, we will accept 50 reservations and divide into 2 groups. \nWhether you’re someone who’d like to try improv for either professional or personal reasons or someone who just wants to unleash their creativity and laugh and play for a couple of hours a week – our classes are an excellent way to achieve your goals! \nDates: June 1\, 2024 \nTime: 3:00pm – 5:00pm \nLocation: Unexpected Productions- Market Theater\, Pike Market \nMaximum Students: 50. Please note that our regular 8-week classes are limited to 12-16 students each. \nCost: FREE. \nPrerequisite: Those with little or no improv experience. \nAges: 18 and above
URL:https://www.unexpectedproductions.org/event/free-introductory-improv-class-6-1/
LOCATION:Unexpected Productions\, 1428 Post Alley at the Gum Wall in Pike Place Market\, Seattle\, WA\, 98101\, United States
CATEGORIES:Education
ATTACH;FMTTYPE=image/jpeg:https://www.unexpectedproductions.org/wp-content/uploads/2024/03/Free.jpeg
END:VEVENT
END:VCALENDAR