BEGIN:VCALENDAR
VERSION:2.0
PRODID:-//Unexpected Productions - ECPv6.15.20//NONSGML v1.0//EN
CALSCALE:GREGORIAN
METHOD:PUBLISH
X-ORIGINAL-URL:https://www.unexpectedproductions.org
X-WR-CALDESC:Events for Unexpected Productions
REFRESH-INTERVAL;VALUE=DURATION:PT1H
X-Robots-Tag:noindex
X-PUBLISHED-TTL:PT1H
BEGIN:VTIMEZONE
TZID:America/Los_Angeles
BEGIN:DAYLIGHT
TZOFFSETFROM:-0800
TZOFFSETTO:-0700
TZNAME:PDT
DTSTART:20250309T100000
END:DAYLIGHT
BEGIN:STANDARD
TZOFFSETFROM:-0700
TZOFFSETTO:-0800
TZNAME:PST
DTSTART:20251102T090000
END:STANDARD
BEGIN:DAYLIGHT
TZOFFSETFROM:-0800
TZOFFSETTO:-0700
TZNAME:PDT
DTSTART:20260308T100000
END:DAYLIGHT
BEGIN:STANDARD
TZOFFSETFROM:-0700
TZOFFSETTO:-0800
TZNAME:PST
DTSTART:20261101T090000
END:STANDARD
BEGIN:DAYLIGHT
TZOFFSETFROM:-0800
TZOFFSETTO:-0700
TZNAME:PDT
DTSTART:20270314T100000
END:DAYLIGHT
BEGIN:STANDARD
TZOFFSETFROM:-0700
TZOFFSETTO:-0800
TZNAME:PST
DTSTART:20271107T090000
END:STANDARD
END:VTIMEZONE
BEGIN:VEVENT
DTSTART;TZID=America/Los_Angeles:20260718T103000
DTEND;TZID=America/Los_Angeles:20260718T130000
DTSTAMP:20260420T075737
CREATED:20260331T174452Z
LAST-MODIFIED:20260410T021343Z
UID:10011532-1784370600-1784379600@www.unexpectedproductions.org
SUMMARY:Write Comedy Like the Pros: Sketch Class with Joe Guppy: Summer 2026
DESCRIPTION:Learn to write comedy with fun and energizing improv games\, as taught by Joe Guppy.\nReady to level up your comedy game? This 8-week sketch writing class is all about creating funny\, original material with the help of improv games\, writer’s room vibes\, and major insperation from shows like Saturday Night Live\, Key & Peele\, and Seattle’s legendary Almost Live!\nLed by Emmy-winning comedy writer Joe Guppy\, you’ll learn the foundations of sketch writing—improv techniques\, story structure\, and how to turn a funny idea into a killer sketch. You’ll workshop at a supportive table of peers\, rewrite with confidence\, and explore what makes a premise actually work.\nThe class ends with a relaxed showcase\, giving you the chance to see your work performed.\nWhat you’ll get out of it:\nThe fundamentals of comedy writing & sketch structure\nImprov tools that spark fresh ideas\nPractice rewriting and strengthening jokes\nA comedy community to bounce ideas off of\nThe chance to see your sketches come alive\nDate and Time: 8 Saturdays\, Jul 18 to Sept 5\, 10:30am to 1pm\nLocation: Unexpected Productions Georgetown Studio\, 650 South Orcas St Suite 101\, Seattle 98108. The last class will include a showcase performance in the last hour of class.\nMaximum Students: 12\nCost: $295\nPrerequisite: None\nAge: 18+ \nTeacher Bio: Joe Guppy\, M.A.\, won 8 Emmys and a Writers Guild award for comedy writing and performing. He’s a former head writer/cast member for the Seattle comedy show Almost Live\, which ran for 15 seasons on KING-TV5\, with two runs on Comedy Central. Joe is a founding member of Seattle TheatreSports and has written television scripts in Los Angeles for directors John Landis (Blues Brothers\, Animal House) and Blake Edwards (Pink Panther). He’s taught fiction and scriptwriting at Seattle University and is an experienced group leader. \n**Cancellation policy: If you must cancel before the first class\, we offer credit only towards a future class. We are unable to offer refunds. If you cancel after the first class\, we will not offer credit toward a future class. Again\, we are unable to offer refunds.
URL:https://www.unexpectedproductions.org/event/sketch-comedy-writing-through-improvisation-with-joe-guppy-2-2-2/
LOCATION:Seattle Improv School\, 5700 6th Ave S\, Seattle\, WA\, 98101\, United States
ATTACH;FMTTYPE=image/jpeg:https://www.unexpectedproductions.org/wp-content/uploads/2026/03/Joe-Guppy-class-pic.jpg
END:VEVENT
END:VCALENDAR