BEGIN:VCALENDAR
VERSION:2.0
PRODID:-//Unexpected Productions - ECPv6.15.20//NONSGML v1.0//EN
CALSCALE:GREGORIAN
METHOD:PUBLISH
X-WR-CALNAME:Unexpected Productions
X-ORIGINAL-URL:https://www.unexpectedproductions.org
X-WR-CALDESC:Events for Unexpected Productions
REFRESH-INTERVAL;VALUE=DURATION:PT1H
X-Robots-Tag:noindex
X-PUBLISHED-TTL:PT1H
BEGIN:VTIMEZONE
TZID:America/Los_Angeles
BEGIN:DAYLIGHT
TZOFFSETFROM:-0800
TZOFFSETTO:-0700
TZNAME:PDT
DTSTART:20250309T100000
END:DAYLIGHT
BEGIN:STANDARD
TZOFFSETFROM:-0700
TZOFFSETTO:-0800
TZNAME:PST
DTSTART:20251102T090000
END:STANDARD
BEGIN:DAYLIGHT
TZOFFSETFROM:-0800
TZOFFSETTO:-0700
TZNAME:PDT
DTSTART:20260308T100000
END:DAYLIGHT
BEGIN:STANDARD
TZOFFSETFROM:-0700
TZOFFSETTO:-0800
TZNAME:PST
DTSTART:20261101T090000
END:STANDARD
BEGIN:DAYLIGHT
TZOFFSETFROM:-0800
TZOFFSETTO:-0700
TZNAME:PDT
DTSTART:20270314T100000
END:DAYLIGHT
BEGIN:STANDARD
TZOFFSETFROM:-0700
TZOFFSETTO:-0800
TZNAME:PST
DTSTART:20271107T090000
END:STANDARD
END:VTIMEZONE
BEGIN:VEVENT
DTSTART;TZID=America/Los_Angeles:20261004T193000
DTEND;TZID=America/Los_Angeles:20261004T204500
DTSTAMP:20260424T193510
CREATED:20260424T200252Z
LAST-MODIFIED:20260424T200252Z
UID:10012556-1791142200-1791146700@www.unexpectedproductions.org
SUMMARY:Night of the Living Theater: An Improvised Zombie Apocalypse
DESCRIPTION:A fully improvised zombie apocalypse where the audience helps decide who survives and what is left of them. \n\n\n\n\nGeorge A. Romero’s Night of the Living Dead changed horror forever. Now Unexpected Productions brings that classic zombie nightmare to life onstage. \nEvery Sunday in October\, our improvisers create a fully improvised horror comedy inspired by zombie films\, audience suggestions\, and the chaos of fighting for your life. Join the survivors\, face the undead\, and find out who makes it to the end. \nPerformed live at Unexpected Productions in Seattle’s Pike Place Market\, this one-of-a-kind Halloween improv show is perfect for fans of horror\, comedy\, zombies\, live theater\, and October fun.
URL:https://www.unexpectedproductions.org/event/night-of-the-living-theater-an-improvised-zombie-apocalypse/2026-10-04/
LOCATION:Unexpected Productions\, 1428 Post Alley at the Gum Wall in Pike Place Market\, Seattle\, WA\, 98101\, United States
ATTACH;FMTTYPE=image/png:https://www.unexpectedproductions.org/wp-content/uploads/2026/04/Night-of-the-living-theater-small.png
END:VEVENT
BEGIN:VEVENT
DTSTART;TZID=America/Los_Angeles:20261011T193000
DTEND;TZID=America/Los_Angeles:20261011T204500
DTSTAMP:20260424T193510
CREATED:20260424T200252Z
LAST-MODIFIED:20260424T200252Z
UID:10012557-1791747000-1791751500@www.unexpectedproductions.org
SUMMARY:Night of the Living Theater: An Improvised Zombie Apocalypse
DESCRIPTION:A fully improvised zombie apocalypse where the audience helps decide who survives and what is left of them. \n\n\n\n\nGeorge A. Romero’s Night of the Living Dead changed horror forever. Now Unexpected Productions brings that classic zombie nightmare to life onstage. \nEvery Sunday in October\, our improvisers create a fully improvised horror comedy inspired by zombie films\, audience suggestions\, and the chaos of fighting for your life. Join the survivors\, face the undead\, and find out who makes it to the end. \nPerformed live at Unexpected Productions in Seattle’s Pike Place Market\, this one-of-a-kind Halloween improv show is perfect for fans of horror\, comedy\, zombies\, live theater\, and October fun.
URL:https://www.unexpectedproductions.org/event/night-of-the-living-theater-an-improvised-zombie-apocalypse/2026-10-11/
LOCATION:Unexpected Productions\, 1428 Post Alley at the Gum Wall in Pike Place Market\, Seattle\, WA\, 98101\, United States
ATTACH;FMTTYPE=image/png:https://www.unexpectedproductions.org/wp-content/uploads/2026/04/Night-of-the-living-theater-small.png
END:VEVENT
BEGIN:VEVENT
DTSTART;TZID=America/Los_Angeles:20261018T193000
DTEND;TZID=America/Los_Angeles:20261018T204500
DTSTAMP:20260424T193510
CREATED:20260424T200252Z
LAST-MODIFIED:20260424T200252Z
UID:10012558-1792351800-1792356300@www.unexpectedproductions.org
SUMMARY:Night of the Living Theater: An Improvised Zombie Apocalypse
DESCRIPTION:A fully improvised zombie apocalypse where the audience helps decide who survives and what is left of them. \n\n\n\n\nGeorge A. Romero’s Night of the Living Dead changed horror forever. Now Unexpected Productions brings that classic zombie nightmare to life onstage. \nEvery Sunday in October\, our improvisers create a fully improvised horror comedy inspired by zombie films\, audience suggestions\, and the chaos of fighting for your life. Join the survivors\, face the undead\, and find out who makes it to the end. \nPerformed live at Unexpected Productions in Seattle’s Pike Place Market\, this one-of-a-kind Halloween improv show is perfect for fans of horror\, comedy\, zombies\, live theater\, and October fun.
URL:https://www.unexpectedproductions.org/event/night-of-the-living-theater-an-improvised-zombie-apocalypse/2026-10-18/
LOCATION:Unexpected Productions\, 1428 Post Alley at the Gum Wall in Pike Place Market\, Seattle\, WA\, 98101\, United States
ATTACH;FMTTYPE=image/png:https://www.unexpectedproductions.org/wp-content/uploads/2026/04/Night-of-the-living-theater-small.png
END:VEVENT
BEGIN:VEVENT
DTSTART;TZID=America/Los_Angeles:20261025T193000
DTEND;TZID=America/Los_Angeles:20261025T204500
DTSTAMP:20260424T193510
CREATED:20260424T200252Z
LAST-MODIFIED:20260424T200252Z
UID:10012559-1792956600-1792961100@www.unexpectedproductions.org
SUMMARY:Night of the Living Theater: An Improvised Zombie Apocalypse
DESCRIPTION:A fully improvised zombie apocalypse where the audience helps decide who survives and what is left of them. \n\n\n\n\nGeorge A. Romero’s Night of the Living Dead changed horror forever. Now Unexpected Productions brings that classic zombie nightmare to life onstage. \nEvery Sunday in October\, our improvisers create a fully improvised horror comedy inspired by zombie films\, audience suggestions\, and the chaos of fighting for your life. Join the survivors\, face the undead\, and find out who makes it to the end. \nPerformed live at Unexpected Productions in Seattle’s Pike Place Market\, this one-of-a-kind Halloween improv show is perfect for fans of horror\, comedy\, zombies\, live theater\, and October fun.
URL:https://www.unexpectedproductions.org/event/night-of-the-living-theater-an-improvised-zombie-apocalypse/2026-10-25/
LOCATION:Unexpected Productions\, 1428 Post Alley at the Gum Wall in Pike Place Market\, Seattle\, WA\, 98101\, United States
ATTACH;FMTTYPE=image/png:https://www.unexpectedproductions.org/wp-content/uploads/2026/04/Night-of-the-living-theater-small.png
END:VEVENT
END:VCALENDAR