BEGIN:VCALENDAR
VERSION:2.0
PRODID:-//Unexpected Productions - ECPv6.15.20//NONSGML v1.0//EN
CALSCALE:GREGORIAN
METHOD:PUBLISH
X-WR-CALNAME:Unexpected Productions
X-ORIGINAL-URL:https://www.unexpectedproductions.org
X-WR-CALDESC:Events for Unexpected Productions
REFRESH-INTERVAL;VALUE=DURATION:PT1H
X-Robots-Tag:noindex
X-PUBLISHED-TTL:PT1H
BEGIN:VTIMEZONE
TZID:America/Los_Angeles
BEGIN:DAYLIGHT
TZOFFSETFROM:-0800
TZOFFSETTO:-0700
TZNAME:PDT
DTSTART:20250309T100000
END:DAYLIGHT
BEGIN:STANDARD
TZOFFSETFROM:-0700
TZOFFSETTO:-0800
TZNAME:PST
DTSTART:20251102T090000
END:STANDARD
BEGIN:DAYLIGHT
TZOFFSETFROM:-0800
TZOFFSETTO:-0700
TZNAME:PDT
DTSTART:20260308T100000
END:DAYLIGHT
BEGIN:STANDARD
TZOFFSETFROM:-0700
TZOFFSETTO:-0800
TZNAME:PST
DTSTART:20261101T090000
END:STANDARD
BEGIN:DAYLIGHT
TZOFFSETFROM:-0800
TZOFFSETTO:-0700
TZNAME:PDT
DTSTART:20270314T100000
END:DAYLIGHT
BEGIN:STANDARD
TZOFFSETFROM:-0700
TZOFFSETTO:-0800
TZNAME:PST
DTSTART:20271107T090000
END:STANDARD
END:VTIMEZONE
BEGIN:VEVENT
DTSTART;TZID=America/Los_Angeles:20260821T193000
DTEND;TZID=America/Los_Angeles:20260821T204500
DTSTAMP:20260424T062150
CREATED:20260423T224403Z
LAST-MODIFIED:20260423T224403Z
UID:10012544-1787340600-1787345100@www.unexpectedproductions.org
SUMMARY:Rebel Frequencies: Hope is Contagious
DESCRIPTION:In a world of private fears\, public collapse\, and just enough technology to make everything worse\, Rebel Frequencies is a bold new improvised dramedy about human connection in the middle of a world that is far from good\, in danger of heading down the wrong road. \nInspired by the emotional intelligence of Murderbot\, the eerie tension of Severance and Alan Wake 2\, and the driven spirit of Andor and Daredevil\, this original fully improvised show follows a chain reaction of resistance in a damaged world. Each performance the ensemble creates an interconnected story where one small act of hope sets off a chain reaction in the darkness. \nSet in a heightened reality that may include dystopian tech\, strange systems of control\, or absurd corporate futures\, Rebel Frequencies explores a powerful idea: that the very things we think are wrong with us may be the things that help us reach each other. Funny\, strange\, heartfelt\, and unexpectedly hopeful\, this is improv about surviving the future by choosing to be human together.
URL:https://www.unexpectedproductions.org/event/rebel-frequencies-hope-is-contagious/2026-08-21/
LOCATION:Unexpected Productions\, 1428 Post Alley at the Gum Wall in Pike Place Market\, Seattle\, WA\, 98101\, United States
END:VEVENT
BEGIN:VEVENT
DTSTART;TZID=America/Los_Angeles:20260822T193000
DTEND;TZID=America/Los_Angeles:20260822T204500
DTSTAMP:20260424T062150
CREATED:20260423T224403Z
LAST-MODIFIED:20260423T224403Z
UID:10012545-1787427000-1787431500@www.unexpectedproductions.org
SUMMARY:Rebel Frequencies: Hope is Contagious
DESCRIPTION:In a world of private fears\, public collapse\, and just enough technology to make everything worse\, Rebel Frequencies is a bold new improvised dramedy about human connection in the middle of a world that is far from good\, in danger of heading down the wrong road. \nInspired by the emotional intelligence of Murderbot\, the eerie tension of Severance and Alan Wake 2\, and the driven spirit of Andor and Daredevil\, this original fully improvised show follows a chain reaction of resistance in a damaged world. Each performance the ensemble creates an interconnected story where one small act of hope sets off a chain reaction in the darkness. \nSet in a heightened reality that may include dystopian tech\, strange systems of control\, or absurd corporate futures\, Rebel Frequencies explores a powerful idea: that the very things we think are wrong with us may be the things that help us reach each other. Funny\, strange\, heartfelt\, and unexpectedly hopeful\, this is improv about surviving the future by choosing to be human together.
URL:https://www.unexpectedproductions.org/event/rebel-frequencies-hope-is-contagious/2026-08-22/
LOCATION:Unexpected Productions\, 1428 Post Alley at the Gum Wall in Pike Place Market\, Seattle\, WA\, 98101\, United States
END:VEVENT
BEGIN:VEVENT
DTSTART;TZID=America/Los_Angeles:20260828T193000
DTEND;TZID=America/Los_Angeles:20260828T204500
DTSTAMP:20260424T062150
CREATED:20260423T224403Z
LAST-MODIFIED:20260423T224403Z
UID:10012546-1787945400-1787949900@www.unexpectedproductions.org
SUMMARY:Rebel Frequencies: Hope is Contagious
DESCRIPTION:In a world of private fears\, public collapse\, and just enough technology to make everything worse\, Rebel Frequencies is a bold new improvised dramedy about human connection in the middle of a world that is far from good\, in danger of heading down the wrong road. \nInspired by the emotional intelligence of Murderbot\, the eerie tension of Severance and Alan Wake 2\, and the driven spirit of Andor and Daredevil\, this original fully improvised show follows a chain reaction of resistance in a damaged world. Each performance the ensemble creates an interconnected story where one small act of hope sets off a chain reaction in the darkness. \nSet in a heightened reality that may include dystopian tech\, strange systems of control\, or absurd corporate futures\, Rebel Frequencies explores a powerful idea: that the very things we think are wrong with us may be the things that help us reach each other. Funny\, strange\, heartfelt\, and unexpectedly hopeful\, this is improv about surviving the future by choosing to be human together.
URL:https://www.unexpectedproductions.org/event/rebel-frequencies-hope-is-contagious/2026-08-28/
LOCATION:Unexpected Productions\, 1428 Post Alley at the Gum Wall in Pike Place Market\, Seattle\, WA\, 98101\, United States
END:VEVENT
BEGIN:VEVENT
DTSTART;TZID=America/Los_Angeles:20260829T193000
DTEND;TZID=America/Los_Angeles:20260829T204500
DTSTAMP:20260424T062150
CREATED:20260423T224403Z
LAST-MODIFIED:20260423T224403Z
UID:10012547-1788031800-1788036300@www.unexpectedproductions.org
SUMMARY:Rebel Frequencies: Hope is Contagious
DESCRIPTION:In a world of private fears\, public collapse\, and just enough technology to make everything worse\, Rebel Frequencies is a bold new improvised dramedy about human connection in the middle of a world that is far from good\, in danger of heading down the wrong road. \nInspired by the emotional intelligence of Murderbot\, the eerie tension of Severance and Alan Wake 2\, and the driven spirit of Andor and Daredevil\, this original fully improvised show follows a chain reaction of resistance in a damaged world. Each performance the ensemble creates an interconnected story where one small act of hope sets off a chain reaction in the darkness. \nSet in a heightened reality that may include dystopian tech\, strange systems of control\, or absurd corporate futures\, Rebel Frequencies explores a powerful idea: that the very things we think are wrong with us may be the things that help us reach each other. Funny\, strange\, heartfelt\, and unexpectedly hopeful\, this is improv about surviving the future by choosing to be human together.
URL:https://www.unexpectedproductions.org/event/rebel-frequencies-hope-is-contagious/2026-08-29/
LOCATION:Unexpected Productions\, 1428 Post Alley at the Gum Wall in Pike Place Market\, Seattle\, WA\, 98101\, United States
END:VEVENT
BEGIN:VEVENT
DTSTART;TZID=America/Los_Angeles:20260904T193000
DTEND;TZID=America/Los_Angeles:20260904T204500
DTSTAMP:20260424T062150
CREATED:20260423T224403Z
LAST-MODIFIED:20260423T224403Z
UID:10012548-1788550200-1788554700@www.unexpectedproductions.org
SUMMARY:Rebel Frequencies: Hope is Contagious
DESCRIPTION:In a world of private fears\, public collapse\, and just enough technology to make everything worse\, Rebel Frequencies is a bold new improvised dramedy about human connection in the middle of a world that is far from good\, in danger of heading down the wrong road. \nInspired by the emotional intelligence of Murderbot\, the eerie tension of Severance and Alan Wake 2\, and the driven spirit of Andor and Daredevil\, this original fully improvised show follows a chain reaction of resistance in a damaged world. Each performance the ensemble creates an interconnected story where one small act of hope sets off a chain reaction in the darkness. \nSet in a heightened reality that may include dystopian tech\, strange systems of control\, or absurd corporate futures\, Rebel Frequencies explores a powerful idea: that the very things we think are wrong with us may be the things that help us reach each other. Funny\, strange\, heartfelt\, and unexpectedly hopeful\, this is improv about surviving the future by choosing to be human together.
URL:https://www.unexpectedproductions.org/event/rebel-frequencies-hope-is-contagious/2026-09-04/
LOCATION:Unexpected Productions\, 1428 Post Alley at the Gum Wall in Pike Place Market\, Seattle\, WA\, 98101\, United States
END:VEVENT
BEGIN:VEVENT
DTSTART;TZID=America/Los_Angeles:20260905T193000
DTEND;TZID=America/Los_Angeles:20260905T204500
DTSTAMP:20260424T062150
CREATED:20260423T224403Z
LAST-MODIFIED:20260423T224403Z
UID:10012549-1788636600-1788641100@www.unexpectedproductions.org
SUMMARY:Rebel Frequencies: Hope is Contagious
DESCRIPTION:In a world of private fears\, public collapse\, and just enough technology to make everything worse\, Rebel Frequencies is a bold new improvised dramedy about human connection in the middle of a world that is far from good\, in danger of heading down the wrong road. \nInspired by the emotional intelligence of Murderbot\, the eerie tension of Severance and Alan Wake 2\, and the driven spirit of Andor and Daredevil\, this original fully improvised show follows a chain reaction of resistance in a damaged world. Each performance the ensemble creates an interconnected story where one small act of hope sets off a chain reaction in the darkness. \nSet in a heightened reality that may include dystopian tech\, strange systems of control\, or absurd corporate futures\, Rebel Frequencies explores a powerful idea: that the very things we think are wrong with us may be the things that help us reach each other. Funny\, strange\, heartfelt\, and unexpectedly hopeful\, this is improv about surviving the future by choosing to be human together.
URL:https://www.unexpectedproductions.org/event/rebel-frequencies-hope-is-contagious/2026-09-05/
LOCATION:Unexpected Productions\, 1428 Post Alley at the Gum Wall in Pike Place Market\, Seattle\, WA\, 98101\, United States
END:VEVENT
BEGIN:VEVENT
DTSTART;TZID=America/Los_Angeles:20260912T193000
DTEND;TZID=America/Los_Angeles:20260912T204500
DTSTAMP:20260424T062150
CREATED:20260423T224403Z
LAST-MODIFIED:20260423T224403Z
UID:10012550-1789241400-1789245900@www.unexpectedproductions.org
SUMMARY:Rebel Frequencies: Hope is Contagious
DESCRIPTION:In a world of private fears\, public collapse\, and just enough technology to make everything worse\, Rebel Frequencies is a bold new improvised dramedy about human connection in the middle of a world that is far from good\, in danger of heading down the wrong road. \nInspired by the emotional intelligence of Murderbot\, the eerie tension of Severance and Alan Wake 2\, and the driven spirit of Andor and Daredevil\, this original fully improvised show follows a chain reaction of resistance in a damaged world. Each performance the ensemble creates an interconnected story where one small act of hope sets off a chain reaction in the darkness. \nSet in a heightened reality that may include dystopian tech\, strange systems of control\, or absurd corporate futures\, Rebel Frequencies explores a powerful idea: that the very things we think are wrong with us may be the things that help us reach each other. Funny\, strange\, heartfelt\, and unexpectedly hopeful\, this is improv about surviving the future by choosing to be human together.
URL:https://www.unexpectedproductions.org/event/rebel-frequencies-hope-is-contagious/2026-09-12/
LOCATION:Unexpected Productions\, 1428 Post Alley at the Gum Wall in Pike Place Market\, Seattle\, WA\, 98101\, United States
END:VEVENT
BEGIN:VEVENT
DTSTART;TZID=America/Los_Angeles:20260918T193000
DTEND;TZID=America/Los_Angeles:20260918T204500
DTSTAMP:20260424T062150
CREATED:20260423T224403Z
LAST-MODIFIED:20260423T224403Z
UID:10012551-1789759800-1789764300@www.unexpectedproductions.org
SUMMARY:Rebel Frequencies: Hope is Contagious
DESCRIPTION:In a world of private fears\, public collapse\, and just enough technology to make everything worse\, Rebel Frequencies is a bold new improvised dramedy about human connection in the middle of a world that is far from good\, in danger of heading down the wrong road. \nInspired by the emotional intelligence of Murderbot\, the eerie tension of Severance and Alan Wake 2\, and the driven spirit of Andor and Daredevil\, this original fully improvised show follows a chain reaction of resistance in a damaged world. Each performance the ensemble creates an interconnected story where one small act of hope sets off a chain reaction in the darkness. \nSet in a heightened reality that may include dystopian tech\, strange systems of control\, or absurd corporate futures\, Rebel Frequencies explores a powerful idea: that the very things we think are wrong with us may be the things that help us reach each other. Funny\, strange\, heartfelt\, and unexpectedly hopeful\, this is improv about surviving the future by choosing to be human together.
URL:https://www.unexpectedproductions.org/event/rebel-frequencies-hope-is-contagious/2026-09-18/
LOCATION:Unexpected Productions\, 1428 Post Alley at the Gum Wall in Pike Place Market\, Seattle\, WA\, 98101\, United States
END:VEVENT
BEGIN:VEVENT
DTSTART;TZID=America/Los_Angeles:20260919T193000
DTEND;TZID=America/Los_Angeles:20260919T204500
DTSTAMP:20260424T062150
CREATED:20260423T224403Z
LAST-MODIFIED:20260423T224403Z
UID:10012552-1789846200-1789850700@www.unexpectedproductions.org
SUMMARY:Rebel Frequencies: Hope is Contagious
DESCRIPTION:In a world of private fears\, public collapse\, and just enough technology to make everything worse\, Rebel Frequencies is a bold new improvised dramedy about human connection in the middle of a world that is far from good\, in danger of heading down the wrong road. \nInspired by the emotional intelligence of Murderbot\, the eerie tension of Severance and Alan Wake 2\, and the driven spirit of Andor and Daredevil\, this original fully improvised show follows a chain reaction of resistance in a damaged world. Each performance the ensemble creates an interconnected story where one small act of hope sets off a chain reaction in the darkness. \nSet in a heightened reality that may include dystopian tech\, strange systems of control\, or absurd corporate futures\, Rebel Frequencies explores a powerful idea: that the very things we think are wrong with us may be the things that help us reach each other. Funny\, strange\, heartfelt\, and unexpectedly hopeful\, this is improv about surviving the future by choosing to be human together.
URL:https://www.unexpectedproductions.org/event/rebel-frequencies-hope-is-contagious/2026-09-19/
LOCATION:Unexpected Productions\, 1428 Post Alley at the Gum Wall in Pike Place Market\, Seattle\, WA\, 98101\, United States
END:VEVENT
BEGIN:VEVENT
DTSTART;TZID=America/Los_Angeles:20260925T193000
DTEND;TZID=America/Los_Angeles:20260925T204500
DTSTAMP:20260424T062150
CREATED:20260423T224403Z
LAST-MODIFIED:20260423T224403Z
UID:10012553-1790364600-1790369100@www.unexpectedproductions.org
SUMMARY:Rebel Frequencies: Hope is Contagious
DESCRIPTION:In a world of private fears\, public collapse\, and just enough technology to make everything worse\, Rebel Frequencies is a bold new improvised dramedy about human connection in the middle of a world that is far from good\, in danger of heading down the wrong road. \nInspired by the emotional intelligence of Murderbot\, the eerie tension of Severance and Alan Wake 2\, and the driven spirit of Andor and Daredevil\, this original fully improvised show follows a chain reaction of resistance in a damaged world. Each performance the ensemble creates an interconnected story where one small act of hope sets off a chain reaction in the darkness. \nSet in a heightened reality that may include dystopian tech\, strange systems of control\, or absurd corporate futures\, Rebel Frequencies explores a powerful idea: that the very things we think are wrong with us may be the things that help us reach each other. Funny\, strange\, heartfelt\, and unexpectedly hopeful\, this is improv about surviving the future by choosing to be human together.
URL:https://www.unexpectedproductions.org/event/rebel-frequencies-hope-is-contagious/2026-09-25/
LOCATION:Unexpected Productions\, 1428 Post Alley at the Gum Wall in Pike Place Market\, Seattle\, WA\, 98101\, United States
END:VEVENT
BEGIN:VEVENT
DTSTART;TZID=America/Los_Angeles:20260926T193000
DTEND;TZID=America/Los_Angeles:20260926T204500
DTSTAMP:20260424T062150
CREATED:20260423T224403Z
LAST-MODIFIED:20260423T224403Z
UID:10012554-1790451000-1790455500@www.unexpectedproductions.org
SUMMARY:Rebel Frequencies: Hope is Contagious
DESCRIPTION:In a world of private fears\, public collapse\, and just enough technology to make everything worse\, Rebel Frequencies is a bold new improvised dramedy about human connection in the middle of a world that is far from good\, in danger of heading down the wrong road. \nInspired by the emotional intelligence of Murderbot\, the eerie tension of Severance and Alan Wake 2\, and the driven spirit of Andor and Daredevil\, this original fully improvised show follows a chain reaction of resistance in a damaged world. Each performance the ensemble creates an interconnected story where one small act of hope sets off a chain reaction in the darkness. \nSet in a heightened reality that may include dystopian tech\, strange systems of control\, or absurd corporate futures\, Rebel Frequencies explores a powerful idea: that the very things we think are wrong with us may be the things that help us reach each other. Funny\, strange\, heartfelt\, and unexpectedly hopeful\, this is improv about surviving the future by choosing to be human together.
URL:https://www.unexpectedproductions.org/event/rebel-frequencies-hope-is-contagious/2026-09-26/
LOCATION:Unexpected Productions\, 1428 Post Alley at the Gum Wall in Pike Place Market\, Seattle\, WA\, 98101\, United States
END:VEVENT
END:VCALENDAR