BEGIN:VCALENDAR
VERSION:2.0
PRODID:-//Unexpected Productions - ECPv6.15.20//NONSGML v1.0//EN
CALSCALE:GREGORIAN
METHOD:PUBLISH
X-WR-CALNAME:Unexpected Productions
X-ORIGINAL-URL:https://www.unexpectedproductions.org
X-WR-CALDESC:Events for Unexpected Productions
REFRESH-INTERVAL;VALUE=DURATION:PT1H
X-Robots-Tag:noindex
X-PUBLISHED-TTL:PT1H
BEGIN:VTIMEZONE
TZID:America/Los_Angeles
BEGIN:DAYLIGHT
TZOFFSETFROM:-0800
TZOFFSETTO:-0700
TZNAME:PDT
DTSTART:20250309T100000
END:DAYLIGHT
BEGIN:STANDARD
TZOFFSETFROM:-0700
TZOFFSETTO:-0800
TZNAME:PST
DTSTART:20251102T090000
END:STANDARD
BEGIN:DAYLIGHT
TZOFFSETFROM:-0800
TZOFFSETTO:-0700
TZNAME:PDT
DTSTART:20260308T100000
END:DAYLIGHT
BEGIN:STANDARD
TZOFFSETFROM:-0700
TZOFFSETTO:-0800
TZNAME:PST
DTSTART:20261101T090000
END:STANDARD
BEGIN:DAYLIGHT
TZOFFSETFROM:-0800
TZOFFSETTO:-0700
TZNAME:PDT
DTSTART:20270314T100000
END:DAYLIGHT
BEGIN:STANDARD
TZOFFSETFROM:-0700
TZOFFSETTO:-0800
TZNAME:PST
DTSTART:20271107T090000
END:STANDARD
END:VTIMEZONE
BEGIN:VEVENT
DTSTART;TZID=America/Los_Angeles:20260924T080000
DTEND;TZID=America/Los_Angeles:20260924T170000
DTSTAMP:20260424T154557
CREATED:20260423T214948Z
LAST-MODIFIED:20260423T214948Z
UID:10012483-1790236800-1790269200@www.unexpectedproductions.org
SUMMARY:Seattle SketchFest
DESCRIPTION:SketchFest showcases the talents of local favorites from around the Emerald City. Get ready for the most innovative and original local sketch comedy acts in Seattle at Unexpected Productions’ Market Theater. Make friends\, laugh\, and enjoy a drink as you watch scenes about a cool new buddy who erupts from your chest\, a totally human baby\, a 911 operator who has interesting priorities\, and many more.\nSince its inception in 1999\, SketchFest Seattle has pioneered sketch comedy festivals worldwide. Our mission is to elevate sketch comedy as a performing art by providing a platform for groups to showcase their talent to Seattle audiences and to facilitate networking opportunities with other performers\, writers\, and professionals in the comedic arts.
URL:https://www.unexpectedproductions.org/event/seattle-sketchfest/
LOCATION:Unexpected Productions\, 1428 Post Alley at the Gum Wall in Pike Place Market\, Seattle\, WA\, 98101\, United States
END:VEVENT
BEGIN:VEVENT
DTSTART;TZID=America/Los_Angeles:20260924T190000
DTEND;TZID=America/Los_Angeles:20260924T210000
DTSTAMP:20260424T154557
CREATED:20260423T215116Z
LAST-MODIFIED:20260423T215116Z
UID:10012484-1790276400-1790283600@www.unexpectedproductions.org
SUMMARY:Seattle SketchFest
DESCRIPTION:SketchFest showcases the talents of local favorites from around the Emerald City. Get ready for the most innovative and original local sketch comedy acts in Seattle at Unexpected Productions’ Market Theater. Make friends\, laugh\, and enjoy a drink as you watch scenes about a cool new buddy who erupts from your chest\, a totally human baby\, a 911 operator who has interesting priorities\, and many more.\nSince its inception in 1999\, SketchFest Seattle has pioneered sketch comedy festivals worldwide. Our mission is to elevate sketch comedy as a performing art by providing a platform for groups to showcase their talent to Seattle audiences and to facilitate networking opportunities with other performers\, writers\, and professionals in the comedic arts.
URL:https://www.unexpectedproductions.org/event/seattle-sketchfest-2/
LOCATION:Unexpected Productions\, 1428 Post Alley at the Gum Wall in Pike Place Market\, Seattle\, WA\, 98101\, United States
END:VEVENT
END:VCALENDAR