BEGIN:VCALENDAR
VERSION:2.0
PRODID:-//Unexpected Productions - ECPv6.15.20//NONSGML v1.0//EN
CALSCALE:GREGORIAN
METHOD:PUBLISH
X-WR-CALNAME:Unexpected Productions
X-ORIGINAL-URL:https://www.unexpectedproductions.org
X-WR-CALDESC:Events for Unexpected Productions
REFRESH-INTERVAL;VALUE=DURATION:PT1H
X-Robots-Tag:noindex
X-PUBLISHED-TTL:PT1H
BEGIN:VTIMEZONE
TZID:America/Los_Angeles
BEGIN:DAYLIGHT
TZOFFSETFROM:-0800
TZOFFSETTO:-0700
TZNAME:PDT
DTSTART:20250309T100000
END:DAYLIGHT
BEGIN:STANDARD
TZOFFSETFROM:-0700
TZOFFSETTO:-0800
TZNAME:PST
DTSTART:20251102T090000
END:STANDARD
BEGIN:DAYLIGHT
TZOFFSETFROM:-0800
TZOFFSETTO:-0700
TZNAME:PDT
DTSTART:20260308T100000
END:DAYLIGHT
BEGIN:STANDARD
TZOFFSETFROM:-0700
TZOFFSETTO:-0800
TZNAME:PST
DTSTART:20261101T090000
END:STANDARD
BEGIN:DAYLIGHT
TZOFFSETFROM:-0800
TZOFFSETTO:-0700
TZNAME:PDT
DTSTART:20270314T100000
END:DAYLIGHT
BEGIN:STANDARD
TZOFFSETFROM:-0700
TZOFFSETTO:-0800
TZNAME:PST
DTSTART:20271107T090000
END:STANDARD
END:VTIMEZONE
BEGIN:VEVENT
DTSTART;TZID=America/Los_Angeles:20260726T193000
DTEND;TZID=America/Los_Angeles:20260726T204500
DTSTAMP:20260423T182748
CREATED:20260423T212043Z
LAST-MODIFIED:20260423T220345Z
UID:10012424-1785094200-1785098700@www.unexpectedproductions.org
SUMMARY:Bestsellers: Improv Comedy
DESCRIPTION:Two hilarious “bestseller” books are created from your suggestions\, then performed live in this fast-paced improv comedy show. \n\n\n\n\nWhat if the next bestselling novel was written live… right in front of you? In Bestsellers\, two never-before-published books are born from your suggestions. Our improvisers gather as a wildly opinionated book club\, imagining the plot\, characters\, and dramatic twists of a brand-new novel\, completely inspired by the audience. Then they jump inside the story and perform scenes from this freshly invented literary masterpiece. \nWill it be a sweeping romance? A thrilling mystery? A wildly inappropriate children’s book? No one knows until the audience decides. \nWatch as an entire “bestseller” unfolds on stage—complete with unforgettable characters\, surprising plot turns\, and the kind of drama only improvisers can create on the spot.
URL:https://www.unexpectedproductions.org/event/bestsellers-improv-comedy/2026-07-26/
LOCATION:Unexpected Productions\, 1428 Post Alley at the Gum Wall in Pike Place Market\, Seattle\, WA\, 98101\, United States
ATTACH;FMTTYPE=image/jpeg:https://www.unexpectedproductions.org/wp-content/uploads/2026/04/BestSellers-small.jpg
END:VEVENT
BEGIN:VEVENT
DTSTART;TZID=America/Los_Angeles:20260802T193000
DTEND;TZID=America/Los_Angeles:20260802T204500
DTSTAMP:20260423T182748
CREATED:20260423T212043Z
LAST-MODIFIED:20260423T220345Z
UID:10012425-1785699000-1785703500@www.unexpectedproductions.org
SUMMARY:Bestsellers: Improv Comedy
DESCRIPTION:Two hilarious “bestseller” books are created from your suggestions\, then performed live in this fast-paced improv comedy show. \n\n\n\n\nWhat if the next bestselling novel was written live… right in front of you? In Bestsellers\, two never-before-published books are born from your suggestions. Our improvisers gather as a wildly opinionated book club\, imagining the plot\, characters\, and dramatic twists of a brand-new novel\, completely inspired by the audience. Then they jump inside the story and perform scenes from this freshly invented literary masterpiece. \nWill it be a sweeping romance? A thrilling mystery? A wildly inappropriate children’s book? No one knows until the audience decides. \nWatch as an entire “bestseller” unfolds on stage—complete with unforgettable characters\, surprising plot turns\, and the kind of drama only improvisers can create on the spot.
URL:https://www.unexpectedproductions.org/event/bestsellers-improv-comedy/2026-08-02/
LOCATION:Unexpected Productions\, 1428 Post Alley at the Gum Wall in Pike Place Market\, Seattle\, WA\, 98101\, United States
ATTACH;FMTTYPE=image/jpeg:https://www.unexpectedproductions.org/wp-content/uploads/2026/04/BestSellers-small.jpg
END:VEVENT
BEGIN:VEVENT
DTSTART;TZID=America/Los_Angeles:20260809T193000
DTEND;TZID=America/Los_Angeles:20260809T204500
DTSTAMP:20260423T182748
CREATED:20260423T212043Z
LAST-MODIFIED:20260423T220345Z
UID:10012426-1786303800-1786308300@www.unexpectedproductions.org
SUMMARY:Bestsellers: Improv Comedy
DESCRIPTION:Two hilarious “bestseller” books are created from your suggestions\, then performed live in this fast-paced improv comedy show. \n\n\n\n\nWhat if the next bestselling novel was written live… right in front of you? In Bestsellers\, two never-before-published books are born from your suggestions. Our improvisers gather as a wildly opinionated book club\, imagining the plot\, characters\, and dramatic twists of a brand-new novel\, completely inspired by the audience. Then they jump inside the story and perform scenes from this freshly invented literary masterpiece. \nWill it be a sweeping romance? A thrilling mystery? A wildly inappropriate children’s book? No one knows until the audience decides. \nWatch as an entire “bestseller” unfolds on stage—complete with unforgettable characters\, surprising plot turns\, and the kind of drama only improvisers can create on the spot.
URL:https://www.unexpectedproductions.org/event/bestsellers-improv-comedy/2026-08-09/
LOCATION:Unexpected Productions\, 1428 Post Alley at the Gum Wall in Pike Place Market\, Seattle\, WA\, 98101\, United States
ATTACH;FMTTYPE=image/jpeg:https://www.unexpectedproductions.org/wp-content/uploads/2026/04/BestSellers-small.jpg
END:VEVENT
BEGIN:VEVENT
DTSTART;TZID=America/Los_Angeles:20260816T193000
DTEND;TZID=America/Los_Angeles:20260816T204500
DTSTAMP:20260423T182748
CREATED:20260423T212043Z
LAST-MODIFIED:20260423T220345Z
UID:10012427-1786908600-1786913100@www.unexpectedproductions.org
SUMMARY:Bestsellers: Improv Comedy
DESCRIPTION:Two hilarious “bestseller” books are created from your suggestions\, then performed live in this fast-paced improv comedy show. \n\n\n\n\nWhat if the next bestselling novel was written live… right in front of you? In Bestsellers\, two never-before-published books are born from your suggestions. Our improvisers gather as a wildly opinionated book club\, imagining the plot\, characters\, and dramatic twists of a brand-new novel\, completely inspired by the audience. Then they jump inside the story and perform scenes from this freshly invented literary masterpiece. \nWill it be a sweeping romance? A thrilling mystery? A wildly inappropriate children’s book? No one knows until the audience decides. \nWatch as an entire “bestseller” unfolds on stage—complete with unforgettable characters\, surprising plot turns\, and the kind of drama only improvisers can create on the spot.
URL:https://www.unexpectedproductions.org/event/bestsellers-improv-comedy/2026-08-16/
LOCATION:Unexpected Productions\, 1428 Post Alley at the Gum Wall in Pike Place Market\, Seattle\, WA\, 98101\, United States
ATTACH;FMTTYPE=image/jpeg:https://www.unexpectedproductions.org/wp-content/uploads/2026/04/BestSellers-small.jpg
END:VEVENT
BEGIN:VEVENT
DTSTART;TZID=America/Los_Angeles:20260823T193000
DTEND;TZID=America/Los_Angeles:20260823T204500
DTSTAMP:20260423T182748
CREATED:20260423T212043Z
LAST-MODIFIED:20260423T220345Z
UID:10012428-1787513400-1787517900@www.unexpectedproductions.org
SUMMARY:Bestsellers: Improv Comedy
DESCRIPTION:Two hilarious “bestseller” books are created from your suggestions\, then performed live in this fast-paced improv comedy show. \n\n\n\n\nWhat if the next bestselling novel was written live… right in front of you? In Bestsellers\, two never-before-published books are born from your suggestions. Our improvisers gather as a wildly opinionated book club\, imagining the plot\, characters\, and dramatic twists of a brand-new novel\, completely inspired by the audience. Then they jump inside the story and perform scenes from this freshly invented literary masterpiece. \nWill it be a sweeping romance? A thrilling mystery? A wildly inappropriate children’s book? No one knows until the audience decides. \nWatch as an entire “bestseller” unfolds on stage—complete with unforgettable characters\, surprising plot turns\, and the kind of drama only improvisers can create on the spot.
URL:https://www.unexpectedproductions.org/event/bestsellers-improv-comedy/2026-08-23/
LOCATION:Unexpected Productions\, 1428 Post Alley at the Gum Wall in Pike Place Market\, Seattle\, WA\, 98101\, United States
ATTACH;FMTTYPE=image/jpeg:https://www.unexpectedproductions.org/wp-content/uploads/2026/04/BestSellers-small.jpg
END:VEVENT
BEGIN:VEVENT
DTSTART;TZID=America/Los_Angeles:20260830T193000
DTEND;TZID=America/Los_Angeles:20260830T204500
DTSTAMP:20260423T182748
CREATED:20260423T212043Z
LAST-MODIFIED:20260423T220345Z
UID:10012429-1788118200-1788122700@www.unexpectedproductions.org
SUMMARY:Bestsellers: Improv Comedy
DESCRIPTION:Two hilarious “bestseller” books are created from your suggestions\, then performed live in this fast-paced improv comedy show. \n\n\n\n\nWhat if the next bestselling novel was written live… right in front of you? In Bestsellers\, two never-before-published books are born from your suggestions. Our improvisers gather as a wildly opinionated book club\, imagining the plot\, characters\, and dramatic twists of a brand-new novel\, completely inspired by the audience. Then they jump inside the story and perform scenes from this freshly invented literary masterpiece. \nWill it be a sweeping romance? A thrilling mystery? A wildly inappropriate children’s book? No one knows until the audience decides. \nWatch as an entire “bestseller” unfolds on stage—complete with unforgettable characters\, surprising plot turns\, and the kind of drama only improvisers can create on the spot.
URL:https://www.unexpectedproductions.org/event/bestsellers-improv-comedy/2026-08-30/
LOCATION:Unexpected Productions\, 1428 Post Alley at the Gum Wall in Pike Place Market\, Seattle\, WA\, 98101\, United States
ATTACH;FMTTYPE=image/jpeg:https://www.unexpectedproductions.org/wp-content/uploads/2026/04/BestSellers-small.jpg
END:VEVENT
BEGIN:VEVENT
DTSTART;TZID=America/Los_Angeles:20260906T193000
DTEND;TZID=America/Los_Angeles:20260906T204500
DTSTAMP:20260423T182748
CREATED:20260423T212043Z
LAST-MODIFIED:20260423T220345Z
UID:10012430-1788723000-1788727500@www.unexpectedproductions.org
SUMMARY:Bestsellers: Improv Comedy
DESCRIPTION:Two hilarious “bestseller” books are created from your suggestions\, then performed live in this fast-paced improv comedy show. \n\n\n\n\nWhat if the next bestselling novel was written live… right in front of you? In Bestsellers\, two never-before-published books are born from your suggestions. Our improvisers gather as a wildly opinionated book club\, imagining the plot\, characters\, and dramatic twists of a brand-new novel\, completely inspired by the audience. Then they jump inside the story and perform scenes from this freshly invented literary masterpiece. \nWill it be a sweeping romance? A thrilling mystery? A wildly inappropriate children’s book? No one knows until the audience decides. \nWatch as an entire “bestseller” unfolds on stage—complete with unforgettable characters\, surprising plot turns\, and the kind of drama only improvisers can create on the spot.
URL:https://www.unexpectedproductions.org/event/bestsellers-improv-comedy/2026-09-06/
LOCATION:Unexpected Productions\, 1428 Post Alley at the Gum Wall in Pike Place Market\, Seattle\, WA\, 98101\, United States
ATTACH;FMTTYPE=image/jpeg:https://www.unexpectedproductions.org/wp-content/uploads/2026/04/BestSellers-small.jpg
END:VEVENT
END:VCALENDAR