BEGIN:VCALENDAR
VERSION:2.0
PRODID:-//Unexpected Productions - ECPv6.15.20//NONSGML v1.0//EN
CALSCALE:GREGORIAN
METHOD:PUBLISH
X-WR-CALNAME:Unexpected Productions
X-ORIGINAL-URL:https://www.unexpectedproductions.org
X-WR-CALDESC:Events for Unexpected Productions
REFRESH-INTERVAL;VALUE=DURATION:PT1H
X-Robots-Tag:noindex
X-PUBLISHED-TTL:PT1H
BEGIN:VTIMEZONE
TZID:America/Los_Angeles
BEGIN:DAYLIGHT
TZOFFSETFROM:-0800
TZOFFSETTO:-0700
TZNAME:PDT
DTSTART:20250309T100000
END:DAYLIGHT
BEGIN:STANDARD
TZOFFSETFROM:-0700
TZOFFSETTO:-0800
TZNAME:PST
DTSTART:20251102T090000
END:STANDARD
BEGIN:DAYLIGHT
TZOFFSETFROM:-0800
TZOFFSETTO:-0700
TZNAME:PDT
DTSTART:20260308T100000
END:DAYLIGHT
BEGIN:STANDARD
TZOFFSETFROM:-0700
TZOFFSETTO:-0800
TZNAME:PST
DTSTART:20261101T090000
END:STANDARD
BEGIN:DAYLIGHT
TZOFFSETFROM:-0800
TZOFFSETTO:-0700
TZNAME:PDT
DTSTART:20270314T100000
END:DAYLIGHT
BEGIN:STANDARD
TZOFFSETFROM:-0700
TZOFFSETTO:-0800
TZNAME:PST
DTSTART:20271107T090000
END:STANDARD
END:VTIMEZONE
BEGIN:VEVENT
DTSTART;TZID=America/Los_Angeles:20260614T080000
DTEND;TZID=America/Los_Angeles:20260614T170000
DTSTAMP:20260424T060619
CREATED:20260423T205911Z
LAST-MODIFIED:20260423T220640Z
UID:10012543-1781424000-1781456400@www.unexpectedproductions.org
SUMMARY:Festival of Improvised Plays
DESCRIPTION:A festival of improvised plays featuring Shakespeare\, Playborhood\, Four Hearts\, and more. Theater created live in the moment. \n\n\n\n\nUnexpected Productions presents a festival of improvised plays celebrating the thrill of theater created in the moment. This special event features a range of inventive ensembles\, including groups performing Improvised Shakespeare\, alongside remounts of beloved UP classics like Playborhood\, Four Hearts\, and more. Blending spontaneity\, storytelling\, and theatrical daring\, the festival showcases the many ways a play can come to life without a script
URL:https://www.unexpectedproductions.org/event/festival-of-improvised-plays/2026-06-14/1/
LOCATION:Unexpected Productions\, 1428 Post Alley at the Gum Wall in Pike Place Market\, Seattle\, WA\, 98101\, United States
ATTACH;FMTTYPE=image/png:https://www.unexpectedproductions.org/wp-content/uploads/2026/04/improvised-plays-small.png
END:VEVENT
BEGIN:VEVENT
DTSTART;TZID=America/Los_Angeles:20260614T193000
DTEND;TZID=America/Los_Angeles:20260614T204500
DTSTAMP:20260424T060619
CREATED:20260423T205911Z
LAST-MODIFIED:20260423T220640Z
UID:10012250-1781465400-1781469900@www.unexpectedproductions.org
SUMMARY:Festival of Improvised Plays
DESCRIPTION:A festival of improvised plays featuring Shakespeare\, Playborhood\, Four Hearts\, and more. Theater created live in the moment. \n\n\n\n\nUnexpected Productions presents a festival of improvised plays celebrating the thrill of theater created in the moment. This special event features a range of inventive ensembles\, including groups performing Improvised Shakespeare\, alongside remounts of beloved UP classics like Playborhood\, Four Hearts\, and more. Blending spontaneity\, storytelling\, and theatrical daring\, the festival showcases the many ways a play can come to life without a script
URL:https://www.unexpectedproductions.org/event/festival-of-improvised-plays/2026-06-14/2/
LOCATION:Unexpected Productions\, 1428 Post Alley at the Gum Wall in Pike Place Market\, Seattle\, WA\, 98101\, United States
ATTACH;FMTTYPE=image/png:https://www.unexpectedproductions.org/wp-content/uploads/2026/04/improvised-plays-small.png
END:VEVENT
BEGIN:VEVENT
DTSTART;TZID=America/Los_Angeles:20260621T193000
DTEND;TZID=America/Los_Angeles:20260621T204500
DTSTAMP:20260424T060619
CREATED:20260423T205911Z
LAST-MODIFIED:20260423T220640Z
UID:10012251-1782070200-1782074700@www.unexpectedproductions.org
SUMMARY:Festival of Improvised Plays
DESCRIPTION:A festival of improvised plays featuring Shakespeare\, Playborhood\, Four Hearts\, and more. Theater created live in the moment. \n\n\n\n\nUnexpected Productions presents a festival of improvised plays celebrating the thrill of theater created in the moment. This special event features a range of inventive ensembles\, including groups performing Improvised Shakespeare\, alongside remounts of beloved UP classics like Playborhood\, Four Hearts\, and more. Blending spontaneity\, storytelling\, and theatrical daring\, the festival showcases the many ways a play can come to life without a script
URL:https://www.unexpectedproductions.org/event/festival-of-improvised-plays/2026-06-21/
LOCATION:Unexpected Productions\, 1428 Post Alley at the Gum Wall in Pike Place Market\, Seattle\, WA\, 98101\, United States
ATTACH;FMTTYPE=image/png:https://www.unexpectedproductions.org/wp-content/uploads/2026/04/improvised-plays-small.png
END:VEVENT
BEGIN:VEVENT
DTSTART;TZID=America/Los_Angeles:20260628T193000
DTEND;TZID=America/Los_Angeles:20260628T204500
DTSTAMP:20260424T060619
CREATED:20260423T205911Z
LAST-MODIFIED:20260423T220640Z
UID:10012252-1782675000-1782679500@www.unexpectedproductions.org
SUMMARY:Festival of Improvised Plays
DESCRIPTION:A festival of improvised plays featuring Shakespeare\, Playborhood\, Four Hearts\, and more. Theater created live in the moment. \n\n\n\n\nUnexpected Productions presents a festival of improvised plays celebrating the thrill of theater created in the moment. This special event features a range of inventive ensembles\, including groups performing Improvised Shakespeare\, alongside remounts of beloved UP classics like Playborhood\, Four Hearts\, and more. Blending spontaneity\, storytelling\, and theatrical daring\, the festival showcases the many ways a play can come to life without a script
URL:https://www.unexpectedproductions.org/event/festival-of-improvised-plays/2026-06-28/
LOCATION:Unexpected Productions\, 1428 Post Alley at the Gum Wall in Pike Place Market\, Seattle\, WA\, 98101\, United States
ATTACH;FMTTYPE=image/png:https://www.unexpectedproductions.org/wp-content/uploads/2026/04/improvised-plays-small.png
END:VEVENT
BEGIN:VEVENT
DTSTART;TZID=America/Los_Angeles:20260705T193000
DTEND;TZID=America/Los_Angeles:20260705T204500
DTSTAMP:20260424T060619
CREATED:20260423T205911Z
LAST-MODIFIED:20260423T220640Z
UID:10012253-1783279800-1783284300@www.unexpectedproductions.org
SUMMARY:Festival of Improvised Plays
DESCRIPTION:A festival of improvised plays featuring Shakespeare\, Playborhood\, Four Hearts\, and more. Theater created live in the moment. \n\n\n\n\nUnexpected Productions presents a festival of improvised plays celebrating the thrill of theater created in the moment. This special event features a range of inventive ensembles\, including groups performing Improvised Shakespeare\, alongside remounts of beloved UP classics like Playborhood\, Four Hearts\, and more. Blending spontaneity\, storytelling\, and theatrical daring\, the festival showcases the many ways a play can come to life without a script
URL:https://www.unexpectedproductions.org/event/festival-of-improvised-plays/2026-07-05/
LOCATION:Unexpected Productions\, 1428 Post Alley at the Gum Wall in Pike Place Market\, Seattle\, WA\, 98101\, United States
ATTACH;FMTTYPE=image/png:https://www.unexpectedproductions.org/wp-content/uploads/2026/04/improvised-plays-small.png
END:VEVENT
BEGIN:VEVENT
DTSTART;TZID=America/Los_Angeles:20260712T193000
DTEND;TZID=America/Los_Angeles:20260712T204500
DTSTAMP:20260424T060619
CREATED:20260423T205911Z
LAST-MODIFIED:20260423T220640Z
UID:10012254-1783884600-1783889100@www.unexpectedproductions.org
SUMMARY:Festival of Improvised Plays
DESCRIPTION:A festival of improvised plays featuring Shakespeare\, Playborhood\, Four Hearts\, and more. Theater created live in the moment. \n\n\n\n\nUnexpected Productions presents a festival of improvised plays celebrating the thrill of theater created in the moment. This special event features a range of inventive ensembles\, including groups performing Improvised Shakespeare\, alongside remounts of beloved UP classics like Playborhood\, Four Hearts\, and more. Blending spontaneity\, storytelling\, and theatrical daring\, the festival showcases the many ways a play can come to life without a script
URL:https://www.unexpectedproductions.org/event/festival-of-improvised-plays/2026-07-12/
LOCATION:Unexpected Productions\, 1428 Post Alley at the Gum Wall in Pike Place Market\, Seattle\, WA\, 98101\, United States
ATTACH;FMTTYPE=image/png:https://www.unexpectedproductions.org/wp-content/uploads/2026/04/improvised-plays-small.png
END:VEVENT
BEGIN:VEVENT
DTSTART;TZID=America/Los_Angeles:20260719T193000
DTEND;TZID=America/Los_Angeles:20260719T204500
DTSTAMP:20260424T060619
CREATED:20260423T205911Z
LAST-MODIFIED:20260423T220640Z
UID:10012255-1784489400-1784493900@www.unexpectedproductions.org
SUMMARY:Festival of Improvised Plays
DESCRIPTION:A festival of improvised plays featuring Shakespeare\, Playborhood\, Four Hearts\, and more. Theater created live in the moment. \n\n\n\n\nUnexpected Productions presents a festival of improvised plays celebrating the thrill of theater created in the moment. This special event features a range of inventive ensembles\, including groups performing Improvised Shakespeare\, alongside remounts of beloved UP classics like Playborhood\, Four Hearts\, and more. Blending spontaneity\, storytelling\, and theatrical daring\, the festival showcases the many ways a play can come to life without a script
URL:https://www.unexpectedproductions.org/event/festival-of-improvised-plays/2026-07-19/
LOCATION:Unexpected Productions\, 1428 Post Alley at the Gum Wall in Pike Place Market\, Seattle\, WA\, 98101\, United States
ATTACH;FMTTYPE=image/png:https://www.unexpectedproductions.org/wp-content/uploads/2026/04/improvised-plays-small.png
END:VEVENT
END:VCALENDAR