BEGIN:VCALENDAR
VERSION:2.0
PRODID:-//Unexpected Productions - ECPv6.15.20//NONSGML v1.0//EN
CALSCALE:GREGORIAN
METHOD:PUBLISH
X-WR-CALNAME:Unexpected Productions
X-ORIGINAL-URL:https://www.unexpectedproductions.org
X-WR-CALDESC:Events for Unexpected Productions
REFRESH-INTERVAL;VALUE=DURATION:PT1H
X-Robots-Tag:noindex
X-PUBLISHED-TTL:PT1H
BEGIN:VTIMEZONE
TZID:America/Los_Angeles
BEGIN:DAYLIGHT
TZOFFSETFROM:-0800
TZOFFSETTO:-0700
TZNAME:PDT
DTSTART:20250309T100000
END:DAYLIGHT
BEGIN:STANDARD
TZOFFSETFROM:-0700
TZOFFSETTO:-0800
TZNAME:PST
DTSTART:20251102T090000
END:STANDARD
BEGIN:DAYLIGHT
TZOFFSETFROM:-0800
TZOFFSETTO:-0700
TZNAME:PDT
DTSTART:20260308T100000
END:DAYLIGHT
BEGIN:STANDARD
TZOFFSETFROM:-0700
TZOFFSETTO:-0800
TZNAME:PST
DTSTART:20261101T090000
END:STANDARD
BEGIN:DAYLIGHT
TZOFFSETFROM:-0800
TZOFFSETTO:-0700
TZNAME:PDT
DTSTART:20270314T100000
END:DAYLIGHT
BEGIN:STANDARD
TZOFFSETFROM:-0700
TZOFFSETTO:-0800
TZNAME:PST
DTSTART:20271107T090000
END:STANDARD
END:VTIMEZONE
BEGIN:VEVENT
DTSTART;TZID=America/Los_Angeles:20260503T193000
DTEND;TZID=America/Los_Angeles:20260503T204500
DTSTAMP:20260422T225211
CREATED:20260422T224758Z
LAST-MODIFIED:20260422T224918Z
UID:10011878-1777836600-1777841100@www.unexpectedproductions.org
SUMMARY:Funny You Should Say That
DESCRIPTION:A live improv comedy variety show with sketch scenes\, music\, and audience fun. Classic Carol Burnett vibes. Family-friendly laughs! \n\n\n\n\nFunny You Should Say That is a fast-paced improv comedy show packed with sketch-style scenes\, playful audience interaction\, musical moments\, and even the occasional spontaneous dance number. Everything is created completely on the spot by some of Unexpected Productions’ funniest performers\, making every show a one-of-a-kind experience. \nInspired by the spirit of classic variety comedy like The Carol Burnett Show\, this lively performance blends clever characters\, silly situations\, and big laughs in a format that feels both nostalgic and fresh. Our improvisers take your suggestions and turn them into a series of hilarious sketches that unfold right before your eyes. \nWith its PG-rated humor and welcoming vibe\, Funny You Should Say That is perfect for the whole family. Whether you’re introducing someone to improv for the first time or just looking for a joyful night of laughter\, this show delivers classic comedy fun with a fully improvised twist.
URL:https://www.unexpectedproductions.org/event/funny-you-should-say-that/2026-05-03/
LOCATION:Unexpected Productions\, 1428 Post Alley at the Gum Wall in Pike Place Market\, Seattle\, WA\, 98101\, United States
ATTACH;FMTTYPE=image/webp:https://www.unexpectedproductions.org/wp-content/uploads/2026/04/image-1.webp
END:VEVENT
BEGIN:VEVENT
DTSTART;TZID=America/Los_Angeles:20260517T193000
DTEND;TZID=America/Los_Angeles:20260517T204500
DTSTAMP:20260422T225211
CREATED:20260422T224758Z
LAST-MODIFIED:20260422T224918Z
UID:10011879-1779046200-1779050700@www.unexpectedproductions.org
SUMMARY:Funny You Should Say That
DESCRIPTION:A live improv comedy variety show with sketch scenes\, music\, and audience fun. Classic Carol Burnett vibes. Family-friendly laughs! \n\n\n\n\nFunny You Should Say That is a fast-paced improv comedy show packed with sketch-style scenes\, playful audience interaction\, musical moments\, and even the occasional spontaneous dance number. Everything is created completely on the spot by some of Unexpected Productions’ funniest performers\, making every show a one-of-a-kind experience. \nInspired by the spirit of classic variety comedy like The Carol Burnett Show\, this lively performance blends clever characters\, silly situations\, and big laughs in a format that feels both nostalgic and fresh. Our improvisers take your suggestions and turn them into a series of hilarious sketches that unfold right before your eyes. \nWith its PG-rated humor and welcoming vibe\, Funny You Should Say That is perfect for the whole family. Whether you’re introducing someone to improv for the first time or just looking for a joyful night of laughter\, this show delivers classic comedy fun with a fully improvised twist.
URL:https://www.unexpectedproductions.org/event/funny-you-should-say-that/2026-05-17/
LOCATION:Unexpected Productions\, 1428 Post Alley at the Gum Wall in Pike Place Market\, Seattle\, WA\, 98101\, United States
ATTACH;FMTTYPE=image/webp:https://www.unexpectedproductions.org/wp-content/uploads/2026/04/image-1.webp
END:VEVENT
BEGIN:VEVENT
DTSTART;TZID=America/Los_Angeles:20260524T193000
DTEND;TZID=America/Los_Angeles:20260524T204500
DTSTAMP:20260422T225211
CREATED:20260422T224758Z
LAST-MODIFIED:20260422T224918Z
UID:10011880-1779651000-1779655500@www.unexpectedproductions.org
SUMMARY:Funny You Should Say That
DESCRIPTION:A live improv comedy variety show with sketch scenes\, music\, and audience fun. Classic Carol Burnett vibes. Family-friendly laughs! \n\n\n\n\nFunny You Should Say That is a fast-paced improv comedy show packed with sketch-style scenes\, playful audience interaction\, musical moments\, and even the occasional spontaneous dance number. Everything is created completely on the spot by some of Unexpected Productions’ funniest performers\, making every show a one-of-a-kind experience. \nInspired by the spirit of classic variety comedy like The Carol Burnett Show\, this lively performance blends clever characters\, silly situations\, and big laughs in a format that feels both nostalgic and fresh. Our improvisers take your suggestions and turn them into a series of hilarious sketches that unfold right before your eyes. \nWith its PG-rated humor and welcoming vibe\, Funny You Should Say That is perfect for the whole family. Whether you’re introducing someone to improv for the first time or just looking for a joyful night of laughter\, this show delivers classic comedy fun with a fully improvised twist.
URL:https://www.unexpectedproductions.org/event/funny-you-should-say-that/2026-05-24/
LOCATION:Unexpected Productions\, 1428 Post Alley at the Gum Wall in Pike Place Market\, Seattle\, WA\, 98101\, United States
ATTACH;FMTTYPE=image/webp:https://www.unexpectedproductions.org/wp-content/uploads/2026/04/image-1.webp
END:VEVENT
BEGIN:VEVENT
DTSTART;TZID=America/Los_Angeles:20260531T193000
DTEND;TZID=America/Los_Angeles:20260531T204500
DTSTAMP:20260422T225211
CREATED:20260422T224758Z
LAST-MODIFIED:20260422T224918Z
UID:10011881-1780255800-1780260300@www.unexpectedproductions.org
SUMMARY:Funny You Should Say That
DESCRIPTION:A live improv comedy variety show with sketch scenes\, music\, and audience fun. Classic Carol Burnett vibes. Family-friendly laughs! \n\n\n\n\nFunny You Should Say That is a fast-paced improv comedy show packed with sketch-style scenes\, playful audience interaction\, musical moments\, and even the occasional spontaneous dance number. Everything is created completely on the spot by some of Unexpected Productions’ funniest performers\, making every show a one-of-a-kind experience. \nInspired by the spirit of classic variety comedy like The Carol Burnett Show\, this lively performance blends clever characters\, silly situations\, and big laughs in a format that feels both nostalgic and fresh. Our improvisers take your suggestions and turn them into a series of hilarious sketches that unfold right before your eyes. \nWith its PG-rated humor and welcoming vibe\, Funny You Should Say That is perfect for the whole family. Whether you’re introducing someone to improv for the first time or just looking for a joyful night of laughter\, this show delivers classic comedy fun with a fully improvised twist.
URL:https://www.unexpectedproductions.org/event/funny-you-should-say-that/2026-05-31/
LOCATION:Unexpected Productions\, 1428 Post Alley at the Gum Wall in Pike Place Market\, Seattle\, WA\, 98101\, United States
ATTACH;FMTTYPE=image/webp:https://www.unexpectedproductions.org/wp-content/uploads/2026/04/image-1.webp
END:VEVENT
END:VCALENDAR