BEGIN:VCALENDAR
VERSION:2.0
PRODID:-//Unexpected Productions - ECPv6.15.20//NONSGML v1.0//EN
CALSCALE:GREGORIAN
METHOD:PUBLISH
X-WR-CALNAME:Unexpected Productions
X-ORIGINAL-URL:https://www.unexpectedproductions.org
X-WR-CALDESC:Events for Unexpected Productions
REFRESH-INTERVAL;VALUE=DURATION:PT1H
X-Robots-Tag:noindex
X-PUBLISHED-TTL:PT1H
BEGIN:VTIMEZONE
TZID:America/Denver
BEGIN:DAYLIGHT
TZOFFSETFROM:-0700
TZOFFSETTO:-0600
TZNAME:MDT
DTSTART:20230312T090000
END:DAYLIGHT
BEGIN:STANDARD
TZOFFSETFROM:-0600
TZOFFSETTO:-0700
TZNAME:MST
DTSTART:20231105T080000
END:STANDARD
BEGIN:DAYLIGHT
TZOFFSETFROM:-0700
TZOFFSETTO:-0600
TZNAME:MDT
DTSTART:20240310T090000
END:DAYLIGHT
BEGIN:STANDARD
TZOFFSETFROM:-0600
TZOFFSETTO:-0700
TZNAME:MST
DTSTART:20241103T080000
END:STANDARD
BEGIN:DAYLIGHT
TZOFFSETFROM:-0700
TZOFFSETTO:-0600
TZNAME:MDT
DTSTART:20250309T090000
END:DAYLIGHT
BEGIN:STANDARD
TZOFFSETFROM:-0600
TZOFFSETTO:-0700
TZNAME:MST
DTSTART:20251102T080000
END:STANDARD
END:VTIMEZONE
BEGIN:VTIMEZONE
TZID:America/Los_Angeles
BEGIN:DAYLIGHT
TZOFFSETFROM:-0800
TZOFFSETTO:-0700
TZNAME:PDT
DTSTART:20230312T100000
END:DAYLIGHT
BEGIN:STANDARD
TZOFFSETFROM:-0700
TZOFFSETTO:-0800
TZNAME:PST
DTSTART:20231105T090000
END:STANDARD
BEGIN:DAYLIGHT
TZOFFSETFROM:-0800
TZOFFSETTO:-0700
TZNAME:PDT
DTSTART:20240310T100000
END:DAYLIGHT
BEGIN:STANDARD
TZOFFSETFROM:-0700
TZOFFSETTO:-0800
TZNAME:PST
DTSTART:20241103T090000
END:STANDARD
BEGIN:DAYLIGHT
TZOFFSETFROM:-0800
TZOFFSETTO:-0700
TZNAME:PDT
DTSTART:20250309T100000
END:DAYLIGHT
BEGIN:STANDARD
TZOFFSETFROM:-0700
TZOFFSETTO:-0800
TZNAME:PST
DTSTART:20251102T090000
END:STANDARD
END:VTIMEZONE
BEGIN:VEVENT
DTSTART;TZID=America/Denver:20240520T190000
DTEND;TZID=America/Denver:20240520T210000
DTSTAMP:20260425T093113
CREATED:20240521T015306Z
LAST-MODIFIED:20240521T020810Z
UID:10001645-1716231600-1716238800@www.unexpectedproductions.org
SUMMARY:Improv School Student Showcase Spring 24
DESCRIPTION:Join us for the Spring Student Showcase at Unexpected Productions’ Market Theater! Witness students of varying levels attempt to create intriguing improv live on stage. Our 300\, 400\, and 500-level class students will showcase their new skills\, giving you a glimpse into the future of improv stars. You are sure to have a great time as our students dive into different formats seen in UP’s mainstage shows. After the show\, you can hang out with the cast and say you knew them before they became famous! \nMonday\, May 20 Showcase: Chazz’s Thursday 400\, Mark’s Thursday 500\, Brandon’s Monday 300 \, Cynthia’s Wednesday 300 \nTuesday\, May 21 Showcase: Chazz’s Tuesday 400\, Tony’s Sunday 500\, Chad’s Sunday 300 \nTickets Here \n 
URL:https://www.unexpectedproductions.org/event/improv-school-student-showcase-spring-24/2024-05-20/
LOCATION:Unexpected Productions\, 1428 Post Alley at the Gum Wall in Pike Place Market\, Seattle\, WA\, 98101\, United States
CATEGORIES:Student Showcase
ATTACH;FMTTYPE=image/jpeg:https://www.unexpectedproductions.org/wp-content/uploads/2024/05/eb-Student-Showcase-1.jpg
GEO:47.6083171;-122.3402179
X-APPLE-STRUCTURED-LOCATION;VALUE=URI;X-ADDRESS=Unexpected Productions 1428 Post Alley at the Gum Wall in Pike Place Market Seattle WA 98101 United States;X-APPLE-RADIUS=500;X-TITLE=1428 Post Alley at the Gum Wall in Pike Place Market:geo:-122.3402179,47.6083171
END:VEVENT
BEGIN:VEVENT
DTSTART;TZID=America/Los_Angeles:20240519T190000
DTEND;TZID=America/Los_Angeles:20240519T200000
DTSTAMP:20260425T093113
CREATED:20240524T165003Z
LAST-MODIFIED:20240524T170852Z
UID:10003295-1716145200-1716148800@www.unexpectedproductions.org
SUMMARY:Under Pressure: A Workplace Improv
DESCRIPTION:Step into the world of high-pressure work situations with our talented improvisers every Sunday night at 7:00 pm. \nJoin us for an evening filled with captivating drama\, exhilarating twists\, and thrilling surprises at every turn. Our improvisers immerse you in the intense stakes of the workplace\, where every decision carries weight and every moment is filled with tension. \nThis improv show is a must-see for fans of gripping television dramas like The Bear\, Severance\, or Barry. Witness our characters navigate the complexities of their humanity\, triumphing over obstacles in both their work and personal lives. \nDon’t miss out on this thrilling journey through the highs and lows of the job. Get your tickets now and be part of the excitement! \nTickets Here
URL:https://www.unexpectedproductions.org/event/under-pressure-a-workplace-improv-7/2024-05-19/
LOCATION:Unexpected Productions\, 1428 Post Alley at the Gum Wall in Pike Place Market\, Seattle\, WA\, 98101\, United States
ATTACH;FMTTYPE=image/jpeg:https://www.unexpectedproductions.org/wp-content/uploads/2024/05/Under-Pressure-Eventbrite-low-1-scaled.jpg
END:VEVENT
BEGIN:VEVENT
DTSTART;TZID=America/Los_Angeles:20240518T213000
DTEND;TZID=America/Los_Angeles:20240518T230000
DTSTAMP:20260425T093113
CREATED:20260424T183826Z
LAST-MODIFIED:20260424T183826Z
UID:10012555-1716067800-1716073200@www.unexpectedproductions.org
SUMMARY:Seattle Theatresports Improv  2024
DESCRIPTION:As you enter the Gum Wall\, you’ll notice a buzz of excitement in the air. Everyone here is gathered to have a good time and laugh. Families of all ages are lining up at the concession stand\, where you can smell the fresh buttered popcorn\, and over at the bar\, they are serving icy and inexpensive drinks. \nWhen you enter the theater\, you’ll feel the music’s beat. You’re experiencing Theatresports\, a high-energy improv show where teams of improv professionals create spontaneous scenes that are so hilarious\, quick-witted\, and perfectly constructed that it’s hard to believe they are made up on the spot. \nJoin us every Friday and Saturday at the Gum Wall in Pike Place Market\, with doors opening at 9 PM and the show starting at 9:30 PM. \nTheaterSports\, all the way! They are goofy\, silly\, funny\, unabashed\, clever\, witty people. I didn’t know what to expect before going but found myself laughing at practically everything they did or said. This is improv comedy at its finest. Lea A.\, 5 stars\, Yelp
URL:https://www.unexpectedproductions.org/event/seattle-theatresports-improv-2024-20/
LOCATION:Unexpected Productions Market Theater\, 1428 Post Alley\, Seattle\, WA\, 98101\, United States
ATTACH;FMTTYPE=image/jpeg:https://www.unexpectedproductions.org/wp-content/uploads/2024/01/a816bf803d115ea8079a46465d66ed8d.jpg
END:VEVENT
BEGIN:VEVENT
DTSTART;TZID=America/Los_Angeles:20240518T213000
DTEND;TZID=America/Los_Angeles:20240518T230000
DTSTAMP:20260425T093113
CREATED:20240103T214623Z
LAST-MODIFIED:20240613T161629Z
UID:10001155-1716067800-1716073200@www.unexpectedproductions.org
SUMMARY:Seattle Theatresports Improv  2024
DESCRIPTION:As you enter the Gum Wall\, you’ll notice a buzz of excitement in the air. Everyone here is gathered to have a good time and laugh. Families of all ages are lining up at the concession stand\, where you can smell the fresh buttered popcorn\, and over at the bar\, they are serving icy and inexpensive drinks. \nWhen you enter the theater\, you’ll feel the music’s beat. You’re experiencing Theatresports\, a high-energy improv show where teams of improv professionals create spontaneous scenes that are so hilarious\, quick-witted\, and perfectly constructed that it’s hard to believe they are made up on the spot. \nJoin us every Friday and Saturday at the Gum Wall in Pike Place Market\, with doors opening at 9 PM and the show starting at 9:30 PM. \nTheaterSports\, all the way! They are goofy\, silly\, funny\, unabashed\, clever\, witty people. I didn’t know what to expect before going but found myself laughing at practically everything they did or said. This is improv comedy at its finest. Lea A.\, 5 stars\, Yelp
URL:https://www.unexpectedproductions.org/event/seattle-theatresports-improv-2024-24/2024-05-18/
LOCATION:Unexpected Productions Market Theater\, 1428 Post Alley\, Seattle\, WA\, 98101\, United States
ATTACH;FMTTYPE=image/jpeg:https://www.unexpectedproductions.org/wp-content/uploads/2024/01/a816bf803d115ea8079a46465d66ed8d.jpg
END:VEVENT
END:VCALENDAR