BEGIN:VCALENDAR
VERSION:2.0
PRODID:-//Unexpected Productions - ECPv6.15.20//NONSGML v1.0//EN
CALSCALE:GREGORIAN
METHOD:PUBLISH
X-ORIGINAL-URL:https://www.unexpectedproductions.org
X-WR-CALDESC:Events for Unexpected Productions
REFRESH-INTERVAL;VALUE=DURATION:PT1H
X-Robots-Tag:noindex
X-PUBLISHED-TTL:PT1H
BEGIN:VTIMEZONE
TZID:America/Los_Angeles
BEGIN:DAYLIGHT
TZOFFSETFROM:-0800
TZOFFSETTO:-0700
TZNAME:PDT
DTSTART:20250309T100000
END:DAYLIGHT
BEGIN:STANDARD
TZOFFSETFROM:-0700
TZOFFSETTO:-0800
TZNAME:PST
DTSTART:20251102T090000
END:STANDARD
BEGIN:DAYLIGHT
TZOFFSETFROM:-0800
TZOFFSETTO:-0700
TZNAME:PDT
DTSTART:20260308T100000
END:DAYLIGHT
BEGIN:STANDARD
TZOFFSETFROM:-0700
TZOFFSETTO:-0800
TZNAME:PST
DTSTART:20261101T090000
END:STANDARD
BEGIN:DAYLIGHT
TZOFFSETFROM:-0800
TZOFFSETTO:-0700
TZNAME:PDT
DTSTART:20270314T100000
END:DAYLIGHT
BEGIN:STANDARD
TZOFFSETFROM:-0700
TZOFFSETTO:-0800
TZNAME:PST
DTSTART:20271107T090000
END:STANDARD
END:VTIMEZONE
BEGIN:VEVENT
DTSTART;TZID=America/Los_Angeles:20260601T190000
DTEND;TZID=America/Los_Angeles:20260601T213000
DTSTAMP:20260419T173148
CREATED:20260410T020634Z
LAST-MODIFIED:20260410T020634Z
UID:10011603-1780340400-1780349400@www.unexpectedproductions.org
SUMMARY:Advanced Acting for Improvisers with Cynthia Lair
DESCRIPTION:Advanced Acting for Improvisers with Cynthia Lair\nStarting 6/1 Mondays. 7:00pm – 9:30pm \n“The best way to find more honesty and depth in improvisational work is through repetition. In this advanced workshop\, we will continue making moment-to-moment responses more habitual. Pursuing wants in a variety of ways will be another focus. Applying these good practices to scenes that involve more than two performers allows for exploring more generosity and fuller stories. And lastly\, finding our way toward strong endings sparks satisfaction for the performer and the audience. We will work on all these techniques\, with care and respect\, in the advanced version of this helpful class\,” Cynthia Lair. \nPick up where you left off in Cynthia’s Acting for Improvisers in this Advanced class. Designed for students who studied with Cynthia\, continue refining your acting skills as an improviser in Advanced Acting for Improvisers. \nThe best way to find more honesty and depth in improvisational work is through repetition. In this advanced workshop we will continue focusing on making moment-to-moment responses more habitual. Pursuing wants in a variety of ways will be another focus. Applying these good practices to scenes that involve more than two performers gives opportunity to explore more generosity and fuller stories. And lastly\, finding our way toward strong endings sparks satisfaction for the performer and the audience. We will work on all of these techniques\, with care and respect\, in the advanced version of Acting for Improvisers.\nRequirement: Acting for Improvisers class\nTime: 7:00pm – 9:30 pm\nLocation: Unexpected Productions Improv School\, Georgetown Studios\, 650 South Orcas\, Suite101 Seattle\, WA 98108 https://goo.gl/CMCRQp\nMaximum Students: 14\nCost: $150\nPrerequisite: Improv 200 and Acting for Improvisers\nAges: 18+\nInstructor:\nCynthia Lair began her life as an actress with a B.A. in theater. From there she became an acting apprentice at the Actors Theater of Louisville\, followed by professional roles in regional theaters. After moving to NYC she continued her training with Uta Hagen and her performing with on-stage roles and on-camera roles in numerous national commercials. Some of her favorite theater roles\, The Kathy & Mo Show\, The Glass Menagerie\, and Hard Times came after moving to Seattle. Her theater work combined with improv training has led to much fun in improvised plays such as Four Hearts\, Shakespeare Unexpected\, Atomic Sci Fi\, A Shadow in the Doorway\, and Austen Unbound. Cynthia has been an ensemble member and teacher at Unexpected Productions since 2015.
URL:https://www.unexpectedproductions.org/event/advanced-acting-for-improvisers-with-cynthia-lair-2-2-2/
LOCATION:Unexpected Productions\, 1428 Post Alley at the Gum Wall in Pike Place Market\, Seattle\, WA\, 98101\, United States
ATTACH;FMTTYPE=image/jpeg:https://www.unexpectedproductions.org/wp-content/uploads/2026/04/Cynthia-Web.jpg
END:VEVENT
END:VCALENDAR