BEGIN:VCALENDAR
VERSION:2.0
PRODID:-//Unexpected Productions - ECPv6.15.20//NONSGML v1.0//EN
CALSCALE:GREGORIAN
METHOD:PUBLISH
X-WR-CALNAME:Unexpected Productions
X-ORIGINAL-URL:https://www.unexpectedproductions.org
X-WR-CALDESC:Events for Unexpected Productions
REFRESH-INTERVAL;VALUE=DURATION:PT1H
X-Robots-Tag:noindex
X-PUBLISHED-TTL:PT1H
BEGIN:VTIMEZONE
TZID:America/Los_Angeles
BEGIN:DAYLIGHT
TZOFFSETFROM:-0800
TZOFFSETTO:-0700
TZNAME:PDT
DTSTART:20250309T100000
END:DAYLIGHT
BEGIN:STANDARD
TZOFFSETFROM:-0700
TZOFFSETTO:-0800
TZNAME:PST
DTSTART:20251102T090000
END:STANDARD
BEGIN:DAYLIGHT
TZOFFSETFROM:-0800
TZOFFSETTO:-0700
TZNAME:PDT
DTSTART:20260308T100000
END:DAYLIGHT
BEGIN:STANDARD
TZOFFSETFROM:-0700
TZOFFSETTO:-0800
TZNAME:PST
DTSTART:20261101T090000
END:STANDARD
BEGIN:DAYLIGHT
TZOFFSETFROM:-0800
TZOFFSETTO:-0700
TZNAME:PDT
DTSTART:20270314T100000
END:DAYLIGHT
BEGIN:STANDARD
TZOFFSETFROM:-0700
TZOFFSETTO:-0800
TZNAME:PST
DTSTART:20271107T090000
END:STANDARD
END:VTIMEZONE
BEGIN:VEVENT
DTSTART;TZID=America/Los_Angeles:20260422T190000
DTEND;TZID=America/Los_Angeles:20260422T194500
DTSTAMP:20260419T053844
CREATED:20260302T222039Z
LAST-MODIFIED:20260302T222148Z
UID:10010148-1776884400-1776887100@www.unexpectedproductions.org
SUMMARY:Improv Greenhouse
DESCRIPTION:Get ready to be surprised\, delighted\, and maybe even see your wildest idea take on a life of its own!\n\n\n\nGraduate Greenhouse is a Wednesday night showcase featuring alumni from Unexpected Productions Improv School. Each performance highlights a different alumni group\, putting their training to the test with unpredictable scenes\, various formats\, and improvised stories. From long-form storytelling to character work\, these performers explore the boundaries of improv. \nJan 7 Market Improv \nJan 14 \nJan 21 \nBut the fun doesn’t stop there! Stick around for a double feature as we roll into Seattle’s longest-running Improv Open Mic: the Duos Open Mic! Starting at 8:00 pm\, this weekly showcase promises even more laughs\, surprises\, and improv magic.
URL:https://www.unexpectedproductions.org/event/graduate-greenhouse-fka-an-improvised-holiday-special-2-2-2/2026-04-22/
LOCATION:Unexpected Productions\, 1428 Post Alley at the Gum Wall in Pike Place Market\, Seattle\, WA\, 98101\, United States
ATTACH;FMTTYPE=image/jpeg:https://www.unexpectedproductions.org/wp-content/uploads/2026/01/611744788_25834828646123545_7391804144568306027_n.jpg
END:VEVENT
BEGIN:VEVENT
DTSTART;TZID=America/Los_Angeles:20260422T190000
DTEND;TZID=America/Los_Angeles:20260422T194500
DTSTAMP:20260419T053844
CREATED:20260302T222645Z
LAST-MODIFIED:20260302T222857Z
UID:10011472-1776884400-1776887100@www.unexpectedproductions.org
SUMMARY:700 Level Student Showcase
DESCRIPTION:Witness the creation of believable characters\, inspiring scenes\, and some improv magic by 700 level class.\n\n\n\nJoin the advanced students in our 700 class and witness them blossom with new improv skills. Under the guidance of our expert improv teachers\, 700 students are learning new narrative formats and enhancing their skills by working in an ensemble. You get to see the fruits of their efforts by witnessing the creation of believable characters\, inspiring scenes\, and some improv magic.
URL:https://www.unexpectedproductions.org/event/700-level-student-showcase-2/2026-04-22/
LOCATION:Unexpected Productions\, 1428 Post Alley at the Gum Wall in Pike Place Market\, Seattle\, WA\, 98101\, United States
ATTACH;FMTTYPE=image/jpeg:https://www.unexpectedproductions.org/wp-content/uploads/2024/10/700.jpg
END:VEVENT
BEGIN:VEVENT
DTSTART;TZID=America/Los_Angeles:20260422T190000
DTEND;TZID=America/Los_Angeles:20260422T210000
DTSTAMP:20260419T053844
CREATED:20260210T212836Z
LAST-MODIFIED:20260311T220540Z
UID:10011450-1776884400-1776891600@www.unexpectedproductions.org
SUMMARY:Improvised Musical Style and Lyrics with Ron Hippe - Issaquah
DESCRIPTION:Find Your Voice\, Build Your Confidence\, and Create Songs on the Spot!\n\n\n\nNow at Unexpected Productions’ new Issaquah location\, unlock your creativity in a supportive\, playful\, and joy-filled class designed for anyone who’s ever hummed in the car\, belted in the shower\, or wondered\, “How do musical improvisers make that magic happen?” \nWhether you’re a seasoned improviser or stepping into musical improv for the first time\, this course welcomes you with open arms—no prior singing experience required. \nWhat You’ll Learn\nThis intensive\, dynamic class explores the foundational skills of musical improvisation through hands-on practice and group collaboration. You’ll learn how to: \n\nCreate songs and stories in the moment\nUnderstand classic song forms and how they apply to improv\nStrengthen your sense of timing\, rhythm\, and rhyme\nTurn simple prompts into memorable choruses\nBuild lyrics that feel poetic\, emotional\, or downright hilarious\nJump confidently between styles—from Broadway to jazz\, pop to chants\n\nIt’s fun\, supportive\, and incredibly energizing. You’ll be surprised at what you can create with your classmates—often within minutes. Unexpected Productions Improv School is thrilled to bring our newest Eastside improv classes to Issaquah\, serving the communities of the Sammamish Plateau\, East Renton\, Bellevue\, Snoqualmie Valley\, Northbend and beyond. \nClass Details\nDates: Four (4) Wednesdays \nTime: 7:00pm–9:00pm \nLocation: Unexpected Productions – Issaquah \n1315 NW Mall Street\, Suite 4\, Issaquah\, WA 98027 (next to the Gaslamp Bar and Grill) \nMaximum Students: 16 \nCost: $270 ($282.29 with fees
URL:https://www.unexpectedproductions.org/event/improvised-musical-style-and-lyrics-with-ron-hippe-issaquah-2/
LOCATION:Unexpected Productions Improv School ISSAQUAH/EASTSIDE\, 1315 NW Mall Street\, Suite 4\, Issaquah\, WA\, 98108\, United States
ATTACH;FMTTYPE=image/jpeg:https://www.unexpectedproductions.org/wp-content/uploads/2026/02/480205679_623217767332639_4498095116396503644_n.jpg
GEO:47.5520122;-122.3251523
X-APPLE-STRUCTURED-LOCATION;VALUE=URI;X-ADDRESS=Unexpected Productions Improv School ISSAQUAH/EASTSIDE 1315 NW Mall Street Suite 4 Issaquah WA 98108 United States;X-APPLE-RADIUS=500;X-TITLE=1315 NW Mall Street\, Suite 4:geo:-122.3251523,47.5520122
END:VEVENT
BEGIN:VEVENT
DTSTART;TZID=America/Los_Angeles:20260422T190000
DTEND;TZID=America/Los_Angeles:20260422T210000
DTSTAMP:20260419T053844
CREATED:20260331T175645Z
LAST-MODIFIED:20260401T173133Z
UID:10011546-1776884400-1776891600@www.unexpectedproductions.org
SUMMARY:Improvised Musical Style and Lyrics Class with Ron Hippe
DESCRIPTION:Find Your Voice\, Build Your Confidence\, and Create Songs on the Spot! \n\n\n\n\nNow at Unexpected Productions’ new Issaquah location\, unlock your creativity in a supportive\, playful\, and joy-filled class designed for anyone who’s ever hummed in the car\, belted in the shower\, or wondered\, “How do musical improvisers make that magic happen?” \nWhether you’re a seasoned improviser or stepping into musical improv for the first time\, this course welcomes you with open arms—no prior singing experience required. \nWhat You’ll Learn\nThis intensive\, dynamic class explores the foundational skills of musical improvisation through hands-on practice and group collaboration. You’ll learn how to: \n\nCreate songs and stories in the moment\nUnderstand classic song forms and how they apply to improv\nStrengthen your sense of timing\, rhythm\, and rhyme\nTurn simple prompts into memorable choruses\nBuild lyrics that feel poetic\, emotional\, or downright hilarious\nJump confidently between styles—from Broadway to jazz\, pop to chants\n\nIt’s fun\, supportive\, and incredibly energizing. You’ll be surprised at what you can create with your classmates—often within minutes. Unexpected Productions Improv School is thrilled to bring our newest Eastside improv classes to Issaquah\, serving the communities of the Sammamish Plateau\, East Renton\, Bellevue\, Snoqualmie Valley\, North Bend and beyond. \nClass Details\nDates: Four (4) Wednesdays \nTime: 7:00pm–9:00pm \nLocation: Unexpected Productions – Issaquah \n1315 NW Mall Street\, Suite 4\, Issaquah\, WA 98027 (next to the Gaslamp Bar and Grill) \nMaximum Students: 16 \nCost: $270 \nInstructor: Ron Hippe \nRon Hippe joined Unexpected Productions in 1990 and has performed globally—from San Francisco to London and Vienna. He has appeared on Broadway in the Pulitzer Prize-winning The Kentucky Cycle and worked with Seattle Rep\, ACT\, and Intiman. Ron is also a veteran voice-over artist\, actor\, musician\, and singer-songwriter. His teaching style is upbeat\, encouraging\, and rooted in decades of professional experience. \nCancellation Policy:\nWe are unable to offer refunds.
URL:https://www.unexpectedproductions.org/event/improvised-musical-style-and-lyrics-class-with-ron-hippe/
LOCATION:Unexpected Productions Improv School ISSAQUAH/EASTSIDE\, 1315 NW Mall Street\, Suite 4\, Issaquah\, WA\, 98108\, United States
ATTACH;FMTTYPE=image/jpeg:https://www.unexpectedproductions.org/wp-content/uploads/2026/04/Ron.jpg
GEO:47.5520122;-122.3251523
X-APPLE-STRUCTURED-LOCATION;VALUE=URI;X-ADDRESS=Unexpected Productions Improv School ISSAQUAH/EASTSIDE 1315 NW Mall Street Suite 4 Issaquah WA 98108 United States;X-APPLE-RADIUS=500;X-TITLE=1315 NW Mall Street\, Suite 4:geo:-122.3251523,47.5520122
END:VEVENT
BEGIN:VEVENT
DTSTART;TZID=America/Los_Angeles:20260422T200000
DTEND;TZID=America/Los_Angeles:20260422T213000
DTSTAMP:20260419T053844
CREATED:20251204T002535Z
LAST-MODIFIED:20251204T002535Z
UID:10009847-1776888000-1776893400@www.unexpectedproductions.org
SUMMARY:Duo Comedy Showcase 2026
DESCRIPTION:Seattle’s one and only open mic dedicated to two-person improv teams! Every week at Unexpected Productions\, two-person teams take the stage to create hilarious\, fast-paced\, totally unscripted comedy right before your eyes. No scripts\, no safety nets—just pure improv magic. \nAt Duos\, everyone shines. Newer performers sharpen their game. Seasoned improvisers experiment\, take risks\, and get wonderfully weird. The results? Quick-witted scenes\, surprising twists\, and bold choices that feel impossible until you watch them happen live. \nWhether you dream of being the next Key & Peele\, Tina Fey & Amy Poehler\, or a chaotic tag-team like Deadpool & Wolverine\, this is your chance to take the mic and run with it. All experience levels are welcome. Bring a friend\, form a team\, and give Seattle a show they won’t forget. To sign up your duo\, email duoshowcase@gmail.com. \nLooking for a midweek serotonin boost? Watching the show is just as fun as performing in it. Grab a seat\, grab a friend\, and discover why Unexpected Productions is the home of Seattle improv.
URL:https://www.unexpectedproductions.org/event/duo-comedy-showcase-2026/2026-04-22/
LOCATION:Unexpected Productions\, 1428 Post Alley at the Gum Wall in Pike Place Market\, Seattle\, WA\, 98101\, United States
ATTACH;FMTTYPE=image/jpeg:https://www.unexpectedproductions.org/wp-content/uploads/2024/12/200-px-by-250-px-DUOs-.jpg
END:VEVENT
END:VCALENDAR