BEGIN:VCALENDAR
VERSION:2.0
PRODID:-//Unexpected Productions - ECPv6.15.20//NONSGML v1.0//EN
CALSCALE:GREGORIAN
METHOD:PUBLISH
X-WR-CALNAME:Unexpected Productions
X-ORIGINAL-URL:https://www.unexpectedproductions.org
X-WR-CALDESC:Events for Unexpected Productions
REFRESH-INTERVAL;VALUE=DURATION:PT1H
X-Robots-Tag:noindex
X-PUBLISHED-TTL:PT1H
BEGIN:VTIMEZONE
TZID:America/Los_Angeles
BEGIN:DAYLIGHT
TZOFFSETFROM:-0800
TZOFFSETTO:-0700
TZNAME:PDT
DTSTART:20250309T100000
END:DAYLIGHT
BEGIN:STANDARD
TZOFFSETFROM:-0700
TZOFFSETTO:-0800
TZNAME:PST
DTSTART:20251102T090000
END:STANDARD
BEGIN:DAYLIGHT
TZOFFSETFROM:-0800
TZOFFSETTO:-0700
TZNAME:PDT
DTSTART:20260308T100000
END:DAYLIGHT
BEGIN:STANDARD
TZOFFSETFROM:-0700
TZOFFSETTO:-0800
TZNAME:PST
DTSTART:20261101T090000
END:STANDARD
BEGIN:DAYLIGHT
TZOFFSETFROM:-0800
TZOFFSETTO:-0700
TZNAME:PDT
DTSTART:20270314T100000
END:DAYLIGHT
BEGIN:STANDARD
TZOFFSETFROM:-0700
TZOFFSETTO:-0800
TZNAME:PST
DTSTART:20271107T090000
END:STANDARD
END:VTIMEZONE
BEGIN:VEVENT
DTSTART;TZID=America/Los_Angeles:20260416T200000
DTEND;TZID=America/Los_Angeles:20260416T211500
DTSTAMP:20260419T194800
CREATED:20260410T023404Z
LAST-MODIFIED:20260410T023404Z
UID:10011604-1776369600-1776374100@www.unexpectedproductions.org
SUMMARY:Pratidhwani and Unexpected Productions Present Improv-Asana
DESCRIPTION:What happens when South Asian artistry meets Seattle’s longest-running improv tradition? Nobody knows. That’s the whole point. \n\n\n\n\nOn Thursday\, April 16th\, 8:00 PM\, Pratidhwani and Unexpected Productions are sharing a stage for the first and only time\, and you’re not just watching. You’re part of it. \nFor more than 20 years\, Pratidhwani has championed South Asian performing artists and built community through the power of live performance. Since 1983\, Unexpected Productions has been turning audience suggestions into full-blown theatrical moments. Together\, we’re bringing two distinct creative worlds into the same room to see what sparks\, and\, given the talent involved\, there’s going to be a lot of laughter. \nAnasuya (Ana) Basu\, Anise Rau\, Gauri Shringarpure\, Ronak Sharma\, Siddhant Sharma\, and Sumant Gupta \nDirected by Siddhant Sharma \nYour suggestions\, your joy\, and your ideas are the fuel. These artists will take whatever you throw at them and turn it into something that will suprise everyone… and make you laugh out loud while doing it!
URL:https://www.unexpectedproductions.org/event/pratidhwani-and-unexpected-productions-present-improv-asana/
LOCATION:Unexpected Productions\, 1428 Post Alley at the Gum Wall in Pike Place Market\, Seattle\, WA\, 98101\, United States
ATTACH;FMTTYPE=image/jpeg:https://www.unexpectedproductions.org/wp-content/uploads/2026/04/Improvasana-2080x1080-1.jpg
END:VEVENT
BEGIN:VEVENT
DTSTART;TZID=America/Los_Angeles:20260416T200000
DTEND;TZID=America/Los_Angeles:20260416T213000
DTSTAMP:20260419T194800
CREATED:20251204T005447Z
LAST-MODIFIED:20251230T165100Z
UID:10010082-1776369600-1776375000@www.unexpectedproductions.org
SUMMARY:Loose Cannons 2026
DESCRIPTION:Loose Cannons is Seattle improv at its most unpredictable. Every performance at Unexpected Productions in Pike Place Market is a one-of-a-kind experience: exciting\, unexpected\, a little dangerous\, and always ridiculously fun. This is the show where anything can happen and usually does. \nPart One: Part One: The night kicks off with a unique performance\, setting the performers in a new format with special guest improvisers showcasing their signature style or a never-before-seen format. Your suggestions fuel the fire\, and the improvisers will ignite the stage\, bringing your ideas to life. \nPart Two: The second half launches from a single audience suggestion\, setting the performers in motion. It might start with a song\, a monologue\, or a rapid-fire group connection game. Whatever emerges will inspire spontaneous stories\, surprising twists\, and big comedic swings. \nLoose Cannons is fueled by audience ideas\, fearless performers\, and the thrill of not knowing what happens next. You light the fuse. They run with it. What they create is entirely up to you.
URL:https://www.unexpectedproductions.org/event/loose-cannons-2026/2026-04-16/
LOCATION:Unexpected Productions\, 1428 Post Alley at the Gum Wall in Pike Place Market\, Seattle\, WA\, 98101\, United States
ATTACH;FMTTYPE=image/jpeg:https://www.unexpectedproductions.org/wp-content/uploads/2024/02/cannon_px-lrg-250x200-1-2.jpg
END:VEVENT
END:VCALENDAR