BEGIN:VCALENDAR
VERSION:2.0
PRODID:-//Unexpected Productions - ECPv6.15.20//NONSGML v1.0//EN
CALSCALE:GREGORIAN
METHOD:PUBLISH
X-ORIGINAL-URL:https://www.unexpectedproductions.org
X-WR-CALDESC:Events for Unexpected Productions
REFRESH-INTERVAL;VALUE=DURATION:PT1H
X-Robots-Tag:noindex
X-PUBLISHED-TTL:PT1H
BEGIN:VTIMEZONE
TZID:America/Los_Angeles
BEGIN:DAYLIGHT
TZOFFSETFROM:-0800
TZOFFSETTO:-0700
TZNAME:PDT
DTSTART:20250309T100000
END:DAYLIGHT
BEGIN:STANDARD
TZOFFSETFROM:-0700
TZOFFSETTO:-0800
TZNAME:PST
DTSTART:20251102T090000
END:STANDARD
BEGIN:DAYLIGHT
TZOFFSETFROM:-0800
TZOFFSETTO:-0700
TZNAME:PDT
DTSTART:20260308T100000
END:DAYLIGHT
BEGIN:STANDARD
TZOFFSETFROM:-0700
TZOFFSETTO:-0800
TZNAME:PST
DTSTART:20261101T090000
END:STANDARD
BEGIN:DAYLIGHT
TZOFFSETFROM:-0800
TZOFFSETTO:-0700
TZNAME:PDT
DTSTART:20270314T100000
END:DAYLIGHT
BEGIN:STANDARD
TZOFFSETFROM:-0700
TZOFFSETTO:-0800
TZNAME:PST
DTSTART:20271107T090000
END:STANDARD
END:VTIMEZONE
BEGIN:VEVENT
DTSTART;TZID=America/Los_Angeles:20260201T190000
DTEND;TZID=America/Los_Angeles:20260201T201500
DTSTAMP:20260420T204413
CREATED:20260120T172714Z
LAST-MODIFIED:20260126T202149Z
UID:10011183-1769972400-1769976900@www.unexpectedproductions.org
SUMMARY:Black Ice: An American Sitcom Improvised
DESCRIPTION:Welcome to our live studio audience! Be a part of an improvised television sitcom in the style of Norman Lear.\n\n\n\nOur talented improvisers will use your suggestions to create an unforgettable show that will have you laughing out loud. Norman Lear was a legendary producer and writer of popular 1970s sitcoms such as All in the Family\, Maude\, The Jeffersons\, and Good Times. His shows were known for introducing political and social themes to the sitcom format. As our audience\, you have the important role of providing the laugh track and suggestions to make this show a success. So let’s work together to create a hilarious American Sitcom that will be talked about for years to come!
URL:https://www.unexpectedproductions.org/event/black-ice-an-american-sitcom-improvised/2026-02-01/
LOCATION:Unexpected Productions\, 1428 Post Alley at the Gum Wall in Pike Place Market\, Seattle\, WA\, 98101\, United States
ATTACH;FMTTYPE=image/jpeg:https://www.unexpectedproductions.org/wp-content/uploads/2026/01/Black-Ice-Poster-2025-Small.jpg
END:VEVENT
END:VCALENDAR