BEGIN:VCALENDAR
VERSION:2.0
PRODID:-//Unexpected Productions - ECPv6.15.20//NONSGML v1.0//EN
CALSCALE:GREGORIAN
METHOD:PUBLISH
X-ORIGINAL-URL:https://www.unexpectedproductions.org
X-WR-CALDESC:Events for Unexpected Productions
REFRESH-INTERVAL;VALUE=DURATION:PT1H
X-Robots-Tag:noindex
X-PUBLISHED-TTL:PT1H
BEGIN:VTIMEZONE
TZID:America/Los_Angeles
BEGIN:DAYLIGHT
TZOFFSETFROM:-0800
TZOFFSETTO:-0700
TZNAME:PDT
DTSTART:20250309T100000
END:DAYLIGHT
BEGIN:STANDARD
TZOFFSETFROM:-0700
TZOFFSETTO:-0800
TZNAME:PST
DTSTART:20251102T090000
END:STANDARD
BEGIN:DAYLIGHT
TZOFFSETFROM:-0800
TZOFFSETTO:-0700
TZNAME:PDT
DTSTART:20260308T100000
END:DAYLIGHT
BEGIN:STANDARD
TZOFFSETFROM:-0700
TZOFFSETTO:-0800
TZNAME:PST
DTSTART:20261101T090000
END:STANDARD
BEGIN:DAYLIGHT
TZOFFSETFROM:-0800
TZOFFSETTO:-0700
TZNAME:PDT
DTSTART:20270314T100000
END:DAYLIGHT
BEGIN:STANDARD
TZOFFSETFROM:-0700
TZOFFSETTO:-0800
TZNAME:PST
DTSTART:20271107T090000
END:STANDARD
END:VTIMEZONE
BEGIN:VEVENT
DTSTART;TZID=America/Los_Angeles:20260124T193000
DTEND;TZID=America/Los_Angeles:20260124T204500
DTSTAMP:20260420T114505
CREATED:20251230T164247Z
LAST-MODIFIED:20251230T164247Z
UID:10010056-1769283000-1769287500@www.unexpectedproductions.org
SUMMARY:Mixtape: An Improvised Playlist
DESCRIPTION:Get ready for a one-of-a-kind night of improvised musical chaos and creativity! \nJoin us for Musical Improv Madness\, where our hilarious cast teams up with a live musician to create a completely unique playlist—inspired by you. \nYou call the shots: pick the vibe\, the lyrics\, and the beats\, and watch the magic happen. Don’t worry; our friendly host will keep it fun\, chill\, and vibes-only. Whether you’re into pop\, rap\, emo ballads\, musicalor something in between\, we’ll bring your ideas to life in the most unexpected (and unforgettable) way. \nDon’t miss it—your playlist dreams are waiting to drop. Let’s make some noise!
URL:https://www.unexpectedproductions.org/event/mixtape-an-improvised-playlist-2/2026-01-24/
LOCATION:Unexpected Productions\, 1428 Post Alley at the Gum Wall in Pike Place Market\, Seattle\, WA\, 98101\, United States
END:VEVENT
BEGIN:VEVENT
DTSTART;TZID=America/Los_Angeles:20260124T213000
DTEND;TZID=America/Los_Angeles:20260124T230000
DTSTAMP:20260420T114505
CREATED:20260123T174220Z
LAST-MODIFIED:20260123T174348Z
UID:10011082-1769290200-1769295600@www.unexpectedproductions.org
SUMMARY:Seattle Theatresports 2026
DESCRIPTION:Seattle’s high-energy improv battle where your suggestions shape every scene. Fast\, funny\, unpredictable comedy Fri. & Sat. 9:30\n\n\n\nWelcome to Seattle’s funnest improv comedy show\, a high-energy\, no-rules showdown where your ideas shape every scene. Seattle Theatresports at Unexpected Productions’ Market Theater in Pike Place Market is part comedy battle\, part game night\, and completely powered by the crowd. Boo the judges. Cheer the Gum Wall race and laugh til it hurts! \nEvery show\, two teams of top Seattle improvisers go head to head\, performing games\, stories\, characters\, and scenes inspired entirely by your suggestions. Judges score the rounds\, decide the winners\, and shape the fun (as we boo them). No scripts. No safety nets. Just fast thinking\, bold choices\, and pure creative mayhem. \nThis isn’t your parents’ improv show\, unless your parents were super cool.
URL:https://www.unexpectedproductions.org/event/seattle-theatresports-2026-test/2026-01-24/
LOCATION:Unexpected Productions\, 1428 Post Alley at the Gum Wall in Pike Place Market\, Seattle\, WA\, 98101\, United States
ATTACH;FMTTYPE=image/jpeg:https://www.unexpectedproductions.org/wp-content/uploads/2026/01/Theatresports-Yellow-Small.jpg
END:VEVENT
END:VCALENDAR