BEGIN:VCALENDAR
VERSION:2.0
PRODID:-//Unexpected Productions - ECPv6.15.20//NONSGML v1.0//EN
CALSCALE:GREGORIAN
METHOD:PUBLISH
X-ORIGINAL-URL:https://www.unexpectedproductions.org
X-WR-CALDESC:Events for Unexpected Productions
REFRESH-INTERVAL;VALUE=DURATION:PT1H
X-Robots-Tag:noindex
X-PUBLISHED-TTL:PT1H
BEGIN:VTIMEZONE
TZID:America/Los_Angeles
BEGIN:DAYLIGHT
TZOFFSETFROM:-0800
TZOFFSETTO:-0700
TZNAME:PDT
DTSTART:20240310T100000
END:DAYLIGHT
BEGIN:STANDARD
TZOFFSETFROM:-0700
TZOFFSETTO:-0800
TZNAME:PST
DTSTART:20241103T090000
END:STANDARD
BEGIN:DAYLIGHT
TZOFFSETFROM:-0800
TZOFFSETTO:-0700
TZNAME:PDT
DTSTART:20250309T100000
END:DAYLIGHT
BEGIN:STANDARD
TZOFFSETFROM:-0700
TZOFFSETTO:-0800
TZNAME:PST
DTSTART:20251102T090000
END:STANDARD
BEGIN:DAYLIGHT
TZOFFSETFROM:-0800
TZOFFSETTO:-0700
TZNAME:PDT
DTSTART:20260308T100000
END:DAYLIGHT
BEGIN:STANDARD
TZOFFSETFROM:-0700
TZOFFSETTO:-0800
TZNAME:PST
DTSTART:20261101T090000
END:STANDARD
END:VTIMEZONE
BEGIN:VEVENT
DTSTART;VALUE=DATE:20251127
DTEND;VALUE=DATE:20251128
DTSTAMP:20260424T074702
CREATED:20251014T165345Z
LAST-MODIFIED:20251014T171145Z
UID:10008272-1764201600-1764287999@www.unexpectedproductions.org
SUMMARY:Thanksgiving Day - CLOSED
DESCRIPTION:
URL:https://www.unexpectedproductions.org/event/thanksgiving-day-closed-2/
LOCATION:Unexpected Productions\, 1428 Post Alley at the Gum Wall in Pike Place Market\, Seattle\, WA\, 98101\, United States
END:VEVENT
BEGIN:VEVENT
DTSTART;TZID=America/Los_Angeles:20251127T193000
DTEND;TZID=America/Los_Angeles:20251127T204500
DTSTAMP:20260424T074702
CREATED:20251113T074414Z
LAST-MODIFIED:20251204T010231Z
UID:10009996-1764271800-1764276300@www.unexpectedproductions.org
SUMMARY:An Improvised Christmas Carol
DESCRIPTION:It’s heartwarming\, it’s side-splitting\, and it’s the perfect holiday tradition for the whole family! \nAn Improvised Christmas Carol takes Dickens’ classic holiday tale and turns it into a fast-paced\, laugh-out-loud adventure where anything can happen. Guided by audience suggestions\, our talented cast creates an entirely unique performance every night\, blending over 30 unexpected ideas into a hilarious and heartwarming story. From surprising twists to brand-new characters\, no two shows are ever the same\, making this the perfect holiday tradition for the whole family. Don’t miss out—our final performance is on December 23. Don’t be a Scrooge—grab your tickets now! \nCreated by Randy Dixon and directed by Tony Beeman.
URL:https://www.unexpectedproductions.org/event/xmascarol2025/2025-11-27/
LOCATION:Unexpected Productions\, 1428 Post Alley at the Gum Wall in Pike Place Market\, Seattle\, WA\, 98101\, United States
ATTACH;FMTTYPE=image/jpeg:https://www.unexpectedproductions.org/wp-content/uploads/2018/08/Christmas-Big-2018.jpg
END:VEVENT
END:VCALENDAR