BEGIN:VCALENDAR
VERSION:2.0
PRODID:-//Unexpected Productions - ECPv6.15.20//NONSGML v1.0//EN
CALSCALE:GREGORIAN
METHOD:PUBLISH
X-WR-CALNAME:Unexpected Productions
X-ORIGINAL-URL:https://www.unexpectedproductions.org
X-WR-CALDESC:Events for Unexpected Productions
REFRESH-INTERVAL;VALUE=DURATION:PT1H
X-Robots-Tag:noindex
X-PUBLISHED-TTL:PT1H
BEGIN:VTIMEZONE
TZID:America/Los_Angeles
BEGIN:DAYLIGHT
TZOFFSETFROM:-0800
TZOFFSETTO:-0700
TZNAME:PDT
DTSTART:20240310T100000
END:DAYLIGHT
BEGIN:STANDARD
TZOFFSETFROM:-0700
TZOFFSETTO:-0800
TZNAME:PST
DTSTART:20241103T090000
END:STANDARD
BEGIN:DAYLIGHT
TZOFFSETFROM:-0800
TZOFFSETTO:-0700
TZNAME:PDT
DTSTART:20250309T100000
END:DAYLIGHT
BEGIN:STANDARD
TZOFFSETFROM:-0700
TZOFFSETTO:-0800
TZNAME:PST
DTSTART:20251102T090000
END:STANDARD
BEGIN:DAYLIGHT
TZOFFSETFROM:-0800
TZOFFSETTO:-0700
TZNAME:PDT
DTSTART:20260308T100000
END:DAYLIGHT
BEGIN:STANDARD
TZOFFSETFROM:-0700
TZOFFSETTO:-0800
TZNAME:PST
DTSTART:20261101T090000
END:STANDARD
END:VTIMEZONE
BEGIN:VEVENT
DTSTART;TZID=America/Los_Angeles:20251122T180000
DTEND;TZID=America/Los_Angeles:20251122T190000
DTSTAMP:20260424T074410
CREATED:20250127T194029Z
LAST-MODIFIED:20251204T010925Z
UID:10007324-1763834400-1763838000@www.unexpectedproductions.org
SUMMARY:Mouth Wide Shut: A Physical Improv Comedy
DESCRIPTION:The art of silent comedy with the unpredictable fun of improvisation. \nMouth Wide Shut is a love letter to the history of physical comedy and improvisational theater. Drawing inspiration from silent movies\, classical mime\, and contemporary groups like Blue Man Group and Cirque du Soleil\, it’s like a mashup of the best of the past and present that’s both nostalgic and cutting-edge. And the fact that you play such a crucial role in shaping the show makes it even more unique. \nIt’s not just about watching comedy; it’s about becoming part of the comedic journey. “Mouth Wide Shut” promises to be an evening where laughter knows no bounds and surprises lurk around every corner! This show is a delightful and unforgettable experience that promises to entertain audiences of all ages! \n“Mouth Wide Shut is clever and very funny.” Ryan D.\, 5 Stars Google \n“Went as a suggestion from a local. Best decision I’ve made in a whim! Such a good show…had an amazing cast\, kept me laughing the entire time. Would love to go again.” Terra M 5 Stars Google \n“This was the first time I’ve ever been to an improv show and I was definitely entertained. I had no clue what to expect and didn’t know how improv shows worked\, I just came in with an open mind and enjoyed every minute of it!” Kristina L. 5 Stars Yelp
URL:https://www.unexpectedproductions.org/event/mouth-wide-shut-a-physical-improv-comedy-2-2-2/2025-11-22/
LOCATION:Unexpected Productions\, 1428 Post Alley at the Gum Wall in Pike Place Market\, Seattle\, WA\, 98101\, United States
ATTACH;FMTTYPE=image/jpeg:https://www.unexpectedproductions.org/wp-content/uploads/2025/01/MWS-Jay.jpg
GEO:47.6083171;-122.3402179
X-APPLE-STRUCTURED-LOCATION;VALUE=URI;X-ADDRESS=Unexpected Productions 1428 Post Alley at the Gum Wall in Pike Place Market Seattle WA 98101 United States;X-APPLE-RADIUS=500;X-TITLE=1428 Post Alley at the Gum Wall in Pike Place Market:geo:-122.3402179,47.6083171
END:VEVENT
BEGIN:VEVENT
DTSTART;TZID=America/Los_Angeles:20251122T180000
DTEND;TZID=America/Los_Angeles:20251122T190000
DTSTAMP:20260424T074410
CREATED:20250424T154455Z
LAST-MODIFIED:20251204T010535Z
UID:10009997-1763834400-1763838000@www.unexpectedproductions.org
SUMMARY:Fa la la la la\, ha ha ha ha: A Holiday Musical Extravaganza!
DESCRIPTION:This holiday comedy show begins with a festive sing-along and ends with a movie musical based on your suggestions. Saturdays in December \nSarah Hanchar\, Christine Riippi\, and Guy Nelson\, members of the Unexpected Productions ensemble\, are joining forces to celebrate the most beloved aspect of the holiday season: Hallmark’s feel-good holiday movie musicals! This festive event will commence with a sing-along and culminate in a holiday movie musical tailored to your suggestions. Bring the whole family to the Unexpected Productions Market Theater and enjoy some cheerful yuletide fun. Who needs Auld Lang Syne when you can have brand new songs to celebrate the season?
URL:https://www.unexpectedproductions.org/event/fa-la-la-la-la-ha-ha-ha-ha-a-holiday-musical-extravaganza-6/2025-11-22/
LOCATION:Unexpected Productions\, 1428 Post Alley at the Gum Wall in Pike Place Market\, Seattle\, WA\, 98101\, United States
ATTACH;FMTTYPE=image/jpeg:https://www.unexpectedproductions.org/wp-content/uploads/2025/04/250px200px.jpg
END:VEVENT
BEGIN:VEVENT
DTSTART;TZID=America/Los_Angeles:20251122T193000
DTEND;TZID=America/Los_Angeles:20251122T204500
DTSTAMP:20260424T074410
CREATED:20250424T153312Z
LAST-MODIFIED:20251117T215132Z
UID:10007815-1763839800-1763844300@www.unexpectedproductions.org
SUMMARY:Murder at Market: An Improvised Agatha Christie
DESCRIPTION:Experience an improvised comedy show with comedic characters\, red herrings\, and clever clues to keep you entertained until the end \nWhen a body turns up at Unexpected Productions\, the game is afoot! A vintage cast of colorful\, cliché characters must unravel the crime—but in this whodunit\, nothing is scripted\, and anything can happen. \nInspired by the legendary Agatha Christie\, this entirely improvised mystery weaves your suggestions into a suspenseful\, side-splitting thriller. Can they crack the case before the next victim falls? Grab your monocle\, don your finest tweed\, and prepare for an evening of intrigue\, wit\, and unexpected twists. \nEvery show is a brand-new mystery. Every ending is a surprise. \nDirected by Dave Morris\, Paper Street Theatre\, Victoria B.C. \n 
URL:https://www.unexpectedproductions.org/event/murder-at-market-an-improvised-agatha-christie-2/2025-11-22/
LOCATION:Unexpected Productions\, 1428 Post Alley at the Gum Wall in Pike Place Market\, Seattle\, WA\, 98101\, United States
ATTACH;FMTTYPE=image/jpeg:https://www.unexpectedproductions.org/wp-content/uploads/2025/11/MATM-Small.jpg
END:VEVENT
BEGIN:VEVENT
DTSTART;TZID=America/Los_Angeles:20251122T193000
DTEND;TZID=America/Los_Angeles:20251122T204500
DTSTAMP:20260424T074410
CREATED:20251113T074414Z
LAST-MODIFIED:20251204T010231Z
UID:10009994-1763839800-1763844300@www.unexpectedproductions.org
SUMMARY:An Improvised Christmas Carol
DESCRIPTION:It’s heartwarming\, it’s side-splitting\, and it’s the perfect holiday tradition for the whole family! \nAn Improvised Christmas Carol takes Dickens’ classic holiday tale and turns it into a fast-paced\, laugh-out-loud adventure where anything can happen. Guided by audience suggestions\, our talented cast creates an entirely unique performance every night\, blending over 30 unexpected ideas into a hilarious and heartwarming story. From surprising twists to brand-new characters\, no two shows are ever the same\, making this the perfect holiday tradition for the whole family. Don’t miss out—our final performance is on December 23. Don’t be a Scrooge—grab your tickets now! \nCreated by Randy Dixon and directed by Tony Beeman.
URL:https://www.unexpectedproductions.org/event/xmascarol2025/2025-11-22/
LOCATION:Unexpected Productions\, 1428 Post Alley at the Gum Wall in Pike Place Market\, Seattle\, WA\, 98101\, United States
ATTACH;FMTTYPE=image/jpeg:https://www.unexpectedproductions.org/wp-content/uploads/2018/08/Christmas-Big-2018.jpg
END:VEVENT
BEGIN:VEVENT
DTSTART;TZID=America/Los_Angeles:20251122T213000
DTEND;TZID=America/Los_Angeles:20251122T230000
DTSTAMP:20260424T074410
CREATED:20250815T221536Z
LAST-MODIFIED:20251204T005927Z
UID:10007755-1763847000-1763852400@www.unexpectedproductions.org
SUMMARY:Seattle Theatresports Improv 2025
DESCRIPTION:Be a part of the magic of Theatresports\, Seattle’s favorite improv competition for over 40 years! Join us at the iconic Gum Wall in Pike Place Market for a high-energy showdown featuring the city’s best improvisers creating hilarious scenes\, songs\, and games—all inspired by your suggestions. \nWith two teams battling\, a lively host\, judges you can boo\, and the legendary gum wall race\, this fast-paced show is packed with unforgettable moments and endless laughs. \nDoors open at 9 PM every Friday and Saturday\, with the show starting at 9:30 PM. Don’t miss the fun—be part of the action! \nTheaterSports\, all the way! They are goofy\, silly\, funny\, unabashed\, clever\, witty people. I didn’t know what to expect before going but found myself laughing at practically everything they did or said. This is improv comedy at its finest. Lea A.\, 5 stars\, Yelp
URL:https://www.unexpectedproductions.org/event/seattle-theatresports-improv-2024-24-2__trashed-2-2-2/2025-11-22/
LOCATION:Unexpected Productions Market Theater\, 1428 Post Alley\, Seattle\, WA\, 98101\, United States
ATTACH;FMTTYPE=image/jpeg:https://www.unexpectedproductions.org/wp-content/uploads/2024/01/a816bf803d115ea8079a46465d66ed8d.jpg
END:VEVENT
END:VCALENDAR