BEGIN:VCALENDAR
VERSION:2.0
PRODID:-//Unexpected Productions - ECPv6.15.20//NONSGML v1.0//EN
CALSCALE:GREGORIAN
METHOD:PUBLISH
X-WR-CALNAME:Unexpected Productions
X-ORIGINAL-URL:https://www.unexpectedproductions.org
X-WR-CALDESC:Events for Unexpected Productions
REFRESH-INTERVAL;VALUE=DURATION:PT1H
X-Robots-Tag:noindex
X-PUBLISHED-TTL:PT1H
BEGIN:VTIMEZONE
TZID:America/Los_Angeles
BEGIN:DAYLIGHT
TZOFFSETFROM:-0800
TZOFFSETTO:-0700
TZNAME:PDT
DTSTART:20240310T100000
END:DAYLIGHT
BEGIN:STANDARD
TZOFFSETFROM:-0700
TZOFFSETTO:-0800
TZNAME:PST
DTSTART:20241103T090000
END:STANDARD
BEGIN:DAYLIGHT
TZOFFSETFROM:-0800
TZOFFSETTO:-0700
TZNAME:PDT
DTSTART:20250309T100000
END:DAYLIGHT
BEGIN:STANDARD
TZOFFSETFROM:-0700
TZOFFSETTO:-0800
TZNAME:PST
DTSTART:20251102T090000
END:STANDARD
BEGIN:DAYLIGHT
TZOFFSETFROM:-0800
TZOFFSETTO:-0700
TZNAME:PDT
DTSTART:20260308T100000
END:DAYLIGHT
BEGIN:STANDARD
TZOFFSETFROM:-0700
TZOFFSETTO:-0800
TZNAME:PST
DTSTART:20261101T090000
END:STANDARD
END:VTIMEZONE
BEGIN:VEVENT
DTSTART;TZID=America/Los_Angeles:20251116T190000
DTEND;TZID=America/Los_Angeles:20251116T201500
DTSTAMP:20260424T074529
CREATED:20250423T214304Z
LAST-MODIFIED:20250423T214304Z
UID:10007798-1763319600-1763324100@www.unexpectedproductions.org
SUMMARY:Unexpected Cinema: An Improvised Movie Live
DESCRIPTION:Unexpected Cinema is a one-of-a-kind movie experience where local improv talent and filmmakers come together to create a film live in real-time. The audience chooses the movie’s title\, and then\, with no script or rehearsals\, the cast and crew shoot the entire film right before your eyes. Shot in real locations\, the story unfolds unpredictably\, with every scene improvised and every moment unique. It’s a thrilling\, unscripted cinema experience you’ll never see anywhere else!
URL:https://www.unexpectedproductions.org/event/unexpected-cinema-an-improvised-movie-live-2/2025-11-16/
LOCATION:Unexpected Productions\, 1428 Post Alley at the Gum Wall in Pike Place Market\, Seattle\, WA\, 98101\, United States
ATTACH;FMTTYPE=image/jpeg:https://www.unexpectedproductions.org/wp-content/uploads/2024/05/Unexpected-Cinema-header.jpg
END:VEVENT
BEGIN:VEVENT
DTSTART;TZID=America/Los_Angeles:20251116T190000
DTEND;TZID=America/Los_Angeles:20251116T201500
DTSTAMP:20260424T074529
CREATED:20251230T164704Z
LAST-MODIFIED:20260123T190757Z
UID:10011194-1763319600-1763324100@www.unexpectedproductions.org
SUMMARY:No Strings Attached: An Improvised Puppet Show for Grownups
DESCRIPTION:At Unexpected Productions’ Market Theater\, puppets let their hair down (or strings loose) in No Strings Attached—a hilarious\, adults improv puppet show. After a long day entertaining the kids\, these puppets are ready to play—singing bawdy songs\, cracking jokes\, and getting up to all kinds of outrageous fun. And the best part? You call the shots with your suggestions! \nDon’t miss this one-of-a-kind comedy show at Pike Place Market. It’s puppets\, it’s improv\, and it’s guaranteed to make you laugh. \nTHIS SHOW CONTAINS MATURE CONTENT\, LANGUAGE\, AND SITUATIONS
URL:https://www.unexpectedproductions.org/event/no-strings-attached-an-improvised-puppet-show-for-grownups-2-3-3-2/2025-11-16/
LOCATION:Unexpected Productions\, 1428 Post Alley at the Gum Wall in Pike Place Market\, Seattle\, WA\, 98101\, United States
ATTACH;FMTTYPE=image/jpeg:https://www.unexpectedproductions.org/wp-content/uploads/2024/12/305449296_8571544809525931_4843708881624562709_n.jpg
END:VEVENT
BEGIN:VEVENT
DTSTART;TZID=America/Los_Angeles:20251116T190000
DTEND;TZID=America/Los_Angeles:20251116T201500
DTSTAMP:20260424T074529
CREATED:20260407T171119Z
LAST-MODIFIED:20260407T173042Z
UID:10011554-1763319600-1763324100@www.unexpectedproductions.org
SUMMARY:No Strings Attached: An Improvised Puppet Show for Grownups
DESCRIPTION:At Unexpected Productions’ Market Theater\, puppets let their hair down (or strings loose) in No Strings Attached—a hilarious\, adults improv puppet show. After a long day entertaining the kids\, these puppets are ready to play—singing bawdy songs\, cracking jokes\, and getting up to all kinds of outrageous fun. And the best part? You call the shots with your suggestions! \nDon’t miss this one-of-a-kind comedy show at Pike Place Market. It’s puppets\, it’s improv\, and it’s guaranteed to make you laugh. \nTHIS SHOW CONTAINS MATURE CONTENT\, LANGUAGE\, AND SITUATIONS
URL:https://www.unexpectedproductions.org/event/no-strings-attached-an-improvised-puppet-show-for-grownups-2-3-3-2-2/2025-11-16/
LOCATION:Unexpected Productions\, 1428 Post Alley at the Gum Wall in Pike Place Market\, Seattle\, WA\, 98101\, United States
ATTACH;FMTTYPE=image/jpeg:https://www.unexpectedproductions.org/wp-content/uploads/2024/12/305449296_8571544809525931_4843708881624562709_n.jpg
END:VEVENT
END:VCALENDAR