BEGIN:VCALENDAR
VERSION:2.0
PRODID:-//Unexpected Productions - ECPv6.15.20//NONSGML v1.0//EN
CALSCALE:GREGORIAN
METHOD:PUBLISH
X-WR-CALNAME:Unexpected Productions
X-ORIGINAL-URL:https://www.unexpectedproductions.org
X-WR-CALDESC:Events for Unexpected Productions
REFRESH-INTERVAL;VALUE=DURATION:PT1H
X-Robots-Tag:noindex
X-PUBLISHED-TTL:PT1H
BEGIN:VTIMEZONE
TZID:America/Los_Angeles
BEGIN:DAYLIGHT
TZOFFSETFROM:-0800
TZOFFSETTO:-0700
TZNAME:PDT
DTSTART:20240310T100000
END:DAYLIGHT
BEGIN:STANDARD
TZOFFSETFROM:-0700
TZOFFSETTO:-0800
TZNAME:PST
DTSTART:20241103T090000
END:STANDARD
BEGIN:DAYLIGHT
TZOFFSETFROM:-0800
TZOFFSETTO:-0700
TZNAME:PDT
DTSTART:20250309T100000
END:DAYLIGHT
BEGIN:STANDARD
TZOFFSETFROM:-0700
TZOFFSETTO:-0800
TZNAME:PST
DTSTART:20251102T090000
END:STANDARD
BEGIN:DAYLIGHT
TZOFFSETFROM:-0800
TZOFFSETTO:-0700
TZNAME:PDT
DTSTART:20260308T100000
END:DAYLIGHT
BEGIN:STANDARD
TZOFFSETFROM:-0700
TZOFFSETTO:-0800
TZNAME:PST
DTSTART:20261101T090000
END:STANDARD
END:VTIMEZONE
BEGIN:VEVENT
DTSTART;TZID=America/Los_Angeles:20251106T200000
DTEND;TZID=America/Los_Angeles:20251106T223000
DTSTAMP:20260424T074529
CREATED:20251014T160415Z
LAST-MODIFIED:20251014T171320Z
UID:10008270-1762459200-1762468200@www.unexpectedproductions.org
SUMMARY:45th Seattle International Comedy Competition
DESCRIPTION:Looking for top-notch stand-up comedy? The Seattle International Comedy Competition brings comedians from around the world together for a month-long comedy showdown — 18 shows\, 15 venues\, 32 comedians\, and over $16\,000 in prize money.\nRunning throughout November 2025\, this festival is part competition\, part comedy boot camp\, and all laughs. Each night\, sixteen comedians perform their best sets before live audiences and judges made up of industry pros and media personalities. Audience reactions help decide who advances\, so your laughter really counts.\nWho will take home the prize tonight? Come find out and support live comedy at its finest.\nRecommended for ages 18+\nTickets $25 online $30 at the door\nWeek One Prelim\nJoJo Blacco\, Portland\nCody Chasteen\, Portland\nJaleesa Johnson\, Portland\nMegan Malone\, Omaha\, NE\nLevi Manis\, Seattle\nTommy Mellor\, Calgary\, AB\nDanny Meynard\, Seattle\nMolina Molina\, Seattle\nNina Phan\, Toronto\, ON\nJordan Policicchio\, Toronto\nPonch\, Seattle\nJack Slattery\, Seattle\nTavaris Smith\, Los Angeles\nLiz Thompson\, Seattle\nVal Werner\, Indianapolis\nTyrik Woods\, Atlanta
URL:https://www.unexpectedproductions.org/event/seattle-international-comedy-competition-2-2/2025-11-06/
LOCATION:Unexpected Productions\, 1428 Post Alley at the Gum Wall in Pike Place Market\, Seattle\, WA\, 98101\, United States
CATEGORIES:Comedy Comp
ATTACH;FMTTYPE=image/png:https://www.unexpectedproductions.org/wp-content/uploads/2024/05/SICC-40-Small.png
END:VEVENT
END:VCALENDAR