BEGIN:VCALENDAR
VERSION:2.0
PRODID:-//Unexpected Productions - ECPv6.15.20//NONSGML v1.0//EN
CALSCALE:GREGORIAN
METHOD:PUBLISH
X-WR-CALNAME:Unexpected Productions
X-ORIGINAL-URL:https://www.unexpectedproductions.org
X-WR-CALDESC:Events for Unexpected Productions
REFRESH-INTERVAL;VALUE=DURATION:PT1H
X-Robots-Tag:noindex
X-PUBLISHED-TTL:PT1H
BEGIN:VTIMEZONE
TZID:America/Los_Angeles
BEGIN:DAYLIGHT
TZOFFSETFROM:-0800
TZOFFSETTO:-0700
TZNAME:PDT
DTSTART:20240310T100000
END:DAYLIGHT
BEGIN:STANDARD
TZOFFSETFROM:-0700
TZOFFSETTO:-0800
TZNAME:PST
DTSTART:20241103T090000
END:STANDARD
BEGIN:DAYLIGHT
TZOFFSETFROM:-0800
TZOFFSETTO:-0700
TZNAME:PDT
DTSTART:20250309T100000
END:DAYLIGHT
BEGIN:STANDARD
TZOFFSETFROM:-0700
TZOFFSETTO:-0800
TZNAME:PST
DTSTART:20251102T090000
END:STANDARD
BEGIN:DAYLIGHT
TZOFFSETFROM:-0800
TZOFFSETTO:-0700
TZNAME:PDT
DTSTART:20260308T100000
END:DAYLIGHT
BEGIN:STANDARD
TZOFFSETFROM:-0700
TZOFFSETTO:-0800
TZNAME:PST
DTSTART:20261101T090000
END:STANDARD
END:VTIMEZONE
BEGIN:VEVENT
DTSTART;TZID=America/Los_Angeles:20250624T210000
DTEND;TZID=America/Los_Angeles:20250624T220000
DTSTAMP:20260419T164204
CREATED:20250606T211754Z
LAST-MODIFIED:20250606T211754Z
UID:10007890-1750798800-1750802400@www.unexpectedproductions.org
SUMMARY:Festival Unexpected Improv at Jules Maes in Georgetown
DESCRIPTION:Step into the unexpected! As part of Festival Unexpected\, participants take over Jules Maes Saloon for a wild night of spontaneous comedy. Teams will create fast\, fearless\, and completely unscripted scenes—crafted in the moment from your suggestions. It’s the kind of comedy that makes you laugh so hard\, you’ll swear it had to be scripted (spoiler: it’s not). No safety net\, no second takes—just pure improv magic. Grab a drink\, shout out a prompt\, and watch the chaos unfold!. \nDoors at 8\, show at 9$1021+No outside food or drink
URL:https://www.unexpectedproductions.org/event/improv-unexpected-at-jules-maes-in-georgetown-7-2-2-2/
LOCATION:Jules Maes Saloon\, 1428 Post Alley5919 Airport Way S\, Seattle\, WA\, 98101c\, United States
ATTACH;FMTTYPE=image/jpeg:https://www.unexpectedproductions.org/wp-content/uploads/2025/06/Festival-Unexpected-Eventbriteholder.jpg
END:VEVENT
END:VCALENDAR