BEGIN:VCALENDAR
VERSION:2.0
PRODID:-//Unexpected Productions - ECPv6.15.20//NONSGML v1.0//EN
CALSCALE:GREGORIAN
METHOD:PUBLISH
X-WR-CALNAME:Unexpected Productions
X-ORIGINAL-URL:https://www.unexpectedproductions.org
X-WR-CALDESC:Events for Unexpected Productions
REFRESH-INTERVAL;VALUE=DURATION:PT1H
X-Robots-Tag:noindex
X-PUBLISHED-TTL:PT1H
BEGIN:VTIMEZONE
TZID:America/Los_Angeles
BEGIN:DAYLIGHT
TZOFFSETFROM:-0800
TZOFFSETTO:-0700
TZNAME:PDT
DTSTART:20240310T100000
END:DAYLIGHT
BEGIN:STANDARD
TZOFFSETFROM:-0700
TZOFFSETTO:-0800
TZNAME:PST
DTSTART:20241103T090000
END:STANDARD
BEGIN:DAYLIGHT
TZOFFSETFROM:-0800
TZOFFSETTO:-0700
TZNAME:PDT
DTSTART:20250309T100000
END:DAYLIGHT
BEGIN:STANDARD
TZOFFSETFROM:-0700
TZOFFSETTO:-0800
TZNAME:PST
DTSTART:20251102T090000
END:STANDARD
BEGIN:DAYLIGHT
TZOFFSETFROM:-0800
TZOFFSETTO:-0700
TZNAME:PDT
DTSTART:20260308T100000
END:DAYLIGHT
BEGIN:STANDARD
TZOFFSETFROM:-0700
TZOFFSETTO:-0800
TZNAME:PST
DTSTART:20261101T090000
END:STANDARD
END:VTIMEZONE
BEGIN:VEVENT
DTSTART;TZID=America/Los_Angeles:20250607T180000
DTEND;TZID=America/Los_Angeles:20250607T190000
DTSTAMP:20260421T055244
CREATED:20250227T202751Z
LAST-MODIFIED:20250528T164804Z
UID:10007289-1749319200-1749322800@www.unexpectedproductions.org
SUMMARY:Musical Improv Happy Hour: Feat: The Grimm Truth: The Improvised Villainous Musical
DESCRIPTION:The Grimm Truth: The Improvised Villainous Musical \nYou’ve heard the fairy tales. Now hear their side of the story in song. \nIn this fully improvised musical comedy\, the villains of your favorite fairy tales and nursery rhymes gather for a deliciously dramatic brunch to reclaim their reputations. Think “Am I the A**hole?” meets Broadway\, as misunderstood icons like the Big Bad Wolf\, the Evil Queen\, and the Troll Under the Bridge belt out show-stopping solos\, sassy duets\, and over-the-top ensemble numbers to defend their side of the story. Fueled by your suggestions and powered by live musical accompaniment\, The Grimm Truth: The Musical is a wild ride through redemption\, revenge\, and ridiculously catchy tunes.\nFeaturing: David Bestock\, Ashley Flannegan\, Sarah Hanchar\, Colin Smith\, Guy Nelson on keyboard and Jeff Greyson in the tech booth. \nBe part of the magic—because the best moments are the ones we create together!
URL:https://www.unexpectedproductions.org/event/musical-improv-happy-hour-2/
LOCATION:Unexpected Productions\, 1428 Post Alley at the Gum Wall in Pike Place Market\, Seattle\, WA\, 98101\, United States
ATTACH;FMTTYPE=image/png:https://www.unexpectedproductions.org/wp-content/uploads/2025/02/Grimm.png
END:VEVENT
BEGIN:VEVENT
DTSTART;TZID=America/Los_Angeles:20250607T193000
DTEND;TZID=America/Los_Angeles:20250607T203000
DTSTAMP:20260421T055244
CREATED:20250423T175924Z
LAST-MODIFIED:20250425T163433Z
UID:10007450-1749324600-1749328200@www.unexpectedproductions.org
SUMMARY:Love vs. Everything: An Improvised Tale
DESCRIPTION:Even in the worst of times\, love finds a way. At Unexpected Productions\, our veteran improvisers take you on a spontaneous\, heartfelt journey through three interconnected stories—each inspired by the lives of our audience. Across time\, genre\, and unimaginable odds\, love emerges as the unshakable force against all obstacles. Whether it’s lovers\, soulmates\, kindred spirits\, or surprising allies\, these stories remind us that even when the world pushes back\, love pushes harder. \nNo script. No safety net. It’s just love versus everything.
URL:https://www.unexpectedproductions.org/event/love-vs-everything-an-improvised-tale/2025-06-07/
LOCATION:Unexpected Productions\, 1428 Post Alley at the Gum Wall in Pike Place Market\, Seattle\, WA\, 98101\, United States
ATTACH;FMTTYPE=image/png:https://www.unexpectedproductions.org/wp-content/uploads/2025/04/LoveVsEverything-PPM.png
END:VEVENT
BEGIN:VEVENT
DTSTART;TZID=America/Los_Angeles:20250607T213000
DTEND;TZID=America/Los_Angeles:20250607T230000
DTSTAMP:20260421T055244
CREATED:20241216T212133Z
LAST-MODIFIED:20250425T190556Z
UID:10006902-1749331800-1749337200@www.unexpectedproductions.org
SUMMARY:Seattle Theatresports Improv 2025
DESCRIPTION:Be a part of the magic of Theatresports\, Seattle’s favorite improv competition for over 40 years! Join us at the iconic Gum Wall in Pike Place Market for a high-energy showdown featuring the city’s best improvisers creating hilarious scenes\, songs\, and games—all inspired by your suggestions. \nWith two teams battling\, a lively host\, judges you can boo\, and the legendary gum wall race\, this fast-paced show is packed with unforgettable moments and endless laughs. \nDoors open at 9 PM every Friday and Saturday\, with the show starting at 9:30 PM. Don’t miss the fun—be part of the action! \nTheaterSports\, all the way! They are goofy\, silly\, funny\, unabashed\, clever\, witty people. I didn’t know what to expect before going but found myself laughing at practically everything they did or said. This is improv comedy at its finest. Lea A.\, 5 stars\, Yelp
URL:https://www.unexpectedproductions.org/event/seattle-theatresports-improv-2024-24-2__trashed-2/2025-06-07/
LOCATION:Unexpected Productions Market Theater\, 1428 Post Alley\, Seattle\, WA\, 98101\, United States
ATTACH;FMTTYPE=image/jpeg:https://www.unexpectedproductions.org/wp-content/uploads/2024/01/a816bf803d115ea8079a46465d66ed8d.jpg
END:VEVENT
BEGIN:VEVENT
DTSTART;TZID=America/Los_Angeles:20250607T213000
DTEND;TZID=America/Los_Angeles:20250607T230000
DTSTAMP:20260421T055244
CREATED:20250815T221536Z
LAST-MODIFIED:20251204T005927Z
UID:10009976-1749331800-1749337200@www.unexpectedproductions.org
SUMMARY:Seattle Theatresports Improv 2025
DESCRIPTION:Be a part of the magic of Theatresports\, Seattle’s favorite improv competition for over 40 years! Join us at the iconic Gum Wall in Pike Place Market for a high-energy showdown featuring the city’s best improvisers creating hilarious scenes\, songs\, and games—all inspired by your suggestions. \nWith two teams battling\, a lively host\, judges you can boo\, and the legendary gum wall race\, this fast-paced show is packed with unforgettable moments and endless laughs. \nDoors open at 9 PM every Friday and Saturday\, with the show starting at 9:30 PM. Don’t miss the fun—be part of the action! \nTheaterSports\, all the way! They are goofy\, silly\, funny\, unabashed\, clever\, witty people. I didn’t know what to expect before going but found myself laughing at practically everything they did or said. This is improv comedy at its finest. Lea A.\, 5 stars\, Yelp
URL:https://www.unexpectedproductions.org/event/seattle-theatresports-improv-2024-24-2__trashed-2-2-2/2025-06-07/
LOCATION:Unexpected Productions Market Theater\, 1428 Post Alley\, Seattle\, WA\, 98101\, United States
ATTACH;FMTTYPE=image/jpeg:https://www.unexpectedproductions.org/wp-content/uploads/2024/01/a816bf803d115ea8079a46465d66ed8d.jpg
END:VEVENT
END:VCALENDAR