BEGIN:VCALENDAR
VERSION:2.0
PRODID:-//Unexpected Productions - ECPv6.15.20//NONSGML v1.0//EN
CALSCALE:GREGORIAN
METHOD:PUBLISH
X-ORIGINAL-URL:https://www.unexpectedproductions.org
X-WR-CALDESC:Events for Unexpected Productions
REFRESH-INTERVAL;VALUE=DURATION:PT1H
X-Robots-Tag:noindex
X-PUBLISHED-TTL:PT1H
BEGIN:VTIMEZONE
TZID:America/Los_Angeles
BEGIN:DAYLIGHT
TZOFFSETFROM:-0800
TZOFFSETTO:-0700
TZNAME:PDT
DTSTART:20240310T100000
END:DAYLIGHT
BEGIN:STANDARD
TZOFFSETFROM:-0700
TZOFFSETTO:-0800
TZNAME:PST
DTSTART:20241103T090000
END:STANDARD
BEGIN:DAYLIGHT
TZOFFSETFROM:-0800
TZOFFSETTO:-0700
TZNAME:PDT
DTSTART:20250309T100000
END:DAYLIGHT
BEGIN:STANDARD
TZOFFSETFROM:-0700
TZOFFSETTO:-0800
TZNAME:PST
DTSTART:20251102T090000
END:STANDARD
BEGIN:DAYLIGHT
TZOFFSETFROM:-0800
TZOFFSETTO:-0700
TZNAME:PDT
DTSTART:20260308T100000
END:DAYLIGHT
BEGIN:STANDARD
TZOFFSETFROM:-0700
TZOFFSETTO:-0800
TZNAME:PST
DTSTART:20261101T090000
END:STANDARD
END:VTIMEZONE
BEGIN:VEVENT
DTSTART;TZID=America/Los_Angeles:20250605T200000
DTEND;TZID=America/Los_Angeles:20250605T213000
DTSTAMP:20260421T095324
CREATED:20250528T164413Z
LAST-MODIFIED:20250528T164557Z
UID:10007886-1749153600-1749159000@www.unexpectedproductions.org
SUMMARY:A Night of Musical Improv with Laura Hall from Whose Line is it Anyway
DESCRIPTION:Laura Hall\, the iconic musical director of Whose Line Is It Anyway?\, returns to Unexpected Productions to take the stage with members of the Unexpected Productions Ensemble for a high-energy night of musical improv magic. From spontaneous solos to full-blown group numbers\, no script and no plan—just rhythm\, laughter\, and pure creative chaos. \nWatch as scenes turn into songs\, characters burst into harmony\, and your suggestions inspire everything from heartfelt ballads to ridiculous showtunes. Whether you’re a longtime fan of Whose Line or brand new to musical improv\, this is your chance to experience the thrill of comedy created in the moment. \nOne piano. Countless laughs. Zero rehearsals.
URL:https://www.unexpectedproductions.org/event/a-night-of-musical-improv-with-laura-hall-from-whose-line-is-it-anyway/
LOCATION:Unexpected Productions\, 1428 Post Alley at the Gum Wall in Pike Place Market\, Seattle\, WA\, 98101\, United States
END:VEVENT
END:VCALENDAR