BEGIN:VCALENDAR
VERSION:2.0
PRODID:-//Unexpected Productions - ECPv6.15.20//NONSGML v1.0//EN
CALSCALE:GREGORIAN
METHOD:PUBLISH
X-WR-CALNAME:Unexpected Productions
X-ORIGINAL-URL:https://www.unexpectedproductions.org
X-WR-CALDESC:Events for Unexpected Productions
REFRESH-INTERVAL;VALUE=DURATION:PT1H
X-Robots-Tag:noindex
X-PUBLISHED-TTL:PT1H
BEGIN:VTIMEZONE
TZID:America/Los_Angeles
BEGIN:DAYLIGHT
TZOFFSETFROM:-0800
TZOFFSETTO:-0700
TZNAME:PDT
DTSTART:20240310T100000
END:DAYLIGHT
BEGIN:STANDARD
TZOFFSETFROM:-0700
TZOFFSETTO:-0800
TZNAME:PST
DTSTART:20241103T090000
END:STANDARD
BEGIN:DAYLIGHT
TZOFFSETFROM:-0800
TZOFFSETTO:-0700
TZNAME:PDT
DTSTART:20250309T100000
END:DAYLIGHT
BEGIN:STANDARD
TZOFFSETFROM:-0700
TZOFFSETTO:-0800
TZNAME:PST
DTSTART:20251102T090000
END:STANDARD
BEGIN:DAYLIGHT
TZOFFSETFROM:-0800
TZOFFSETTO:-0700
TZNAME:PDT
DTSTART:20260308T100000
END:DAYLIGHT
BEGIN:STANDARD
TZOFFSETFROM:-0700
TZOFFSETTO:-0800
TZNAME:PST
DTSTART:20261101T090000
END:STANDARD
END:VTIMEZONE
BEGIN:VEVENT
DTSTART;TZID=America/Los_Angeles:20250522T200000
DTEND;TZID=America/Los_Angeles:20250522T213000
DTSTAMP:20260419T224306
CREATED:20250414T175439Z
LAST-MODIFIED:20250414T175439Z
UID:10007398-1747944000-1747949400@www.unexpectedproductions.org
SUMMARY:Kiki Yeung: Cantonese Mom
DESCRIPTION:Kiki Yeung: Cantonese Mom is a dynamic\, laugh-out-loud comedy experience that blends stand-up\, storytelling\, and interactive games. Created and headlined by Hong Kong-born\, LA-based comedian Kiki Yeung\, the show draws from her unique upbringing as a first-generation Asian American\, infusing sassy humor with animated act-outs and sharp Cantonese wit. \n“Kiki Yeung is a comedy pioneer!” – NBCLA \nKiki Yeung is a Hong Kong & LA based comedian\, actress\, and producer. Kiki blends her American upbringing and Cantonese sharp wit into a hilarious combination of sassy humor and animated act outs. \nKiki is the founder of Crazy Woke Asians\, the award winning\, nationally touring comedy show featuring the funniest Asian American comedians. Creator of “Kiki Funny Mama’s Night Out” docu-series featuring the funniest Asian American female comedians. \nKiki’s been featured in Elizabeth Bank’s Whohaha’s Comedy Callout\, LA Times\, The Seattle Times\, Time-out New York\, NBC LA\, CBS and more. Watch Kiki on ABC’s The Parent Test. \nKiki headlines to sold out crowds at the New York Comedy Festival\, Carolines on Broadway\, The Comedy Store\, The Ice House\, Laugh Factory\, Hollywood Improv\, Cobbs Comedy Club\, Kenan Presents and performed at Netflix is a Joke Fest. \nHer new touring show\, “Kiki Yeung Cantonese Mom” premiered at Rodney’s Comedy Club for the Knockouts Women’s Comedy Festival. \nCatch her one hour special “Don’t Get Sick and Die” filmed in her hometown Seattle. Kiki is touring nationwide and will be headlining at the Hong Kong International Comedy Festival in 2025. www.kikiyeung.com \nwww.crazywokeasians.com
URL:https://www.unexpectedproductions.org/event/kiki-yeung-cantonese-mom/
LOCATION:Unexpected Productions\, 1428 Post Alley at the Gum Wall in Pike Place Market\, Seattle\, WA\, 98101\, United States
ATTACH;FMTTYPE=image/jpeg:https://www.unexpectedproductions.org/wp-content/uploads/2025/04/kiki-small.jpg
END:VEVENT
END:VCALENDAR