BEGIN:VCALENDAR
VERSION:2.0
PRODID:-//Unexpected Productions - ECPv6.15.20//NONSGML v1.0//EN
CALSCALE:GREGORIAN
METHOD:PUBLISH
X-ORIGINAL-URL:https://www.unexpectedproductions.org
X-WR-CALDESC:Events for Unexpected Productions
REFRESH-INTERVAL;VALUE=DURATION:PT1H
X-Robots-Tag:noindex
X-PUBLISHED-TTL:PT1H
BEGIN:VTIMEZONE
TZID:America/Los_Angeles
BEGIN:DAYLIGHT
TZOFFSETFROM:-0800
TZOFFSETTO:-0700
TZNAME:PDT
DTSTART:20240310T100000
END:DAYLIGHT
BEGIN:STANDARD
TZOFFSETFROM:-0700
TZOFFSETTO:-0800
TZNAME:PST
DTSTART:20241103T090000
END:STANDARD
BEGIN:DAYLIGHT
TZOFFSETFROM:-0800
TZOFFSETTO:-0700
TZNAME:PDT
DTSTART:20250309T100000
END:DAYLIGHT
BEGIN:STANDARD
TZOFFSETFROM:-0700
TZOFFSETTO:-0800
TZNAME:PST
DTSTART:20251102T090000
END:STANDARD
BEGIN:DAYLIGHT
TZOFFSETFROM:-0800
TZOFFSETTO:-0700
TZNAME:PDT
DTSTART:20260308T100000
END:DAYLIGHT
BEGIN:STANDARD
TZOFFSETFROM:-0700
TZOFFSETTO:-0800
TZNAME:PST
DTSTART:20261101T090000
END:STANDARD
END:VTIMEZONE
BEGIN:VEVENT
DTSTART;TZID=America/Los_Angeles:20250511T190000
DTEND;TZID=America/Los_Angeles:20250511T203000
DTSTAMP:20260419T211459
CREATED:20250423T172612Z
LAST-MODIFIED:20250423T172612Z
UID:10007411-1746990000-1746995400@www.unexpectedproductions.org
SUMMARY:Mother's Day Improv Comedy Show
DESCRIPTION:This Mother’s Day\, ditch the brunch reservations and give Mom the one thing she really wants—a night of unstoppable laughter and memories! \nOn May 11th at 7:00 p.m.\, Unexpected Productions is bringing you a one-of-a-kind improv comedy show performed by real moms from our resident ensemble. These hilarious\, quick-thinking mothers will turn the wild\, wonderful\, and downright chaotic world of parenting into side-splitting comedy—completely unscripted and totally relatable! \n Bonus: Moms get in for just $10 with promo code IMAMOM! \nSo\, if you forgot to get her a gift (oops)\, this is your chance to redeem yourself! Grab your mom\, grab your friends\, and let’s celebrate motherhood the best way possible—by laughing at it!
URL:https://www.unexpectedproductions.org/event/mothers-day-improv-comedy-show/
LOCATION:Unexpected Productions\, 1428 Post Alley at the Gum Wall in Pike Place Market\, Seattle\, WA\, 98101\, United States
ATTACH;FMTTYPE=image/png:https://www.unexpectedproductions.org/wp-content/uploads/2025/04/1.png
END:VEVENT
END:VCALENDAR