BEGIN:VCALENDAR
VERSION:2.0
PRODID:-//Unexpected Productions - ECPv6.15.20//NONSGML v1.0//EN
CALSCALE:GREGORIAN
METHOD:PUBLISH
X-WR-CALNAME:Unexpected Productions
X-ORIGINAL-URL:https://www.unexpectedproductions.org
X-WR-CALDESC:Events for Unexpected Productions
REFRESH-INTERVAL;VALUE=DURATION:PT1H
X-Robots-Tag:noindex
X-PUBLISHED-TTL:PT1H
BEGIN:VTIMEZONE
TZID:America/Los_Angeles
BEGIN:DAYLIGHT
TZOFFSETFROM:-0800
TZOFFSETTO:-0700
TZNAME:PDT
DTSTART:20240310T100000
END:DAYLIGHT
BEGIN:STANDARD
TZOFFSETFROM:-0700
TZOFFSETTO:-0800
TZNAME:PST
DTSTART:20241103T090000
END:STANDARD
BEGIN:DAYLIGHT
TZOFFSETFROM:-0800
TZOFFSETTO:-0700
TZNAME:PDT
DTSTART:20250309T100000
END:DAYLIGHT
BEGIN:STANDARD
TZOFFSETFROM:-0700
TZOFFSETTO:-0800
TZNAME:PST
DTSTART:20251102T090000
END:STANDARD
BEGIN:DAYLIGHT
TZOFFSETFROM:-0800
TZOFFSETTO:-0700
TZNAME:PDT
DTSTART:20260308T100000
END:DAYLIGHT
BEGIN:STANDARD
TZOFFSETFROM:-0700
TZOFFSETTO:-0800
TZNAME:PST
DTSTART:20261101T090000
END:STANDARD
END:VTIMEZONE
BEGIN:VEVENT
DTSTART;TZID=America/Los_Angeles:20250426T180000
DTEND;TZID=America/Los_Angeles:20250426T190000
DTSTAMP:20260419T181617
CREATED:20250127T194029Z
LAST-MODIFIED:20251204T010925Z
UID:10007317-1745690400-1745694000@www.unexpectedproductions.org
SUMMARY:Mouth Wide Shut: A Physical Improv Comedy
DESCRIPTION:The art of silent comedy with the unpredictable fun of improvisation. \nMouth Wide Shut is a love letter to the history of physical comedy and improvisational theater. Drawing inspiration from silent movies\, classical mime\, and contemporary groups like Blue Man Group and Cirque du Soleil\, it’s like a mashup of the best of the past and present that’s both nostalgic and cutting-edge. And the fact that you play such a crucial role in shaping the show makes it even more unique. \nIt’s not just about watching comedy; it’s about becoming part of the comedic journey. “Mouth Wide Shut” promises to be an evening where laughter knows no bounds and surprises lurk around every corner! This show is a delightful and unforgettable experience that promises to entertain audiences of all ages! \n“Mouth Wide Shut is clever and very funny.” Ryan D.\, 5 Stars Google \n“Went as a suggestion from a local. Best decision I’ve made in a whim! Such a good show…had an amazing cast\, kept me laughing the entire time. Would love to go again.” Terra M 5 Stars Google \n“This was the first time I’ve ever been to an improv show and I was definitely entertained. I had no clue what to expect and didn’t know how improv shows worked\, I just came in with an open mind and enjoyed every minute of it!” Kristina L. 5 Stars Yelp
URL:https://www.unexpectedproductions.org/event/mouth-wide-shut-a-physical-improv-comedy-2-2-2/2025-04-26/
LOCATION:Unexpected Productions\, 1428 Post Alley at the Gum Wall in Pike Place Market\, Seattle\, WA\, 98101\, United States
ATTACH;FMTTYPE=image/jpeg:https://www.unexpectedproductions.org/wp-content/uploads/2025/01/MWS-Jay.jpg
GEO:47.6083171;-122.3402179
X-APPLE-STRUCTURED-LOCATION;VALUE=URI;X-ADDRESS=Unexpected Productions 1428 Post Alley at the Gum Wall in Pike Place Market Seattle WA 98101 United States;X-APPLE-RADIUS=500;X-TITLE=1428 Post Alley at the Gum Wall in Pike Place Market:geo:-122.3402179,47.6083171
END:VEVENT
BEGIN:VEVENT
DTSTART;TZID=America/Los_Angeles:20250426T193000
DTEND;TZID=America/Los_Angeles:20250426T204500
DTSTAMP:20260419T181618
CREATED:20250416T165059Z
LAST-MODIFIED:20250416T185736Z
UID:10007402-1745695800-1745700300@www.unexpectedproductions.org
SUMMARY:Prism: Your Stories Improvised
DESCRIPTION:What is truth\, and what is just a matter of perspective? Prism breaks your stories apart\, revealing how different characters interpret the same events in wildly different ways. Was it a simple misunderstanding\, a calculated betrayal\, or just a comedy of errors? That depends on whose version you believe. \nThis show blends humor\, drama\, and mystery to explore how our own biases shape the stories we tell. In each performance\, our improvisers will take the audience on a journey through shifting perspectives\, uncovering new details\, hidden motives\, and unexpected twists. Prism is an ever-evolving theatrical experiment that challenges what we think we know—about a story\, about each other\, and about the very nature of truth itself.
URL:https://www.unexpectedproductions.org/event/prism-your-story-improvised/2025-04-26/
LOCATION:Unexpected Productions\, 1428 Post Alley at the Gum Wall in Pike Place Market\, Seattle\, WA\, 98101\, United States
ATTACH;FMTTYPE=image/png:https://www.unexpectedproductions.org/wp-content/uploads/2025/04/Prism-500-x-1000-px.png
END:VEVENT
BEGIN:VEVENT
DTSTART;TZID=America/Los_Angeles:20250426T213000
DTEND;TZID=America/Los_Angeles:20250426T230000
DTSTAMP:20260419T181618
CREATED:20241216T212133Z
LAST-MODIFIED:20250425T190556Z
UID:10006890-1745703000-1745708400@www.unexpectedproductions.org
SUMMARY:Seattle Theatresports Improv 2025
DESCRIPTION:Be a part of the magic of Theatresports\, Seattle’s favorite improv competition for over 40 years! Join us at the iconic Gum Wall in Pike Place Market for a high-energy showdown featuring the city’s best improvisers creating hilarious scenes\, songs\, and games—all inspired by your suggestions. \nWith two teams battling\, a lively host\, judges you can boo\, and the legendary gum wall race\, this fast-paced show is packed with unforgettable moments and endless laughs. \nDoors open at 9 PM every Friday and Saturday\, with the show starting at 9:30 PM. Don’t miss the fun—be part of the action! \nTheaterSports\, all the way! They are goofy\, silly\, funny\, unabashed\, clever\, witty people. I didn’t know what to expect before going but found myself laughing at practically everything they did or said. This is improv comedy at its finest. Lea A.\, 5 stars\, Yelp
URL:https://www.unexpectedproductions.org/event/seattle-theatresports-improv-2024-24-2__trashed-2/2025-04-26/
LOCATION:Unexpected Productions Market Theater\, 1428 Post Alley\, Seattle\, WA\, 98101\, United States
ATTACH;FMTTYPE=image/jpeg:https://www.unexpectedproductions.org/wp-content/uploads/2024/01/a816bf803d115ea8079a46465d66ed8d.jpg
END:VEVENT
BEGIN:VEVENT
DTSTART;TZID=America/Los_Angeles:20250426T213000
DTEND;TZID=America/Los_Angeles:20250426T230000
DTSTAMP:20260419T181618
CREATED:20250815T221536Z
LAST-MODIFIED:20251204T005927Z
UID:10009964-1745703000-1745708400@www.unexpectedproductions.org
SUMMARY:Seattle Theatresports Improv 2025
DESCRIPTION:Be a part of the magic of Theatresports\, Seattle’s favorite improv competition for over 40 years! Join us at the iconic Gum Wall in Pike Place Market for a high-energy showdown featuring the city’s best improvisers creating hilarious scenes\, songs\, and games—all inspired by your suggestions. \nWith two teams battling\, a lively host\, judges you can boo\, and the legendary gum wall race\, this fast-paced show is packed with unforgettable moments and endless laughs. \nDoors open at 9 PM every Friday and Saturday\, with the show starting at 9:30 PM. Don’t miss the fun—be part of the action! \nTheaterSports\, all the way! They are goofy\, silly\, funny\, unabashed\, clever\, witty people. I didn’t know what to expect before going but found myself laughing at practically everything they did or said. This is improv comedy at its finest. Lea A.\, 5 stars\, Yelp
URL:https://www.unexpectedproductions.org/event/seattle-theatresports-improv-2024-24-2__trashed-2-2-2/2025-04-26/
LOCATION:Unexpected Productions Market Theater\, 1428 Post Alley\, Seattle\, WA\, 98101\, United States
ATTACH;FMTTYPE=image/jpeg:https://www.unexpectedproductions.org/wp-content/uploads/2024/01/a816bf803d115ea8079a46465d66ed8d.jpg
END:VEVENT
END:VCALENDAR