BEGIN:VCALENDAR
VERSION:2.0
PRODID:-//Unexpected Productions - ECPv6.15.20//NONSGML v1.0//EN
CALSCALE:GREGORIAN
METHOD:PUBLISH
X-WR-CALNAME:Unexpected Productions
X-ORIGINAL-URL:https://www.unexpectedproductions.org
X-WR-CALDESC:Events for Unexpected Productions
REFRESH-INTERVAL;VALUE=DURATION:PT1H
X-Robots-Tag:noindex
X-PUBLISHED-TTL:PT1H
BEGIN:VTIMEZONE
TZID:America/Los_Angeles
BEGIN:DAYLIGHT
TZOFFSETFROM:-0800
TZOFFSETTO:-0700
TZNAME:PDT
DTSTART:20240310T100000
END:DAYLIGHT
BEGIN:STANDARD
TZOFFSETFROM:-0700
TZOFFSETTO:-0800
TZNAME:PST
DTSTART:20241103T090000
END:STANDARD
BEGIN:DAYLIGHT
TZOFFSETFROM:-0800
TZOFFSETTO:-0700
TZNAME:PDT
DTSTART:20250309T100000
END:DAYLIGHT
BEGIN:STANDARD
TZOFFSETFROM:-0700
TZOFFSETTO:-0800
TZNAME:PST
DTSTART:20251102T090000
END:STANDARD
BEGIN:DAYLIGHT
TZOFFSETFROM:-0800
TZOFFSETTO:-0700
TZNAME:PDT
DTSTART:20260308T100000
END:DAYLIGHT
BEGIN:STANDARD
TZOFFSETFROM:-0700
TZOFFSETTO:-0800
TZNAME:PST
DTSTART:20261101T090000
END:STANDARD
END:VTIMEZONE
BEGIN:VEVENT
DTSTART;TZID=America/Los_Angeles:20250316T103000
DTEND;TZID=America/Los_Angeles:20250316T133000
DTSTAMP:20260419T140927
CREATED:20250204T195310Z
LAST-MODIFIED:20250204T195310Z
UID:10007273-1742121000-1742131800@www.unexpectedproductions.org
SUMMARY:Improvised Shakespeare Workshop For Teens
DESCRIPTION:Think Shakespeare is just fancy old words? Nah—it’s drama\, comedy\, and absolute mayhem waiting to happen! In this high-energy Improvised Shakespeare Workshop\, you’ll create wild scenes\, deliver legendary monologues\, and play improv games—all with a hilarious\, Shakespearean twist. No scripts\, no stress—just nonstop fun!\nWhether you’re a doomed tragic hero or a hopeless romantic with bad timing\, you’ll master the lingo\, unleash your creativity\, and bring the Bard’s world to life like never before.\nReady to rewrite history? The stage is yours!\nDate: Sunday 3/16\nTime: 10:30 – 1:30\nLocation: 650 S Orcas Suite101Seattle 98108\nMaximum Students: 16\nCost: $95.00\nPrerequisite: Teen Improv\nTeacher Bio: Alan Hawkins Improviser/Teacher/Facilitator\nAlan Hawkins is an improviser from Los Angeles and Chicago. He has been performing\, directing\, and teaching theater and improv since 2004. Alan is a graduate of The Second City Conservatory\, The Second City Musical Conservatory\, The iO West Program\, The Chicago Comedysportz Training Center\, and The Annoyance program. He has been fortunate enough to participate in many festivals across the US with the three-man group Extra Shelves and has been a guest player with Grand Theft Improv in London\, UK. He was also an instructor and director for the Teen Comedy Festival in Chicago. Alan is an ensemble member of Unexpected Productions\, the longest-running Theatersports theater in America. He’s also the author of the book “YOU CAN’T LEARN IMPROV FROM A BOO
URL:https://www.unexpectedproductions.org/event/improvised-shakespeare-workshop-for-teens/
LOCATION:Unexpected Productions Improv School ISSAQUAH/EASTSIDE\, 1315 NW Mall Street\, Suite 4\, Issaquah\, WA\, 98108\, United States
ATTACH;FMTTYPE=image/jpeg:https://www.unexpectedproductions.org/wp-content/uploads/2025/01/Shakespeare-teens.jpg
GEO:47.5520122;-122.3251523
X-APPLE-STRUCTURED-LOCATION;VALUE=URI;X-ADDRESS=Unexpected Productions Improv School ISSAQUAH/EASTSIDE 1315 NW Mall Street Suite 4 Issaquah WA 98108 United States;X-APPLE-RADIUS=500;X-TITLE=1315 NW Mall Street\, Suite 4:geo:-122.3251523,47.5520122
END:VEVENT
BEGIN:VEVENT
DTSTART;TZID=America/Los_Angeles:20250316T160000
DTEND;TZID=America/Los_Angeles:20250316T180000
DTSTAMP:20260419T140927
CREATED:20250124T212504Z
LAST-MODIFIED:20250311T163432Z
UID:10007237-1742140800-1742148000@www.unexpectedproductions.org
SUMMARY:Improv Date Night with Sara McMahon
DESCRIPTION:Improv Date Night is an entertaining improv workshop and a great way to spend a Sunday afternoon as a couple! Come to Unexpected Productions’ Market Theatre in the heart of romantic Pike Place Market for a two-hour fun-filled improv workshop. Then enjoy a discounted pizza with our excellent culinary neighbor\, The Alibi Room.\nLearn to play fun improv games together with other couples. The fundamental concept of improv is the practice of being present and available to your scene partner\, using the rule that if your scene partner looks good\, you do too. This exercise in listening\, creativity\, and spontaneity is not only an art form but also an adventure in teamwork\, communication\, and hilarity. Two and a half hours of laughs and learning with your significant other for a Saturday to remember. All for just $60 for each person. Each couple will receive a pass for free to come to a show of their choice in the future at Unexpected Productions. \nLearn to play fun improv games together with other couples. The fundamental concept of improv is the practice of being present and available to your scene partner\, using the rule that if your scene partner looks good you do too. This exercise in listening\, creativity\, and spontaneity is not only an art form but also an adventure in teamwork\, communication\, and hilarity. Two and a half hours of laughs and learning with your significant other for a Saturday to remember. \nDate: 03/16\nTime: 4:00 pm – 6:00 pm\nLocation: Unexpected Productions 1428 Post Alley Seatte 98101\nMaximum Students: 10 couples\nCost: $120 per couple\nPrerequisite: All levels welcome \nTeacher Bio: Sara McMahon Improviser/Teacher/Facilitator \nFor the last 16 years\, Sara has been performing and teaching around the Seattle area. She has facilitated workshops for elementary\, middle\, and high schools\, tech companies\, company retreats\, parent-child improv nights\, and even mock trial teams. She tailors each workshop to the needs of the attendees\, maximizing fun and connection. She believes that empathy is at the heart of both great improv and great relationships.\nImprov is a collaborative art form. It’s all about saying Yes\, and… to your partner and making them look good. By investing your time together in this workshop\, you will find pathways to deepen your bond and foster an environment of openness\, listening\, playfulness\, creativity\, and relationship resilience\,” Sara McMahon. \nNOTE: Please note that this class has a great deal of movement and action. Please dress accordingly and bring a bottle of water. \n**Cancellation policy: We are unable to offer refunds.
URL:https://www.unexpectedproductions.org/event/improv-date-night-with-sara-mcmahon/
LOCATION:Unexpected Productions\, 1428 Post Alley at the Gum Wall in Pike Place Market\, Seattle\, WA\, 98101\, United States
ATTACH;FMTTYPE=image/jpeg:https://www.unexpectedproductions.org/wp-content/uploads/2025/01/Date-Night-March-15-2025-1.jpg
END:VEVENT
BEGIN:VEVENT
DTSTART;TZID=America/Los_Angeles:20250316T193000
DTEND;TZID=America/Los_Angeles:20250316T200000
DTSTAMP:20260419T140927
CREATED:20250206T225525Z
LAST-MODIFIED:20260205T201614Z
UID:10011443-1742153400-1742155200@www.unexpectedproductions.org
SUMMARY:Show Your Game: An Improvised Game Show
DESCRIPTION:Ever wonder what secret skills your neighbors are hiding? That quiet person next to you on the bus might be a brain surgeon\, a barbecue champion\, or the only parent in town who can get their toddler to nap on time. Show Your Game is here to celebrate those everyday experts and unexpected talents! \nEach night\, a hilarious mix of improvisers and brave audience members go head-to-head\, diving deep into the worlds of two surprising experts. They’ll tackle quirky questions and wild challenges\, each crafted by the experts themselves to test just how much our contestants really know. \nLove the clever chaos of QI\, the unpredictable twists of Game Changer\, or the absurd fun of Taskmaster? Then this is your kind of show. \nSo\, when it’s your turn to step into someone else’s world… are you ready to Show Your Game?
URL:https://www.unexpectedproductions.org/event/show-your-game-an-improvised-game-show/2025-03-16/
LOCATION:Unexpected Productions\, 1428 Post Alley at the Gum Wall in Pike Place Market\, Seattle\, WA\, 98101\, United States
ATTACH;FMTTYPE=image/jpeg:https://www.unexpectedproductions.org/wp-content/uploads/2025/02/Show-Your-Game-Eventbrite-2160-x-1080-px.jpg
END:VEVENT
END:VCALENDAR