BEGIN:VCALENDAR
VERSION:2.0
PRODID:-//Unexpected Productions - ECPv6.15.20//NONSGML v1.0//EN
CALSCALE:GREGORIAN
METHOD:PUBLISH
X-WR-CALNAME:Unexpected Productions
X-ORIGINAL-URL:https://www.unexpectedproductions.org
X-WR-CALDESC:Events for Unexpected Productions
REFRESH-INTERVAL;VALUE=DURATION:PT1H
X-Robots-Tag:noindex
X-PUBLISHED-TTL:PT1H
BEGIN:VTIMEZONE
TZID:America/Los_Angeles
BEGIN:DAYLIGHT
TZOFFSETFROM:-0800
TZOFFSETTO:-0700
TZNAME:PDT
DTSTART:20240310T100000
END:DAYLIGHT
BEGIN:STANDARD
TZOFFSETFROM:-0700
TZOFFSETTO:-0800
TZNAME:PST
DTSTART:20241103T090000
END:STANDARD
BEGIN:DAYLIGHT
TZOFFSETFROM:-0800
TZOFFSETTO:-0700
TZNAME:PDT
DTSTART:20250309T100000
END:DAYLIGHT
BEGIN:STANDARD
TZOFFSETFROM:-0700
TZOFFSETTO:-0800
TZNAME:PST
DTSTART:20251102T090000
END:STANDARD
BEGIN:DAYLIGHT
TZOFFSETFROM:-0800
TZOFFSETTO:-0700
TZNAME:PDT
DTSTART:20260308T100000
END:DAYLIGHT
BEGIN:STANDARD
TZOFFSETFROM:-0700
TZOFFSETTO:-0800
TZNAME:PST
DTSTART:20261101T090000
END:STANDARD
END:VTIMEZONE
BEGIN:VEVENT
DTSTART;TZID=America/Los_Angeles:20250301T160000
DTEND;TZID=America/Los_Angeles:20250301T170000
DTSTAMP:20260419T102421
CREATED:20250221T192423Z
LAST-MODIFIED:20250221T192423Z
UID:10007380-1740844800-1740848400@www.unexpectedproductions.org
SUMMARY:Hogan Cup Harold Student Show
DESCRIPTION:This unique student showcase celebrates the incredible talent and dedication of high school students from across the area who participated in the 2024 Hogan Cup. Coming together in a spirit of collaboration rather than competition\, these students have spent the day learning\, growing\, and supporting one another as they explore the art of improvisation. \nUnder the guidance of experienced mentors\, they’ve worked hard to tackle The Harold\, one of the most exciting and complex improv formats. Tonight\, they take the stage to perform and share their creativity\, bravery\, and teamwork with you. Join us in cheering them on as they bring their improv magic to lif
URL:https://www.unexpectedproductions.org/event/hogan-cup-harold-student-show/
LOCATION:Unexpected Productions\, 1428 Post Alley at the Gum Wall in Pike Place Market\, Seattle\, WA\, 98101\, United States
ATTACH;FMTTYPE=image/jpeg:https://www.unexpectedproductions.org/wp-content/uploads/2025/02/Harold-big.jpg
END:VEVENT
BEGIN:VEVENT
DTSTART;TZID=America/Los_Angeles:20250301T193000
DTEND;TZID=America/Los_Angeles:20250301T204500
DTSTAMP:20260419T102421
CREATED:20250103T222923Z
LAST-MODIFIED:20250103T224125Z
UID:10007233-1740857400-1740861900@www.unexpectedproductions.org
SUMMARY:I Saw You: A Comedy with Heart
DESCRIPTION:Fans of Seattle’s well-known alt-weekly\, The Stranger\, are likely familiar with the I Saw U section\, also known as Craigslist Missed Connections. This section is where individuals who have had the briefest of encounters attempt to make a connection. Every Friday and Saturday at 7:30 pm\, Unexpected Productions takes these weekly listings and imagines what would happen if the individuals actually went out on a date and beyond. The listings are popular among both romantics and cynics. During this comedy show infused with heart\, you’ll discover whether fantasy is truly better than reality.
URL:https://www.unexpectedproductions.org/event/i-saw-you-a-comedy-with-heart-7/2025-03-01/
LOCATION:Unexpected Productions\, 1428 Post Alley at the Gum Wall in Pike Place Market\, Seattle\, WA\, 98101\, United States
ATTACH;FMTTYPE=image/jpeg:https://www.unexpectedproductions.org/wp-content/uploads/2024/04/5286c9fd1cc79210a5f5cf196ffbfdbd.jpg
GEO:47.6083171;-122.3402179
X-APPLE-STRUCTURED-LOCATION;VALUE=URI;X-ADDRESS=Unexpected Productions 1428 Post Alley at the Gum Wall in Pike Place Market Seattle WA 98101 United States;X-APPLE-RADIUS=500;X-TITLE=1428 Post Alley at the Gum Wall in Pike Place Market:geo:-122.3402179,47.6083171
END:VEVENT
BEGIN:VEVENT
DTSTART;TZID=America/Los_Angeles:20250301T213000
DTEND;TZID=America/Los_Angeles:20250301T230000
DTSTAMP:20260419T102421
CREATED:20241216T212133Z
LAST-MODIFIED:20250425T190556Z
UID:10006874-1740864600-1740870000@www.unexpectedproductions.org
SUMMARY:Seattle Theatresports Improv 2025
DESCRIPTION:Be a part of the magic of Theatresports\, Seattle’s favorite improv competition for over 40 years! Join us at the iconic Gum Wall in Pike Place Market for a high-energy showdown featuring the city’s best improvisers creating hilarious scenes\, songs\, and games—all inspired by your suggestions. \nWith two teams battling\, a lively host\, judges you can boo\, and the legendary gum wall race\, this fast-paced show is packed with unforgettable moments and endless laughs. \nDoors open at 9 PM every Friday and Saturday\, with the show starting at 9:30 PM. Don’t miss the fun—be part of the action! \nTheaterSports\, all the way! They are goofy\, silly\, funny\, unabashed\, clever\, witty people. I didn’t know what to expect before going but found myself laughing at practically everything they did or said. This is improv comedy at its finest. Lea A.\, 5 stars\, Yelp
URL:https://www.unexpectedproductions.org/event/seattle-theatresports-improv-2024-24-2__trashed-2/2025-03-01/
LOCATION:Unexpected Productions Market Theater\, 1428 Post Alley\, Seattle\, WA\, 98101\, United States
ATTACH;FMTTYPE=image/jpeg:https://www.unexpectedproductions.org/wp-content/uploads/2024/01/a816bf803d115ea8079a46465d66ed8d.jpg
END:VEVENT
END:VCALENDAR