BEGIN:VCALENDAR
VERSION:2.0
PRODID:-//Unexpected Productions - ECPv6.15.20//NONSGML v1.0//EN
CALSCALE:GREGORIAN
METHOD:PUBLISH
X-ORIGINAL-URL:https://www.unexpectedproductions.org
X-WR-CALDESC:Events for Unexpected Productions
REFRESH-INTERVAL;VALUE=DURATION:PT1H
X-Robots-Tag:noindex
X-PUBLISHED-TTL:PT1H
BEGIN:VTIMEZONE
TZID:America/Los_Angeles
BEGIN:DAYLIGHT
TZOFFSETFROM:-0800
TZOFFSETTO:-0700
TZNAME:PDT
DTSTART:20240310T100000
END:DAYLIGHT
BEGIN:STANDARD
TZOFFSETFROM:-0700
TZOFFSETTO:-0800
TZNAME:PST
DTSTART:20241103T090000
END:STANDARD
BEGIN:DAYLIGHT
TZOFFSETFROM:-0800
TZOFFSETTO:-0700
TZNAME:PDT
DTSTART:20250309T100000
END:DAYLIGHT
BEGIN:STANDARD
TZOFFSETFROM:-0700
TZOFFSETTO:-0800
TZNAME:PST
DTSTART:20251102T090000
END:STANDARD
BEGIN:DAYLIGHT
TZOFFSETFROM:-0800
TZOFFSETTO:-0700
TZNAME:PDT
DTSTART:20260308T100000
END:DAYLIGHT
BEGIN:STANDARD
TZOFFSETFROM:-0700
TZOFFSETTO:-0800
TZNAME:PST
DTSTART:20261101T090000
END:STANDARD
END:VTIMEZONE
BEGIN:VEVENT
DTSTART;TZID=America/Los_Angeles:20250115T190000
DTEND;TZID=America/Los_Angeles:20250115T194500
DTSTAMP:20260420T024909
CREATED:20240508T173701Z
LAST-MODIFIED:20250627T033510Z
UID:10007941-1736967600-1736970300@www.unexpectedproductions.org
SUMMARY:700 Level Class Showcase
DESCRIPTION:Witness the creation of believable characters\, inspiring scenes\, and some improv magic by 700 level class.
URL:https://www.unexpectedproductions.org/event/700-level-class-showcase-8-2/2025-01-15/
LOCATION:Unexpected Productions Market Theater\, 1428 Post Alley\, Seattle\, WA\, 98101\, United States
ATTACH;FMTTYPE=image/jpeg:https://www.unexpectedproductions.org/wp-content/uploads/2024/04/d88c3803d60582943f645e11badfe15a.jpg
END:VEVENT
BEGIN:VEVENT
DTSTART;TZID=America/Los_Angeles:20250115T190000
DTEND;TZID=America/Los_Angeles:20250115T200000
DTSTAMP:20260420T024909
CREATED:20250115T184559Z
LAST-MODIFIED:20250115T184559Z
UID:10007234-1736967600-1736971200@www.unexpectedproductions.org
SUMMARY:Scenes for Brittany: An Improvised Benefit Show
DESCRIPTION:Join us for a night of laughter\, community\, and support at Scenes for Brittany\, a special improvised benefit show to help one of our own\, on January 15\, 2025\, at 7 pm at Unexpected Productions in the Market Theatre in Seattle’s Pike Place Market… \nOur dear friend Brittany\, a beloved member of Seattle’s improv and stand-up comedy communities\, has recently been diagnosed with a severe blood disease. As she faces months of treatment\, isolation\, and missing work\, we’re rallying together to provide some much-needed support for her and her family during this challenging time. \nThis heartwarming night of improv will feature Brittany’s classmates and our dear friends from the Unexpected Productions community—all coming together to bring laughs while raising funds for Brittany’s care. \nBut the fun doesn’t stop there! Stick around for a double feature as we roll right into Seattle’s longest-running Improv Open Mic: the Duos Open Mic! Starting at 8:00 pm\, this weekly showcase promises even more laughs\, surprises\, and improv magic.
URL:https://www.unexpectedproductions.org/event/scenes-for-brittany-an-improvised-benefit-show/
LOCATION:Unexpected Productions\, 1428 Post Alley at the Gum Wall in Pike Place Market\, Seattle\, WA\, 98101\, United States
ATTACH;FMTTYPE=image/png:https://www.unexpectedproductions.org/wp-content/uploads/2025/01/Untitled-design.png
END:VEVENT
BEGIN:VEVENT
DTSTART;TZID=America/Los_Angeles:20250115T200000
DTEND;TZID=America/Los_Angeles:20250115T211500
DTSTAMP:20260420T024909
CREATED:20241217T202028Z
LAST-MODIFIED:20250805T200131Z
UID:10006968-1736971200-1736975700@www.unexpectedproductions.org
SUMMARY:Duo Comedy Showcase 2025
DESCRIPTION:Seattle’s one and only open mic dedicated to two-person improv teams! Watch as duos create hilarious\, quick-witted\, and seemingly impossible scenes right before your eyes—entirely made up on the spot. It’s comedy chaos\, brilliantly constructed and spontaneously performed.At Duos\, everyone gets their moment in the spotlight. Newer improvisers hone their craft while seasoned pros experiment\, play\, and try something new. Who knows? \nAll experience levels are welcome! Sign up your team and give the audience a show they’ll never forget. You could be the next Key & Peele\, Tina Fey & Amy Poehler\, or even a chaotic duo like Deadpool & Wolverine. email duoshowcase@gmail.com \nWhether you’re performing or watching\, this is Seattle’s midweek comedy fix you don’t want to miss. Come laugh\, play\, and discover the magic of improv!
URL:https://www.unexpectedproductions.org/event/duo-comedy-showcase-2025/2025-01-15/
LOCATION:Unexpected Productions Market Theater\, 1428 Post Alley\, Seattle\, WA\, 98101\, United States
ATTACH;FMTTYPE=image/jpeg:https://www.unexpectedproductions.org/wp-content/uploads/2024/12/328121204_680089330576453_402401036174423695_n.jpg
END:VEVENT
END:VCALENDAR