BEGIN:VCALENDAR
VERSION:2.0
PRODID:-//Unexpected Productions - ECPv6.15.20//NONSGML v1.0//EN
CALSCALE:GREGORIAN
METHOD:PUBLISH
X-WR-CALNAME:Unexpected Productions
X-ORIGINAL-URL:https://www.unexpectedproductions.org
X-WR-CALDESC:Events for Unexpected Productions
REFRESH-INTERVAL;VALUE=DURATION:PT1H
X-Robots-Tag:noindex
X-PUBLISHED-TTL:PT1H
BEGIN:VTIMEZONE
TZID:America/Los_Angeles
BEGIN:DAYLIGHT
TZOFFSETFROM:-0800
TZOFFSETTO:-0700
TZNAME:PDT
DTSTART:20240310T100000
END:DAYLIGHT
BEGIN:STANDARD
TZOFFSETFROM:-0700
TZOFFSETTO:-0800
TZNAME:PST
DTSTART:20241103T090000
END:STANDARD
BEGIN:DAYLIGHT
TZOFFSETFROM:-0800
TZOFFSETTO:-0700
TZNAME:PDT
DTSTART:20250309T100000
END:DAYLIGHT
BEGIN:STANDARD
TZOFFSETFROM:-0700
TZOFFSETTO:-0800
TZNAME:PST
DTSTART:20251102T090000
END:STANDARD
BEGIN:DAYLIGHT
TZOFFSETFROM:-0800
TZOFFSETTO:-0700
TZNAME:PDT
DTSTART:20260308T100000
END:DAYLIGHT
BEGIN:STANDARD
TZOFFSETFROM:-0700
TZOFFSETTO:-0800
TZNAME:PST
DTSTART:20261101T090000
END:STANDARD
END:VTIMEZONE
BEGIN:VEVENT
DTSTART;TZID=America/Los_Angeles:20250112T190000
DTEND;TZID=America/Los_Angeles:20250112T200000
DTSTAMP:20260419T195455
CREATED:20241217T221924Z
LAST-MODIFIED:20250103T215915Z
UID:10007104-1736708400-1736712000@www.unexpectedproductions.org
SUMMARY:Triplet: One Life\, Three Ways\, Improvised
DESCRIPTION:Experience the magic of a beautiful improv show that weaves together three audience suggestions to create a single life story portrayed by Seattle’s most skilled improvisers. We all dream about who we’ll become as we age and often reminisce about our younger selves. Bring your aspirations for the future\, your cherished and not-so-fond memories\, and the challenges and joys of your current life. Sit back and watch as we intertwine them in Triplet: One Life\, Three Ways\, Improvised.
URL:https://www.unexpectedproductions.org/event/triplet-one-life-three-ways-improvised-2/2025-01-12/
LOCATION:Unexpected Productions\, 1428 Post Alley at the Gum Wall in Pike Place Market\, Seattle\, WA\, 98101\, United States
ATTACH;FMTTYPE=image/png:https://www.unexpectedproductions.org/wp-content/uploads/2024/08/EventBriteBanner-Text-1.png
END:VEVENT
END:VCALENDAR