BEGIN:VCALENDAR
VERSION:2.0
PRODID:-//Unexpected Productions - ECPv6.15.20//NONSGML v1.0//EN
CALSCALE:GREGORIAN
METHOD:PUBLISH
X-ORIGINAL-URL:https://www.unexpectedproductions.org
X-WR-CALDESC:Events for Unexpected Productions
REFRESH-INTERVAL;VALUE=DURATION:PT1H
X-Robots-Tag:noindex
X-PUBLISHED-TTL:PT1H
BEGIN:VTIMEZONE
TZID:America/Los_Angeles
BEGIN:DAYLIGHT
TZOFFSETFROM:-0800
TZOFFSETTO:-0700
TZNAME:PDT
DTSTART:20230312T100000
END:DAYLIGHT
BEGIN:STANDARD
TZOFFSETFROM:-0700
TZOFFSETTO:-0800
TZNAME:PST
DTSTART:20231105T090000
END:STANDARD
BEGIN:DAYLIGHT
TZOFFSETFROM:-0800
TZOFFSETTO:-0700
TZNAME:PDT
DTSTART:20240310T100000
END:DAYLIGHT
BEGIN:STANDARD
TZOFFSETFROM:-0700
TZOFFSETTO:-0800
TZNAME:PST
DTSTART:20241103T090000
END:STANDARD
BEGIN:DAYLIGHT
TZOFFSETFROM:-0800
TZOFFSETTO:-0700
TZNAME:PDT
DTSTART:20250309T100000
END:DAYLIGHT
BEGIN:STANDARD
TZOFFSETFROM:-0700
TZOFFSETTO:-0800
TZNAME:PST
DTSTART:20251102T090000
END:STANDARD
END:VTIMEZONE
BEGIN:VEVENT
DTSTART;TZID=America/Los_Angeles:20241212T193000
DTEND;TZID=America/Los_Angeles:20241212T193000
DTSTAMP:20260419T155115
CREATED:20241207T202945Z
LAST-MODIFIED:20241207T211607Z
UID:10006564-1734031800-1734031800@www.unexpectedproductions.org
SUMMARY:An Improvised Christmas Carol 2024
DESCRIPTION:We all know the story of Charles Dickens’ classic\, “A Christmas Carol”. Or do we…? \nExperience the enchanting world of “An Improvised Christmas Carol” this December! This captivating performance is a brilliant adaptation of Charles Dickens’ timeless masterpiece\, A Christmas Carol. \nOur talented improvisers bring the beloved story of Ebenezer Scrooge to life with humor and entertainment tailored to your suggestions. Each show is a unique and audience-driven experience\, blending over 30 different ideas into a side-splitting improvised holiday extravaganza. \nDon’t miss out…it ends on 12/23. \nTickets $20 online $25 at the door. Created by Randy Dixon\, and directed by Tony Beeman. \nPLEASE ARRIVE EARLY to get your seats and to make sure that you hear and see the 30+ show suggestions/offers to guarantee you understand the premise of each night’s unique performance. \nALL TICKET SALES ARE FINAL AND NONREFUNDABLE. THERE ARE NO REFUNDS\, EXCHANGES OR TRANSFERS. PLEASE CONFIRM YOUR DATE.\nTICKETS
URL:https://www.unexpectedproductions.org/event/an-improvised-christmas-carol-2024-21/2024-12-12/
LOCATION:Unexpected Productions\, 1428 Post Alley at the Gum Wall in Pike Place Market\, Seattle\, WA\, 98101\, United States
CATEGORIES:An Improvised Christmas Carol
ATTACH;FMTTYPE=image/jpeg:https://www.unexpectedproductions.org/wp-content/uploads/2019/07/facebook-xmas.jpg
END:VEVENT
END:VCALENDAR