BEGIN:VCALENDAR
VERSION:2.0
PRODID:-//Unexpected Productions - ECPv6.15.20//NONSGML v1.0//EN
CALSCALE:GREGORIAN
METHOD:PUBLISH
X-ORIGINAL-URL:https://www.unexpectedproductions.org
X-WR-CALDESC:Events for Unexpected Productions
REFRESH-INTERVAL;VALUE=DURATION:PT1H
X-Robots-Tag:noindex
X-PUBLISHED-TTL:PT1H
BEGIN:VTIMEZONE
TZID:America/Los_Angeles
BEGIN:DAYLIGHT
TZOFFSETFROM:-0800
TZOFFSETTO:-0700
TZNAME:PDT
DTSTART:20230312T100000
END:DAYLIGHT
BEGIN:STANDARD
TZOFFSETFROM:-0700
TZOFFSETTO:-0800
TZNAME:PST
DTSTART:20231105T090000
END:STANDARD
BEGIN:DAYLIGHT
TZOFFSETFROM:-0800
TZOFFSETTO:-0700
TZNAME:PDT
DTSTART:20240310T100000
END:DAYLIGHT
BEGIN:STANDARD
TZOFFSETFROM:-0700
TZOFFSETTO:-0800
TZNAME:PST
DTSTART:20241103T090000
END:STANDARD
BEGIN:DAYLIGHT
TZOFFSETFROM:-0800
TZOFFSETTO:-0700
TZNAME:PDT
DTSTART:20250309T100000
END:DAYLIGHT
BEGIN:STANDARD
TZOFFSETFROM:-0700
TZOFFSETTO:-0800
TZNAME:PST
DTSTART:20251102T090000
END:STANDARD
END:VTIMEZONE
BEGIN:VEVENT
DTSTART;TZID=America/Los_Angeles:20241125T190000
DTEND;TZID=America/Los_Angeles:20241125T210000
DTSTAMP:20260419T132048
CREATED:20240910T204613Z
LAST-MODIFIED:20240910T205204Z
UID:10006400-1732561200-1732568400@www.unexpectedproductions.org
SUMMARY:Hogan Cup 2024
DESCRIPTION:Congratulations to the teams who advanced to finals! The final teams face off in the improv championship matches between Puget Sound high schools! The Hogan Cup is the first high school improvisational competition of its kind in the Northwest\, with top training from Unexpected Productions coaches. Admission is free for participating students and teachers. \nUnexpected Productions has been teaching improv to high school students for over twenty years. The Finals share many of the same characteristics as our own Theatresports\, with some exceptions. This event provides the students with a less competitive environment\, giving them the freedom to learn through experience and teamwork with less fear of making “mistakes.” \nThe admission price helps pay for the Hogan Cup program.
URL:https://www.unexpectedproductions.org/event/hogan-cup-2024/
LOCATION:Unexpected Productions\, 1428 Post Alley at the Gum Wall in Pike Place Market\, Seattle\, WA\, 98101\, United States
ATTACH;FMTTYPE=image/png:https://www.unexpectedproductions.org/wp-content/uploads/2024/09/Hogan-Cup-Header-.png
END:VEVENT
END:VCALENDAR