BEGIN:VCALENDAR
VERSION:2.0
PRODID:-//Unexpected Productions - ECPv6.15.20//NONSGML v1.0//EN
CALSCALE:GREGORIAN
METHOD:PUBLISH
X-ORIGINAL-URL:https://www.unexpectedproductions.org
X-WR-CALDESC:Events for Unexpected Productions
REFRESH-INTERVAL;VALUE=DURATION:PT1H
X-Robots-Tag:noindex
X-PUBLISHED-TTL:PT1H
BEGIN:VTIMEZONE
TZID:America/Los_Angeles
BEGIN:DAYLIGHT
TZOFFSETFROM:-0800
TZOFFSETTO:-0700
TZNAME:PDT
DTSTART:20230312T100000
END:DAYLIGHT
BEGIN:STANDARD
TZOFFSETFROM:-0700
TZOFFSETTO:-0800
TZNAME:PST
DTSTART:20231105T090000
END:STANDARD
BEGIN:DAYLIGHT
TZOFFSETFROM:-0800
TZOFFSETTO:-0700
TZNAME:PDT
DTSTART:20240310T100000
END:DAYLIGHT
BEGIN:STANDARD
TZOFFSETFROM:-0700
TZOFFSETTO:-0800
TZNAME:PST
DTSTART:20241103T090000
END:STANDARD
BEGIN:DAYLIGHT
TZOFFSETFROM:-0800
TZOFFSETTO:-0700
TZNAME:PDT
DTSTART:20250309T100000
END:DAYLIGHT
BEGIN:STANDARD
TZOFFSETFROM:-0700
TZOFFSETTO:-0800
TZNAME:PST
DTSTART:20251102T090000
END:STANDARD
END:VTIMEZONE
BEGIN:VEVENT
DTSTART;TZID=America/Los_Angeles:20241124T190000
DTEND;TZID=America/Los_Angeles:20241124T200000
DTSTAMP:20260419T132053
CREATED:20240513T182113Z
LAST-MODIFIED:20241121T222005Z
UID:10003301-1732474800-1732478400@www.unexpectedproductions.org
SUMMARY:Mucho Improv in Spanglish
DESCRIPTION:Celebra la improvisación! Unexpected Productions is excited to present Mucho Improv the Spanglish Improv Show on November 24\, 2024\, at 7:00 p.m. – a one-of-a-kind experience where English and Spanish come together to create an evening full of spontaneous\, sidesplitting laughter! Whether you’re a fluent bilingual speaker or just learning\, this interactive and dynamic show promises a fun\, engaging\, and hilarious experience for all.\nMucho Improv features a talented cast of performers who seamlessly switch between English and Spanish in every scene. The result? It is a bilingual rollercoaster of humor\, filled with quirky characters\, unpredictable situations\, and laughter that knows no boundaries.\nUnexpected Productions se complace en presentar Mucho Improv\, un espectáculo deimprovisación en Spanglish\, el 24 de noviembre de 2024\, a las 7:00 p.m. – ¡una experiencia única donde el inglés y el español se unen para crear una noche llena de risas espontáneas y deslumbrantes! Ya seas un hablante bilingüe fluido o estés aprendiendo\, este espectáculo interactivo y dinámico promete una experienciadivertida\, atractiva y hilarante para todos.
URL:https://www.unexpectedproductions.org/event/muchaho-improv-in-spanglish/2024-11-24/
LOCATION:Unexpected Productions\, 1428 Post Alley at the Gum Wall in Pike Place Market\, Seattle\, WA\, 98101\, United States
ATTACH;FMTTYPE=image/jpeg:https://www.unexpectedproductions.org/wp-content/uploads/2024/04/Mucho-Improv-Header.jpg
END:VEVENT
END:VCALENDAR