BEGIN:VCALENDAR
VERSION:2.0
PRODID:-//Unexpected Productions - ECPv6.15.20//NONSGML v1.0//EN
CALSCALE:GREGORIAN
METHOD:PUBLISH
X-ORIGINAL-URL:https://www.unexpectedproductions.org
X-WR-CALDESC:Events for Unexpected Productions
REFRESH-INTERVAL;VALUE=DURATION:PT1H
X-Robots-Tag:noindex
X-PUBLISHED-TTL:PT1H
BEGIN:VTIMEZONE
TZID:America/Los_Angeles
BEGIN:DAYLIGHT
TZOFFSETFROM:-0800
TZOFFSETTO:-0700
TZNAME:PDT
DTSTART:20230312T100000
END:DAYLIGHT
BEGIN:STANDARD
TZOFFSETFROM:-0700
TZOFFSETTO:-0800
TZNAME:PST
DTSTART:20231105T090000
END:STANDARD
BEGIN:DAYLIGHT
TZOFFSETFROM:-0800
TZOFFSETTO:-0700
TZNAME:PDT
DTSTART:20240310T100000
END:DAYLIGHT
BEGIN:STANDARD
TZOFFSETFROM:-0700
TZOFFSETTO:-0800
TZNAME:PST
DTSTART:20241103T090000
END:STANDARD
BEGIN:DAYLIGHT
TZOFFSETFROM:-0800
TZOFFSETTO:-0700
TZNAME:PDT
DTSTART:20250309T100000
END:DAYLIGHT
BEGIN:STANDARD
TZOFFSETFROM:-0700
TZOFFSETTO:-0800
TZNAME:PST
DTSTART:20251102T090000
END:STANDARD
END:VTIMEZONE
BEGIN:VEVENT
DTSTART;TZID=America/Los_Angeles:20241109T160000
DTEND;TZID=America/Los_Angeles:20241109T180000
DTSTAMP:20260421T134724
CREATED:20241028T174255Z
LAST-MODIFIED:20241028T181811Z
UID:10006427-1731168000-1731175200@www.unexpectedproductions.org
SUMMARY:Fall Storytelling Student Showcase
DESCRIPTION:Join us at Unexpected Productions’ Market Theater for The Storytelling Class Student Showcase.\n\n\nCome and join us at Unexpected Productions’ Market Theater for the Student Showcase of The Storytelling Class. These talented students have used storytelling guidelines and step-by-step tools to create honest and incredible stories based on their life experiences. You’ll have the opportunity to hear their genuine\, generous\, and vulnerable stories in a fun and creative space located at the Gum Wall in Pike Place Market. We look forward to seeing you there! \nFeaturing \nSusannah Bichl\nChanning Bui\nKenneth Daley\nRich Evans\nColleen Fitzharris\nHelen Halloran\nCliff Hamal\nKeeonna Harris\nJenny Hunt\nMatt Pulick\nMatthew Soucoup\nAngela Ugalino \nSHOW CONTAINS MATURE CONTENT\, LANGUAGE\, AND SITUATIONS
URL:https://www.unexpectedproductions.org/event/spring-storytelling-student-showcase-2/
LOCATION:Unexpected Productions\, 1428 Post Alley at the Gum Wall in Pike Place Market\, Seattle\, WA\, 98101\, United States
ATTACH;FMTTYPE=image/jpeg:https://www.unexpectedproductions.org/wp-content/uploads/2024/10/Storytelling-Class-Showcase-fall-final.jpg
GEO:47.6083171;-122.3402179
X-APPLE-STRUCTURED-LOCATION;VALUE=URI;X-ADDRESS=Unexpected Productions 1428 Post Alley at the Gum Wall in Pike Place Market Seattle WA 98101 United States;X-APPLE-RADIUS=500;X-TITLE=1428 Post Alley at the Gum Wall in Pike Place Market:geo:-122.3402179,47.6083171
END:VEVENT
BEGIN:VEVENT
DTSTART;TZID=America/Los_Angeles:20241109T180000
DTEND;TZID=America/Los_Angeles:20241109T190000
DTSTAMP:20260421T134724
CREATED:20240523T173534Z
LAST-MODIFIED:20241122T193927Z
UID:10003281-1731175200-1731178800@www.unexpectedproductions.org
SUMMARY:No Strings Attached: An Improvised Puppet Show for Grownups
DESCRIPTION:“Avenue Q” meets improv comedy in this adult puppet show at Unexpected Productions’ Market Theater. What do puppets do after their day jobs? Well\, after singing songs and dancing at the children’s theater\, they let off steam by hanging out and causing all kinds of hijinx. The No Strings Attached crew gets a little rowdy\, marionettes and sock puppets alike bust out with bawdy songs and jokes all based on your suggestions. At the Unexpected Productions’ Market Theater in Pike Place Market. \nTHIS SHOW CONTAINS MATURE CONTENT\, LANGUAGE\, AND SITUATIONS
URL:https://www.unexpectedproductions.org/event/no-strings-attached-an-improvised-puppet-show-for-grownups-2/2024-11-09/
LOCATION:Unexpected Productions\, 1428 Post Alley at the Gum Wall in Pike Place Market\, Seattle\, WA\, 98101\, United States
ATTACH;FMTTYPE=image/jpeg:https://www.unexpectedproductions.org/wp-content/uploads/2024/05/305449296_8571544809525931_4843708881624562709_n.jpg
END:VEVENT
BEGIN:VEVENT
DTSTART;TZID=America/Los_Angeles:20241109T193000
DTEND;TZID=America/Los_Angeles:20241109T203000
DTSTAMP:20260421T134724
CREATED:20240521T183919Z
LAST-MODIFIED:20240930T195451Z
UID:10001891-1731180600-1731184200@www.unexpectedproductions.org
SUMMARY:Murder at Market: An Improvised Agatha Christie
DESCRIPTION:When a body turns up at Unexpected Productions\, it’s up to this vintage cast of colorful cliché characters to discover who did it\, how it was done\, and who’s next! Inspired by the best-selling author of all time\, Dame Agatha Christie\, your suggestions help create this fully improvised mystery with you on the edge of your tweed-covered seat until the whodunit final reveal! \nDirected by Dave Morris\, Paper Street Theatre\, Victoria B.C.
URL:https://www.unexpectedproductions.org/event/murder-at-market-an-improvised-agatha-christie/2024-11-09/
LOCATION:Unexpected Productions\, 1428 Post Alley at the Gum Wall in Pike Place Market\, Seattle\, WA\, 98101\, United States
ATTACH;FMTTYPE=image/png:https://www.unexpectedproductions.org/wp-content/uploads/2024/09/Murder-In-The-Market-Eventbrite-1-1.png
END:VEVENT
BEGIN:VEVENT
DTSTART;TZID=America/Los_Angeles:20241109T213000
DTEND;TZID=America/Los_Angeles:20241109T230000
DTSTAMP:20260421T134724
CREATED:20241222T042435Z
LAST-MODIFIED:20250425T190054Z
UID:10006788-1731187800-1731193200@www.unexpectedproductions.org
SUMMARY:Seattle Theatresports Improv  2024
DESCRIPTION:As you enter the Gum Wall\, you’ll notice a buzz of excitement in the air. Everyone here is gathered to have a good time and laugh. Families of all ages are lining up at the concession stand\, where you can smell the fresh buttered popcorn\, and over at the bar\, they are serving icy and inexpensive drinks. \nWhen you enter the theater\, you’ll feel the music’s beat. You’re experiencing Theatresports\, a high-energy improv show where teams of improv professionals create spontaneous scenes that are so hilarious\, quick-witted\, and perfectly constructed that it’s hard to believe they are made up on the spot. \nJoin us every Friday and Saturday at the Gum Wall in Pike Place Market\, with doors opening at 9 PM and the show starting at 9:30 PM. \nTheaterSports\, all the way! They are goofy\, silly\, funny\, unabashed\, clever\, witty people. I didn’t know what to expect before going but found myself laughing at practically everything they did or said. This is improv comedy at its finest. Lea A.\, 5 stars\, Yelp
URL:https://www.unexpectedproductions.org/event/seattle-theatresports-improv-2024-24-2__trashed-3/2024-11-09/
LOCATION:Unexpected Productions Market Theater\, 1428 Post Alley\, Seattle\, WA\, 98101\, United States
ATTACH;FMTTYPE=image/jpeg:https://www.unexpectedproductions.org/wp-content/uploads/2024/01/a816bf803d115ea8079a46465d66ed8d.jpg
END:VEVENT
END:VCALENDAR