BEGIN:VCALENDAR
VERSION:2.0
PRODID:-//Unexpected Productions - ECPv6.15.20//NONSGML v1.0//EN
CALSCALE:GREGORIAN
METHOD:PUBLISH
X-WR-CALNAME:Unexpected Productions
X-ORIGINAL-URL:https://www.unexpectedproductions.org
X-WR-CALDESC:Events for Unexpected Productions
REFRESH-INTERVAL;VALUE=DURATION:PT1H
X-Robots-Tag:noindex
X-PUBLISHED-TTL:PT1H
BEGIN:VTIMEZONE
TZID:America/Los_Angeles
BEGIN:DAYLIGHT
TZOFFSETFROM:-0800
TZOFFSETTO:-0700
TZNAME:PDT
DTSTART:20230312T100000
END:DAYLIGHT
BEGIN:STANDARD
TZOFFSETFROM:-0700
TZOFFSETTO:-0800
TZNAME:PST
DTSTART:20231105T090000
END:STANDARD
BEGIN:DAYLIGHT
TZOFFSETFROM:-0800
TZOFFSETTO:-0700
TZNAME:PDT
DTSTART:20240310T100000
END:DAYLIGHT
BEGIN:STANDARD
TZOFFSETFROM:-0700
TZOFFSETTO:-0800
TZNAME:PST
DTSTART:20241103T090000
END:STANDARD
BEGIN:DAYLIGHT
TZOFFSETFROM:-0800
TZOFFSETTO:-0700
TZNAME:PDT
DTSTART:20250309T100000
END:DAYLIGHT
BEGIN:STANDARD
TZOFFSETFROM:-0700
TZOFFSETTO:-0800
TZNAME:PST
DTSTART:20251102T090000
END:STANDARD
END:VTIMEZONE
BEGIN:VEVENT
DTSTART;TZID=America/Los_Angeles:20241107T200000
DTEND;TZID=America/Los_Angeles:20241107T223000
DTSTAMP:20260421T134613
CREATED:20240522T165905Z
LAST-MODIFIED:20240522T170017Z
UID:10003187-1731009600-1731018600@www.unexpectedproductions.org
SUMMARY:44th Seattle International Comedy Competition
DESCRIPTION:Looking for some top-notch stand-up comedy? Check out the Seattle International Comedy Competition\, where comedians from all over the world come to compete. With 18 shows spread over 15 venues\, this event lasts for 24 days and draws 32 talented comedians who are competing for over $16\,000 in prize money. You’ll get to see the best of live comedy at Washington’s premier venues. The competition takes place throughout November and features two preliminary rounds\, each consisting of four shows. Every night\, sixteen comedians perform\, but only five advance to the semi-finals. The judges\, including entertainment industry professionals and media personalities\, score the performances along with audience reactions to determine the winners. Who will take home the prize tonight? Come and see for yourself while supporting live comedy!
URL:https://www.unexpectedproductions.org/event/seattle-international-comedy-competition-2/2024-11-07/
LOCATION:Unexpected Productions\, 1428 Post Alley at the Gum Wall in Pike Place Market\, Seattle\, WA\, 98101\, United States
CATEGORIES:Comedy Comp
ATTACH;FMTTYPE=image/png:https://www.unexpectedproductions.org/wp-content/uploads/2024/05/SICC-40-Small.png
END:VEVENT
END:VCALENDAR