BEGIN:VCALENDAR
VERSION:2.0
PRODID:-//Unexpected Productions - ECPv6.15.20//NONSGML v1.0//EN
CALSCALE:GREGORIAN
METHOD:PUBLISH
X-WR-CALNAME:Unexpected Productions
X-ORIGINAL-URL:https://www.unexpectedproductions.org
X-WR-CALDESC:Events for Unexpected Productions
REFRESH-INTERVAL;VALUE=DURATION:PT1H
X-Robots-Tag:noindex
X-PUBLISHED-TTL:PT1H
BEGIN:VTIMEZONE
TZID:America/Los_Angeles
BEGIN:DAYLIGHT
TZOFFSETFROM:-0800
TZOFFSETTO:-0700
TZNAME:PDT
DTSTART:20230312T100000
END:DAYLIGHT
BEGIN:STANDARD
TZOFFSETFROM:-0700
TZOFFSETTO:-0800
TZNAME:PST
DTSTART:20231105T090000
END:STANDARD
BEGIN:DAYLIGHT
TZOFFSETFROM:-0800
TZOFFSETTO:-0700
TZNAME:PDT
DTSTART:20240310T100000
END:DAYLIGHT
BEGIN:STANDARD
TZOFFSETFROM:-0700
TZOFFSETTO:-0800
TZNAME:PST
DTSTART:20241103T090000
END:STANDARD
BEGIN:DAYLIGHT
TZOFFSETFROM:-0800
TZOFFSETTO:-0700
TZNAME:PDT
DTSTART:20250309T100000
END:DAYLIGHT
BEGIN:STANDARD
TZOFFSETFROM:-0700
TZOFFSETTO:-0800
TZNAME:PST
DTSTART:20251102T090000
END:STANDARD
END:VTIMEZONE
BEGIN:VEVENT
DTSTART;TZID=America/Los_Angeles:20241103T170000
DTEND;TZID=America/Los_Angeles:20241103T180000
DTSTAMP:20260419T150641
CREATED:20240522T234030Z
LAST-MODIFIED:20240522T234458Z
UID:10003274-1730653200-1730656800@www.unexpectedproductions.org
SUMMARY:Free 600 Level Student Show Fall
DESCRIPTION:Join us for an evening of laughter as the talented students from Unexpected Productions’ Improv School showcase their newly-acquired skills on stage. Watch in awe as our Advanced Performance 600 level class students experiment with the different formats featured in UP mainstage shows during this practice performance class. You won’t want to miss the chance to witness the improv stars of the future shine!
URL:https://www.unexpectedproductions.org/event/free-600-level-student-show-10-2-2/2024-11-03/
LOCATION:Unexpected Productions Market Theater\, 1428 Post Alley\, Seattle\, WA\, 98101\, United States
ATTACH;FMTTYPE=image/jpeg:https://www.unexpectedproductions.org/wp-content/uploads/2024/01/3c568910c8f3cad4ddbfa717461875dc.jpg
END:VEVENT
BEGIN:VEVENT
DTSTART;TZID=America/Los_Angeles:20241103T190000
DTEND;TZID=America/Los_Angeles:20241103T203000
DTSTAMP:20260419T150641
CREATED:20241001T182850Z
LAST-MODIFIED:20241001T182850Z
UID:10006408-1730660400-1730665800@www.unexpectedproductions.org
SUMMARY:Piggyback: Stand Up and Improv Unite!
DESCRIPTION:Stand-up comedy and improv are usually two separate types of comedy that you won’t see in the same show\, but Unexpected Productions’ Piggyback brings them both together so you can enjoy two types of comedy in one hilarious night.\nFirst\, a professional comedian will perform their stand-up routine\, then talented improv artists will create a narrative story in a particular genre of film or literature. The story created will be inspired by the material from the stand-up act.Piggyback has been featured at Bumbershoot\, the Washington Comedy Festival\, and the Highlarous Comedy Festival. \nTHIS SHOW CONTAINS MATURE CONTENT\, LANGUAGE\, AND SITUATIONS
URL:https://www.unexpectedproductions.org/event/piggyback-stand-up-and-improv-unite/
LOCATION:Unexpected Productions\, 1428 Post Alley at the Gum Wall in Pike Place Market\, Seattle\, WA\, 98101\, United States
ATTACH;FMTTYPE=image/jpeg:https://www.unexpectedproductions.org/wp-content/uploads/2024/10/27336508_1627345380668474_8128693470409993509_n.jpg
END:VEVENT
END:VCALENDAR