BEGIN:VCALENDAR
VERSION:2.0
PRODID:-//Unexpected Productions - ECPv6.15.20//NONSGML v1.0//EN
CALSCALE:GREGORIAN
METHOD:PUBLISH
X-ORIGINAL-URL:https://www.unexpectedproductions.org
X-WR-CALDESC:Events for Unexpected Productions
REFRESH-INTERVAL;VALUE=DURATION:PT1H
X-Robots-Tag:noindex
X-PUBLISHED-TTL:PT1H
BEGIN:VTIMEZONE
TZID:America/Los_Angeles
BEGIN:DAYLIGHT
TZOFFSETFROM:-0800
TZOFFSETTO:-0700
TZNAME:PDT
DTSTART:20230312T100000
END:DAYLIGHT
BEGIN:STANDARD
TZOFFSETFROM:-0700
TZOFFSETTO:-0800
TZNAME:PST
DTSTART:20231105T090000
END:STANDARD
BEGIN:DAYLIGHT
TZOFFSETFROM:-0800
TZOFFSETTO:-0700
TZNAME:PDT
DTSTART:20240310T100000
END:DAYLIGHT
BEGIN:STANDARD
TZOFFSETFROM:-0700
TZOFFSETTO:-0800
TZNAME:PST
DTSTART:20241103T090000
END:STANDARD
BEGIN:DAYLIGHT
TZOFFSETFROM:-0800
TZOFFSETTO:-0700
TZNAME:PDT
DTSTART:20250309T100000
END:DAYLIGHT
BEGIN:STANDARD
TZOFFSETFROM:-0700
TZOFFSETTO:-0800
TZNAME:PST
DTSTART:20251102T090000
END:STANDARD
END:VTIMEZONE
BEGIN:VEVENT
DTSTART;TZID=America/Los_Angeles:20241019T180000
DTEND;TZID=America/Los_Angeles:20241019T190000
DTSTAMP:20260421T132636
CREATED:20240923T184529Z
LAST-MODIFIED:20241015T170559Z
UID:10006406-1729360800-1729364400@www.unexpectedproductions.org
SUMMARY:A Seattle Sketch Show by Seattle SketchFest
DESCRIPTION:SketchFest showcases the talents of local favorites from around the Emerald City.\nGet ready for the most innovative and original local sketch comedy acts in Seattle at Unexpected Productions’ Market Theater. Make friends\, laugh\, and enjoy a drink as you watch scenes about basketball players birdwatching\, tax collecting dragons\, and politicians with specific questions about dress code.\nFeaturing the comedic talents of:\nCSz’s Something Great\nDrop the Root Beer and Run\nThe “Responsible” “Adults”\nBrandon Block\nStinky Rat Academy\n…and many more!\nSince its inception in 1999\, SketchFest Seattle has been the pioneer in sketch comedy festivals worldwide. Our mission is to elevate sketch comedy as a performing art by providing a platform for groups to showcase their talent to Seattle audiences and to facilitate networking opportunities with other performers\, writers\, and professionals in the comedic arts. \nTickets Here
URL:https://www.unexpectedproductions.org/event/a-sketch-show-by-seattle-sketchfest/
LOCATION:Unexpected Productions\, 1428 Post Alley at the Gum Wall in Pike Place Market\, Seattle\, WA\, 98101\, United States
ATTACH;FMTTYPE=image/png:https://www.unexpectedproductions.org/wp-content/uploads/2024/09/October-19th-and-November-1000-x-500-px-5-1.png
END:VEVENT
BEGIN:VEVENT
DTSTART;TZID=America/Los_Angeles:20241019T193000
DTEND;TZID=America/Los_Angeles:20241019T204500
DTSTAMP:20260421T132636
CREATED:20240521T183356Z
LAST-MODIFIED:20240522T214025Z
UID:10001781-1729366200-1729370700@www.unexpectedproductions.org
SUMMARY:Poe Unexpected: Improvised Edgar Allan Poe
DESCRIPTION:Discover the lost tales of Edgar Allan Poe! Be a part of an exceptional evening of entertainment with Unexpected Production’s talented improvisers. They’ll take inspiration from Poe’s literary masterpieces and your ideas to create a spine-chilling experience. The perfect blend of comedy and darkness will have you in stitches. Don’t miss out on this incredible #edgarallanpoe #improv show at Seattle’s Pike Place Market Gum Wall! \nTICKETS
URL:https://www.unexpectedproductions.org/event/poe-unexpected-improvised-edgar-allen-poe-2/2024-10-19/
LOCATION:Unexpected Productions\, 1428 Post Alley at the Gum Wall in Pike Place Market\, Seattle\, WA\, 98101\, United States
ATTACH;FMTTYPE=image/jpeg:https://www.unexpectedproductions.org/wp-content/uploads/2023/07/poe-header.jpg
END:VEVENT
BEGIN:VEVENT
DTSTART;TZID=America/Los_Angeles:20241019T213000
DTEND;TZID=America/Los_Angeles:20241019T230000
DTSTAMP:20260421T132636
CREATED:20241222T042435Z
LAST-MODIFIED:20250425T190054Z
UID:10006782-1729373400-1729378800@www.unexpectedproductions.org
SUMMARY:Seattle Theatresports Improv  2024
DESCRIPTION:As you enter the Gum Wall\, you’ll notice a buzz of excitement in the air. Everyone here is gathered to have a good time and laugh. Families of all ages are lining up at the concession stand\, where you can smell the fresh buttered popcorn\, and over at the bar\, they are serving icy and inexpensive drinks. \nWhen you enter the theater\, you’ll feel the music’s beat. You’re experiencing Theatresports\, a high-energy improv show where teams of improv professionals create spontaneous scenes that are so hilarious\, quick-witted\, and perfectly constructed that it’s hard to believe they are made up on the spot. \nJoin us every Friday and Saturday at the Gum Wall in Pike Place Market\, with doors opening at 9 PM and the show starting at 9:30 PM. \nTheaterSports\, all the way! They are goofy\, silly\, funny\, unabashed\, clever\, witty people. I didn’t know what to expect before going but found myself laughing at practically everything they did or said. This is improv comedy at its finest. Lea A.\, 5 stars\, Yelp
URL:https://www.unexpectedproductions.org/event/seattle-theatresports-improv-2024-24-2__trashed-3/2024-10-19/
LOCATION:Unexpected Productions Market Theater\, 1428 Post Alley\, Seattle\, WA\, 98101\, United States
ATTACH;FMTTYPE=image/jpeg:https://www.unexpectedproductions.org/wp-content/uploads/2024/01/a816bf803d115ea8079a46465d66ed8d.jpg
END:VEVENT
BEGIN:VEVENT
DTSTART;TZID=America/Los_Angeles:20241019T233000
DTEND;TZID=America/Los_Angeles:20241020T003000
DTSTAMP:20260421T132636
CREATED:20240619T193747Z
LAST-MODIFIED:20240930T201614Z
UID:10006222-1729380600-1729384200@www.unexpectedproductions.org
SUMMARY:Rocky Horror Improv Show
DESCRIPTION:Hot patootie bless my soul…get ready to be thrilled by the Rocky Horror Improv Show! Witness the electrifying fusion of Rocky Horror Picture Show’s irreverent energy with the exhilarating spontaneity of improv theater in this one-of-a-kind parody. It’s a perfect homage to the iconic cult classic film “The Rocky Horror Picture Show\,” fueled by the creative synergy of both the improvisers and the audience. Share your suggestions and be part of an unforgettable experience filled with lively humor\, catchy musical numbers\, brilliant improv\, and playful references to the beloved classic. \nTHIS SHOW CONTAINS MATURE CONTENT\, LANGUAGE\, AND SITUATIONS
URL:https://www.unexpectedproductions.org/event/rocky-horror-improv-show/2024-10-19/
LOCATION:Unexpected Productions\, 1428 Post Alley at the Gum Wall in Pike Place Market\, Seattle\, WA\, 98101\, United States
ATTACH;FMTTYPE=image/png:https://www.unexpectedproductions.org/wp-content/uploads/2024/08/Header-Eventbrite.png
END:VEVENT
END:VCALENDAR