BEGIN:VCALENDAR
VERSION:2.0
PRODID:-//Unexpected Productions - ECPv6.15.20//NONSGML v1.0//EN
CALSCALE:GREGORIAN
METHOD:PUBLISH
X-ORIGINAL-URL:https://www.unexpectedproductions.org
X-WR-CALDESC:Events for Unexpected Productions
REFRESH-INTERVAL;VALUE=DURATION:PT1H
X-Robots-Tag:noindex
X-PUBLISHED-TTL:PT1H
BEGIN:VTIMEZONE
TZID:America/Los_Angeles
BEGIN:DAYLIGHT
TZOFFSETFROM:-0800
TZOFFSETTO:-0700
TZNAME:PDT
DTSTART:20230312T100000
END:DAYLIGHT
BEGIN:STANDARD
TZOFFSETFROM:-0700
TZOFFSETTO:-0800
TZNAME:PST
DTSTART:20231105T090000
END:STANDARD
BEGIN:DAYLIGHT
TZOFFSETFROM:-0800
TZOFFSETTO:-0700
TZNAME:PDT
DTSTART:20240310T100000
END:DAYLIGHT
BEGIN:STANDARD
TZOFFSETFROM:-0700
TZOFFSETTO:-0800
TZNAME:PST
DTSTART:20241103T090000
END:STANDARD
BEGIN:DAYLIGHT
TZOFFSETFROM:-0800
TZOFFSETTO:-0700
TZNAME:PDT
DTSTART:20250309T100000
END:DAYLIGHT
BEGIN:STANDARD
TZOFFSETFROM:-0700
TZOFFSETTO:-0800
TZNAME:PST
DTSTART:20251102T090000
END:STANDARD
END:VTIMEZONE
BEGIN:VEVENT
DTSTART;TZID=America/Los_Angeles:20240703T190000
DTEND;TZID=America/Los_Angeles:20240703T194500
DTSTAMP:20260419T052753
CREATED:20240508T173701Z
LAST-MODIFIED:20250627T033510Z
UID:10007913-1720033200-1720035900@www.unexpectedproductions.org
SUMMARY:700 Level Class Showcase
DESCRIPTION:Witness the creation of believable characters\, inspiring scenes\, and some improv magic by 700 level class.
URL:https://www.unexpectedproductions.org/event/700-level-class-showcase-8-2/2024-07-03/
LOCATION:Unexpected Productions Market Theater\, 1428 Post Alley\, Seattle\, WA\, 98101\, United States
ATTACH;FMTTYPE=image/jpeg:https://www.unexpectedproductions.org/wp-content/uploads/2024/04/d88c3803d60582943f645e11badfe15a.jpg
END:VEVENT
BEGIN:VEVENT
DTSTART;TZID=America/Los_Angeles:20240703T200000
DTEND;TZID=America/Los_Angeles:20240703T211500
DTSTAMP:20260419T052753
CREATED:20240409T181838Z
LAST-MODIFIED:20240522T182020Z
UID:10001559-1720036800-1720041300@www.unexpectedproductions.org
SUMMARY:Duo Comedy Showcase 2024
DESCRIPTION:Duo Comedy Showcase is Seattle’s only public open mic for improv. Two-person teams doing what they do best: creating spontaneous scenes on the fly that are so hilarious\, quick-witted\, and perfectly constructed it’s hard to believe they are made up on the spot. At Duos\, newer improvisers have an opportunity to improve while professional improvisers practice and try new things. Who knows\, you might even want to join them. $10 every Wednesday at 8:00 at the Gum Wall in Pike Place Market
URL:https://www.unexpectedproductions.org/event/duo-comedy-showcase-2024-24/2024-07-03/
LOCATION:Unexpected Productions Market Theater\, 1428 Post Alley\, Seattle\, WA\, 98101\, United States
ATTACH;FMTTYPE=image/jpeg:https://www.unexpectedproductions.org/wp-content/uploads/2024/01/46154eccfd7ad28be7a72a20adb6e4e0.jpg
END:VEVENT
END:VCALENDAR